BEGIN:VCALENDAR
VERSION:2.0
PRODID:-//https://techplay.jp//JP
CALSCALE:GREGORIAN
METHOD:PUBLISH
X-WR-CALDESC:Azure Rock Star Community Day #1 - Hello World!
X-WR-CALNAME:Azure Rock Star Community Day #1 - Hello World!
X-WR-TIMEZONE:Asia/Tokyo
BEGIN:VTIMEZONE
TZID:Asia/Tokyo
BEGIN:STANDARD
DTSTART:19700101T000000
TZOFFSETFROM:+0900
TZOFFSETTO:+0900
TZNAME:JST
END:STANDARD
END:VTIMEZONE
BEGIN:VEVENT
UID:791924@techplay.jp
SUMMARY:Azure Rock Star Community Day #1 - Hello World!
DTSTART;TZID=Asia/Tokyo:20200926T130000
DTEND;TZID=Asia/Tokyo:20200926T170000
DTSTAMP:20260426T020225Z
CREATED:20200903T061135Z
DESCRIPTION:イベント詳細はこちら\nhttps://techplay.jp/event/79192
 4?utm_medium=referral&utm_source=ics&utm_campaign=ics\n\nAzure x コミ
 ュニティの新しい形 - Azure Rock Star - 初のイベント開催
 ！\n様々なAzureサービスについてユニークな形で幅広い
 ユーザーを対象に活動する日本のMicrosoft Azureコミュニ
 ティを繋ぐ Azure Rock Starプログラム が2020年に誕生しま
 した。そして2020年9月よりAzure Rock Starプログラム参加
 コミュニティ同士が手を取り合い、すべてのAzureユー
 ザーにAzureと技術コミュニティをより近くに感じてい
 ただけるAzure Rock Starプログラム発のコミュニティイベ
 ントシリーズをスタートいたします。\n\n第一弾となる
 今回は、Azure Rock Starプログラムに参加する各Azureコミ
 ュニティの紹介、そしてそれぞれのコミュニティが対
 象とする注力分野に関連したAzure技術のさらなる活用
 のためのヒントをお伝えいただくAzureコミュニティト
 ークとパネルディスカッションを開催いたします。\n\n
 これまであまり技術コミュニティに参加されたことが
 ないAzureユーザーの皆さまには技術コミュニティとの
 出会いの場として、そして日頃から積極的に技術コミ
 ュニティ主催イベントに参加されている方には新たなA
 zureコミュニティを知る場として、Azureをビジネスで活
 用したいすべての方に有意義な技術コミュニティ参加
 体験をお届けいたします。\n募集内容について\n技術コ
 ミュニティとともにAzureを学びたい！！枠: \n一般視聴
 枠です。クラウドデベロッパーちゃんねる(YouTube Live)
 にてご覧いただけます。\nAzureコミュニティトーク登壇
 者！！枠: \n本イベントの登壇者枠です。スピーカーの
 方はこちらから登録ください。\n後日Blog書くよ！！枠:
  \n本イベント終了後にBlog記事を書く方向けの枠です。
 イベント終了後、1週間以内にページ下部の「資料」に
 Blog URLをアップロードしてください。\nTwitterで実況す
 るよ！！枠: \n本イベント開催中にハッシュタグ (#AzureR
 ockStar) を付けてTwitterで一緒に盛り上がる方向けの枠で
 す。\n当日の予定\n\n\n\n\nタイトル\n登壇者\n\n\n\n\n13:00 -
  13:15\nOpening\nおだしょー\n\n\n13:15 - 13:30\nAzureコミュニテ
 ィトーク #1 - Japan Microsoft Learn User Group「共に学び共に
 成長するMicrosoft Learnコミュニティ紹介」\n土田 晃令\n\n
 \n13:30 - 13:45\nAzureコミュニティトーク #2 - Japan SQL Server U
 ser Group「SQL ServerユーザーによるSQL Serverユーザーのた
 めの技術コミュニティ - Japan SQL Server User Groupご紹介」\
 nYang Jiayi\n\n\n13:45 - 14:00\nAzureコミュニティトーク #3 - Fuk
 uoka.NET「オンライン中心だから地方のコミュニティも
 見てみませんか？福岡からお届けします」\n松村 優大\
 n\n\n14:00 - 14:15\nAzureコミュニティトーク #4 - TFSUG「日本
 のやや西側でAzure DevOpsについて語ってます」\nかめが
 わ かずし\n\n\n14:15 - 14:30\nAzureコミュニティトーク #5 - J
 apan Azure User Group「Azure一筋10年！We are "JAZUG"」\nYui Ashikag
 a\n\n\n14:30 - 14:45\n休憩\n\n\n\n14:45 - 15:00\nAzureコミュニテ
 ィトーク #6 - HCCJP (Hybrid Cloud Community Japan\, ハイブリッ
 ドクラウド研究会)「ハイブリッドクラウド研究会のご
 紹介」\n津久井 智浩\n\n\n15:00 - 15:15\nAzureコミュニティ
 トーク #7 - Deep Learning Lab「Deep Learning Lab でAIの社会実装
 を目指す！」\n阿久沢 崇\n\n\n15:15 - 15:30\nAzureコミュニ
 ティトーク #8 - IoT ALGYAN「IoTを学べる最強コミュニティ
 ＝IoT ALGYAN（アイオーティ・あるじゃん）とは？」\n小
 暮 敦彦\n\n\n15:30 - 15:45\nAzureコミュニティトーク #9 - Azur
 eもくもく会@東京「Azureもくもく会の今までとこれから
 と」\n木下 裕之（きのしたひろゆき）(@kingkino)\n\n\n15:45
  - 16:00\nAzureコミュニティトーク #10 - MS Open Tech Night「#ms
 technight 生誕1年弱の振り返りとオンラインMeetup開催の
 裏側」\nNori Suzuki\n\n\n16:00 - 17:00\nAzureパネルディスカッ
 ション\nコミュニティ\n\n\n17:00 - 17:05\nClosing\nおだしょ
 ー\n\n\n\n参加コミュニティ＋Azureコミュニティトーク（
 LT）ご紹介\n1. 13:15-30 / Japan Microsoft Learn User Group\n\n・登
 壇者：土田 晃令\n・セッションタイトル：共に学び共
 に成長するMicrosoft Learnコミュニティ紹介\n・セッショ
 ン概要：一人でも技術を学べるMicrosoft Learnですが、コ
 ミュニティを通じて他の人と一緒行うことでより多く
 の学びを得られることを、2019年1月のコミュニティ設
 立以来多くの参加者にご経験いただきました。\nそこ
 で本セッションでは、コミュニティでMicrosoft Learnに取
 り組む魅力をご紹介します。\n\n無料のオンライン学習
 サイト「Microsoft Learn」ユーザーのためのコミュニティ
 です。 「Microsoft Learn」関連イベントが随時開催されま
 す。 Microsoft テクノロジー関連でちょっと相談したい
 方も歓迎。 初心者にお勧めのコミュニティです。\n\n\n
 2. 13:30-13:45 / JSSUG (Japan SQL Server User Group)\n\n・登壇者：Ya
 ng Jiayi\n・セッションタイトル：SQL Serverユーザーによ
 るSQL Serverユーザーのための技術コミュニティ - Japan SQL
  Server User Groupご紹介\n・セッション概要：SQL ServerやAzur
 e SQL ServerをテーマにSQL Server 2019勉強会を毎月開催し、
 この夏からは初学者の第一歩をお手伝いするSQL Beginners
  Dayイベントも始めました。\n一人では学びにくいSQL Ser
 verをコミュニティの仲間の技術解説や事例で一緒に学
 びたい方にご参加いただきたいJSSUGについて本セッシ
 ョンにてご説明します。\n\nJapan SQL Server User Group (JSSUG) 
 は、Microsoft SQL Serverをテーマにして、技術情報交換、
 そして、SQL Server を学び、活かす日本のユーザー グル
 ープです。また、Azure Data Platform 関連の情報も発信し
 ています。\n★直近のコミュニティ イベント情報★\n
 ・2020年9月22日（火）SQL Beginners Day #2\n・2020年9月26日（
 土）第34回 SQL Server 2019勉強会(オンライン)\n\n\n3. 13:45-14
 :00 / Fukuoka.NET\n\n・登壇者：松村 優大\n・セッションタ
 イトル：オンライン中心だから地方のコミュニティも
 見てみませんか？福岡からお届けします\n・セッショ
 ン概要：勉強会がオンラインで開催されるようになり
 、地方の技術者は都市部のイベントに参加しやすくな
 りました。\nでは次は地方のコミュニティに注目して
 みませんか？\nFukuoka.NETという福岡で活動しているC#コ
 ミュニティの活動を紹介します。\n\nFukuoka.NET (愛称:ふ
 くてん) は、C# や VB.NET など、マイクロソフトの .NET と
 いうフレームワークについて取り上げる、福岡県で活
 動しているコミュニティです。\n.NET を新しく使ってみ
 たい方からすでに利用している方、よくわからないけ
 ど何となく気になる方まで気軽に参加できるコミュニ
 ティです。\n★直近のコミュニティ イベント情報★\n
 ・2020年9月5日（土）Fukuoka.NET #23 - Re:Project Tyeのチュー
 トリアルをやってみよう\n\n\n4. 14:00-14:15 / Team Foundation S
 erver Users Group\n\n・登壇者：かめがわ かずし\n・セッシ
 ョンタイトル：日本のやや西側でAzure DevOpsについて語
 ってます\n・セッション概要： \n- もうすぐ登場？オン
 プレミスの味方Azure DevOps Server 2020の紹介。クラウドと
 の違い。\n- TFSUGの活動紹介\n\nAzure DevOps Server (旧称Team F
 oundation Server) や Azure DevOps Services (旧称Visual Studio Team Ser
 vices) を中心に、アジャイル ソフトウェア開発、devops
 、ALM (Application Lifecycle Management)、プロセス改善ノウハ
 ウなどについての勉強会を開催しているコミュニティ
 です。\n\n\n5. 14:15-14:30 / JAZUG (Japan Azure User Group)\n\n・登
 壇者：Yui Ashikaga\n・セッションタイトル：Azure一筋10年
 ！We are "JAZUG"\n・セッション概要：これまでにコミュニ
 ティにご参加いただいた日本中のコミュニティメンバ
 ーのご支援により、この8月でコミュニティ設立から10
 周年を迎えることができました。\n本セッションでは
 あらためて私たちのコミュニティJapan Azure User Group（JAZ
 UG）の詳しいご紹介とともに、10年間のコミュニティ x 
 Azureのストーリーや今後の展望をお話しします。\n\nJapa
 n Azure User Group (通称JAZUG) は、Microsoft Azure を学び、楽し
 み、活かす、日本のユーザー グループです。ちょっと
 興味がある＝ゆるふわな方 から 実ビジネスで使うん
 だよね、な方まで歓迎。職種はなんでもござれ。\n★
 直近のコミュニティ イベント情報★\n・2020年9月30日（
 水）★祝★Japan Azure User Group 10周年\n\n\n6. 14:45-15:00 / HCCJ
 P (Hybrid Cloud Community Japan\, ハイブリッドクラウド研究会
 )\n\n・登壇者：株式会社ネットワールド　津久井智浩\n
 ・セッションタイトル：ハイブリッドクラウド研究会
 のご紹介\n・セッション概要：ITシステム導入を考える
 とき、現在考えられる最適解の1つとしてハイブリッド
 クラウド、マルチクラウドが挙げられます。\n本研究
 会では、\n「日本における『ハイブリッドクラウド』
 の再定義」\n「新しい『ハイブリッドクラウド』の導
 入促進」\nを掲げ、ハイブリッドクラウドのあるべき
 姿を皆さんと一緒に考えていくコミュニティです。\n
 今年2月に研究会設立二周年を迎えましたが、今回はこ
 れまでの本研究会の活動を振り返りと今後の活動予定
 をご紹介します。\n\nHCCJP は「クラウドとは何か」「ハ
 イブリッド クラウドとは何か」「より連続性/一貫性
 のある基盤を活用することで、迅速にビジネス上の成
 果を挙げる方法とは?」といった問いに対し、企業の枠
 を越えてユースケースや方法論を議論/検証するコミュ
 ニティです。技術論のみに終始せず、実際の業務に活
 かせるかたちでのアウトプットに取り組んでいく方針
 です。自社業務への適用を具体的に考えられるユーザ
 ー企業の方もぜひご参加ください。\n★直近のコミュ
 ニティ イベント情報★\n・2020年9月11日（金）【オンラ
 イン開催】ゼロからわかるHashiCorpでのハイブリッドク
 ラウドジャーニー\n\n\n7. 15:00-15:15 / Deep Learning Lab\n\n・
 登壇者：Retail AI X 阿久沢 崇\n・セッションタイトル：D
 eep Learning Lab でAIの社会実装を目指す！\n・セッション
 概要：Deep Learning Labとは、Azure クラウドを提供するMicro
 soft と 各種 Deep Learning ソリューションを提供するパー
 トナー企業様による、深層学習に関する「最新技術を
 ビジネスで活用している事例」や「最新の技術動向」
 を共有することで、深層学習技術者の裾野を広げ、実
 社会での利用拡大を図ることを目的としたコミュニテ
 ィです。AI 活用を促進するための過去にコミュニティ
 で取り組んできた内容や、今後の展開等についてご説
 明いたします。\n\nマイクロソフトとプリファード ネ
 ットワークスの協業から生まれた機械学習・深層学習
 の実社会での活用を推進するコミュニティです。AI 分
 野において、日本国内からソリューション開発や事例
 を生むため AI によるイノベーション エコシステムを
 創造していきます。\n機械学習・深層学習を「知る、
 学ぶ、使う」そして「広める」場として勉強会やハン
 ズオンなどを実施しております。データ サイエンス 
 スキルを高めたい方、研究成果や自社ソリューション
 の認知を上げたい方、一流のデータ サイエンティスト
 やビジネス プロとコネクションを作りたい方はぜひご
 参加ください!\n\n\n8. 15:15-15:30 / IoT ALGYAN\n\n・登壇者：
 理事長 小暮 敦彦\n・セッションタイトル：IoTを学べる
 最強コミュニティ＝IoT ALGYAN（アイオーティ・あるじゃ
 ん）とは？\n・セッション概要：IoT ALGYANはいかにして"
 最強"なのか？！ 創始者が自ら熱く語るぅ！\n\nつなが
 る広がる・あなたのアイディアを地球にプロット! IoT A
 LGYAN (あるじゃん) は、IoT を学べる最強コミュニティで
 す。 日本マイクロソフトをはじめエッジデバイス各社
 ・大学・専門学校・自治体など、各方面から多大なる
 ご協力を頂きながら、ハンズオン実習やコンテスト企
 画を積極的に全国展開しています。 本気で IoT を体感
 したいあなたは、今すぐ JOIN! ALGYAN とは「All Gadget Your A
 lliance and Network」を略した造語です。\n★直近のコミュ
 ニティ イベント情報★\n・2020年9月10日（木）【オンラ
 イン】リモッテで楽しく簡単IoT！開発者による胸アツ
 動作デモ５連発＆コミュニカチオーネ！\n・2020年9月19
 日（土）【オンライン】プレゼント付！EnOcean IoTシス
 テム開発コンテスト！\n・2020年9月20日（日）実機貸出
 有！【オンライン】FPGA回路をリモートで書換→壮大な
 Lチカ！インテルFPGAハンズオン#1\n\n\n9. 15:30-15:45 / Azure 
 もくもく会@東京\n\n・登壇者：木下 裕之（きのしたひ
 ろゆき）(@kingkino)\n・セッションタイトル：Azureもくも
 く会の今までとこれからと\n・セッション概要：Azureも
 くもく会の歴史と活動についてご紹介します。\n\nAzure 
 関連サービスをもくもくと自習する勉強会を、月 1 を
 目標に定期的に開催しています。後でやろうとして積
 んでる知識をもくもく会で深堀しませんか? 基本的に
 自分が興味のある Azure について作業し、時には参加者
 との情報共有や、わからないことを相談/質問できる場
 です。一人で勉強しているとつい他の事に気を取られ
 集中できない人にうってつけです。Azure だけに限らず
 学びたい技術や興味がある人はぜひご参加ください。\
 n★直近のコミュニティ イベント情報★\n・2020年9月5日
 （土）第四一回 Azureもくもく会 @ オンライン\n\n\n10. 15:
 45-16:00 / Microsoft Open Tech Night\n\n・登壇者：Nori Suzuki\n・
 セッションタイトル：#mstechnight 生誕1年弱の振り返り
 とオンラインMeetup開催の裏側\n・セッション概要：昨
 年11月末、Azure Daikanyama Baseのオープンとともにスター
 トした本Meetup。特別編含めて20回弱開催してきました
 が、そのほとんどはオンラインイベントでした。コロ
 ナ下でMeetupはどのように変化したのか、またこれから
 争点になるであろうオンラインとオフラインを交えた
 ハイブリッドなMeetupについて考えてみます。\n\nマイク
 ロソフトの最新テクノロジとオープンな文化を体験で
 きる Meetup です。各回テーマを分けてセッションを開
 催します! 配信動画のアーカイブは YouTube の「クラウ
 ドデベロッパーちゃんねる」から確認できます。\n\n\n
 「Azure Rock Starプログラム」とは？\n日頃から多くのAzure
 ユーザーを対象に活躍する多種多様な日本のAzureコミ
 ュニティを “Azure Rock Starコミュニティ” とし、Azureコ
 ミュニティ同士の繋がりをもとにしたより楽しくかつ
 実践的な知識が学べる一歩進んだコミュニティ活動の
 応援ならびにAzureユーザーのコミュニティ参加を促進
 するコミュニティプログラムです。現時点で全国の15
 のAzureコミュニティにご参加いただいております。\n\nA
 zure Rock Starプログラム公式サイト：\nhttps://aka.ms/azurerock
 star\nマイクロソフト行動規範\nマイクロソフトのミッ
 ションは、「地球上のすべての個人とすべての組織が
 、より多くのことを達成できるようにする」ことです
 。すべての参加者が尊重され、友好的で多様性を尊重
 した環境での開催を目指しています。そのため、場所
 を問わず、ビジネス活動や交流活動を含むプログラム
 のすべてにおいて、イベント参加者によるハラスメン
 ト行為や非礼な行動、メッセージ、画像、やり取りを
 容認いたしません。\nまた、性別、人種、性的指向、
 または身体の障碍等に関して相手の尊厳を傷付けるよ
 うな行為、またはマイクロソフトのハラスメント防止
 および差別防止の方針、雇用機会均等方針、または業
 務遂行基準に違反する行為は一切容認いたしません。
 つまり、会場でのすべての体験や経験がマイクロソフ
 トのカルチャーの基準を満たしている必要があります
 。\nすべてのご参加者が、その参加を歓迎される安全
 な環境を醸成するようお願いいたします。もし、この
 点において、ご懸念やハラスメント行為、疑わしい行
 動または破壊的な行動について気になることがござい
 ましたら、会場スタッフ、イベント主催者、最寄りの
 イベントセキュリティスタッフまでお知らせください
 。\nマイクロソフトは独自の判断により、いつでも参
 加を拒否したり、イベントからの退出を求める権利を
 有しています。
LOCATION:オンライン
URL:https://techplay.jp/event/791924?utm_medium=referral&utm_source=ics&utm
 _campaign=ics
END:VEVENT
END:VCALENDAR
