BEGIN:VCALENDAR
VERSION:2.0
PRODID:-//https://techplay.jp//JP
CALSCALE:GREGORIAN
METHOD:PUBLISH
X-WR-CALDESC:【オンライン】 JJUGナイトセミナー「Java 15 リ
 リース記念イベント」9/28(月) 開催
X-WR-CALNAME:【オンライン】 JJUGナイトセミナー「Java 15 リ
 リース記念イベント」9/28(月) 開催
X-WR-TIMEZONE:Asia/Tokyo
BEGIN:VTIMEZONE
TZID:Asia/Tokyo
BEGIN:STANDARD
DTSTART:19700101T000000
TZOFFSETFROM:+0900
TZOFFSETTO:+0900
TZNAME:JST
END:STANDARD
END:VTIMEZONE
BEGIN:VEVENT
UID:792282@techplay.jp
SUMMARY:【オンライン】 JJUGナイトセミナー「Java 15 リリー
 ス記念イベント」9/28(月) 開催
DTSTART;TZID=Asia/Tokyo:20200928T200000
DTEND;TZID=Asia/Tokyo:20200928T220000
DTSTAMP:20260425T121508Z
CREATED:20200907T060023Z
DESCRIPTION:イベント詳細はこちら\nhttps://techplay.jp/event/79228
 2?utm_medium=referral&utm_source=ics&utm_campaign=ics\n\n新型コロナ
 ウイルス (COVID-19)の対策のため、今回もナイトセミナ
 ーはオンラインで開催します。\n\n早いものでもうJava 1
 5がリリースされる季節となりました。みんなでJava 15
 のリリースをお祝いしつつキャッチアップしていきま
 しょう～！    \n\nせっかくオンラインで実施するので
 、気になるところや質問などを、チャットなどで書い
 てもらえると嬉しいです。オフラインではできないこ
 とをやりたいので、みなさまわいわいご参加ください
 ！     \n\nナイトセミナー開催URLにつきましては、イベ
 ント開始15分前までに参加者の皆様にメール及びTwitter 
 JJUG公式アカウントでお知らせいたします。\n\nタイム
 テーブル\n\n\n\n時間\n内容\n\n\n\n20:00～20:05\nオープニン
 グ\n\n\n20:05～20:55\nWelcome\, Java 15! by 西川 彰広\n\n\n21:05～
 21:55\nRecordsを中心にした新機能の紹介と今後の展望 by 
 きしだ なおき\n\n\n21:55～22:00\nクロージング\n\n\n\nWelcome
 \, Java 15!\n\nUS時間の2020/9/15にJava 15がリリースされます
 。JDKに含まれるJEPを紐解きつつ、きしださんの発表で
 は取り上げられない新機能の一部について、少々掘り
 下げてご紹介します。    \n\n西川 彰広 (@Logico_jp)\n日本
 マイクロソフト株式会社\n\nRecordsを中心にした新機能
 の紹介と今後の展望\n\nJava 14でRecordsとPattern Matchingがプ
 レビューとして入り、Java 15でブラッシュアップされる
 とともに新たにSealed Classesという仕組みも入りました
 。このセッションでは、Recordsを中心として開発されて
 いるJavaの新機能の解説と今後の展望を紹介します。   
  \n\nきしだ なおき (@kis)\nLINE Fukuoka
LOCATION:オンライン配信 (YouTube Live) オンライン配信 (YouTub
 e Live)
URL:https://techplay.jp/event/792282?utm_medium=referral&utm_source=ics&utm
 _campaign=ics
END:VEVENT
END:VCALENDAR
