BEGIN:VCALENDAR
VERSION:2.0
PRODID:-//https://techplay.jp//JP
CALSCALE:GREGORIAN
METHOD:PUBLISH
X-WR-CALDESC:UIT meetup vol.10 『Vue 三昧』
X-WR-CALNAME:UIT meetup vol.10 『Vue 三昧』
X-WR-TIMEZONE:Asia/Tokyo
BEGIN:VTIMEZONE
TZID:Asia/Tokyo
BEGIN:STANDARD
DTSTART:19700101T000000
TZOFFSETFROM:+0900
TZOFFSETTO:+0900
TZNAME:JST
END:STANDARD
END:VTIMEZONE
BEGIN:VEVENT
UID:792362@techplay.jp
SUMMARY:UIT meetup vol.10 『Vue 三昧』
DTSTART;TZID=Asia/Tokyo:20200918T190000
DTEND;TZID=Asia/Tokyo:20200918T210000
DTSTAMP:20260425T010945Z
CREATED:20200907T141304Z
DESCRIPTION:イベント詳細はこちら\nhttps://techplay.jp/event/79236
 2?utm_medium=referral&utm_source=ics&utm_campaign=ics\n\nYouTube Live: ht
 tps://www.youtube.com/watch?v=EjFKRr2ArFQ\n2018年から待ち続けた V
 ue 3 もいよいよリリース間近。Alpha がリリースされて
 以降、Beta、RCと、日々その熱量は高まっています。\n
 今回の UIT meetup のテーマはズバリ『Vue 三昧』。\nこれ
 からの期待が高まる Vue 3 について、Vue.js コアチーム
 の kazupon さんを招待してのミートアップをオンライン
 開催します！ さらに、LINE からは Vue 3 にまつわる LT 
 も登壇予定。記念すべき大型アップデートを祝い、Vue 
 3を味わいつくしましょう！\n参加について\n本イベン
 トでは事前の登録は不要ですが、connpass で事前に参加
 予定を表明いただけると、イベント運営の準備が円滑
 となりますのでご協力お願いいたします。\n当日は YouT
 ube Live にて閲覧いただけます。\nタイムテーブル\n時間
 は目安になります\n\n\n\n時間\nタイトル / 登壇者 (敬称
 略)\n\n\n\n\n19:00~\nオープニング\n\n\n19:05~\nUIT Quiz\n\n\n19:20
 ~\nVue 3 直前 Q&A 「kazupon さんに聞く Vue 3」 前編\n\n\n19:55
 ~\n休憩\n\n\n20:00~\nLT 1『がんばらない Vue 3 移行』by Norima
 sa Hayashida\n\n\n20:10~\nLT 2『Vue Router Next ~ 意外と語られな
 い Vue 3 時代のルーティング ~』by 生田望\n\n\n20:20~\n休
 憩\n\n\n20:25~\nVue 3 直前 Q&A 「kazupon さんに聞く Vue 3」 後
 編\n\n\n20:55~\nクロージング\n\n\n21:00\nイベント終了\n\n\n\
 nトーク・登壇者紹介\nVue 3 直前 Q&A 「kazupon さんに聞く
  Vue 3」\nSpecial Guest: kazupon / @kazu_pon\n\n株式会社 PLAID 所
 属。Vue.js 黎明期からユーザー・開発者双方の立場とし
 て携わり、現在は Vue.js コアチーム、Vue.js 日本ユーザ
 ーグループオーガナイザー、vue-i18n の開発など、日本
 の Vue.js コミュニティの第一人者として活動中。\nLT 1
 『がんばらない Vue 3 移行』\n\nNorimasa Hayashida / @nhayashida
 \n既存の Vue 2 プロジェクトを可能な限り最小限の労力
 で Vue 3 にアップグレードしようとした際に得られた知
 見を共有したいと思います。\nLT 2『Vue Router Next ~ 意外
 と語られない Vue 3 時代のルーティング ~』\n生田望 / @N
 ozomuIkuta\nVue 3 の大型アップデートの話題に隠れてあま
 り語られていない、Vue Router に関する様々なアップデ
 ートについて紹介します。\n参加費\n無料\n対象者\n本
 イベントグループは主にフロントエンド開発に関心の
 あるエンジニアの方を対象としておりますが、職業や
 肩書きがエンジニアでなくとも、フロントエンド開発
 に興味がある方であればどなたでもご参加いただけま
 す。
LOCATION:YouTube Live オンライン
URL:https://techplay.jp/event/792362?utm_medium=referral&utm_source=ics&utm
 _campaign=ics
END:VEVENT
END:VCALENDAR
