BEGIN:VCALENDAR
VERSION:2.0
PRODID:-//https://techplay.jp//JP
CALSCALE:GREGORIAN
METHOD:PUBLISH
X-WR-CALDESC:AWSの基礎を学ぼう 第十五回
X-WR-CALNAME:AWSの基礎を学ぼう 第十五回
X-WR-TIMEZONE:Asia/Tokyo
BEGIN:VTIMEZONE
TZID:Asia/Tokyo
BEGIN:STANDARD
DTSTART:19700101T000000
TZOFFSETFROM:+0900
TZOFFSETTO:+0900
TZNAME:JST
END:STANDARD
END:VTIMEZONE
BEGIN:VEVENT
UID:792372@techplay.jp
SUMMARY:AWSの基礎を学ぼう 第十五回
DTSTART;TZID=Asia/Tokyo:20201005T121500
DTEND;TZID=Asia/Tokyo:20201005T130000
DTSTAMP:20260425T231636Z
CREATED:20200907T141519Z
DESCRIPTION:イベント詳細はこちら\nhttps://techplay.jp/event/79237
 2?utm_medium=referral&utm_source=ics&utm_campaign=ics\n\n第八回から
 イベント時間を12時15分開始とします。\nお昼休み時間
 に気軽にご参加ください。\n13時15分ではないので、ご
 注意ください！！\nAmazon Web Services (AWS)は現在175を超え
 るサービスを提供し、日々サービスの拡充を続けてい
 ます。\nこのAWS DevRelシリーズでは週次でAWSのサービス
 をひとつづつ取り上げながらその基礎を説明していく\
 n初心者、中級者をターゲットとした講座です。午後の
 仕事前にスキルアップを一緒にしませんか？\nサービ
 ス説明の後、ここ最近のサービスアップデートをお届
 けします。\n第十五回は独自のアプリケーション、統
 合 Software-as-a-Service (SaaS) アプリケーション、および AWS
  のサービスからのデータを使用して、アプリケーショ
 ンを簡単に接続することを可能にするサーバーレスイ
 ベントバスである、Amazon EventBridgeです。\n学ぶサービ
 ス\nAmazon EventBridge\n\n配信はAmazon Chimeを使います。当日
 お申込みいただいた方向けに12時ごろAmazon Chimeのログ
 インURLをお送りします。ブラウザでも視聴可能です。\
 n資料はオンラインイベント中にSlideshareのURLを共有し
 ます。\nそれではみなさんとお会いできることを楽し
 みにしています。\n講師：アマゾン ウェブ サービス 
 ジャパン、Sr. Developer Advocate 亀田\n\n注意点\n登壇者に
 よる発表内容はアマゾン ウェブ サービス ジャパンと
 して主催しているものではなく、コミュニティ活動の
 一環として勉強会の主催を行っているものです。
LOCATION:オンライン Amazon Chime
URL:https://techplay.jp/event/792372?utm_medium=referral&utm_source=ics&utm
 _campaign=ics
END:VEVENT
END:VCALENDAR
