BEGIN:VCALENDAR
VERSION:2.0
PRODID:-//https://techplay.jp//JP
CALSCALE:GREGORIAN
METHOD:PUBLISH
X-WR-CALDESC:8月最新版！実データから見るGoogleアルゴリズ
 ムアップデート
X-WR-CALNAME:8月最新版！実データから見るGoogleアルゴリズ
 ムアップデート
X-WR-TIMEZONE:Asia/Tokyo
BEGIN:VTIMEZONE
TZID:Asia/Tokyo
BEGIN:STANDARD
DTSTART:19700101T000000
TZOFFSETFROM:+0900
TZOFFSETTO:+0900
TZNAME:JST
END:STANDARD
END:VTIMEZONE
BEGIN:VEVENT
UID:792758@techplay.jp
SUMMARY:8月最新版！実データから見るGoogleアルゴリズムア
 ップデート
DTSTART;TZID=Asia/Tokyo:20200917T190000
DTEND;TZID=Asia/Tokyo:20200917T200000
DTSTAMP:20260424T224850Z
CREATED:20200911T015539Z
DESCRIPTION:イベント詳細はこちら\nhttps://techplay.jp/event/79275
 8?utm_medium=referral&utm_source=ics&utm_campaign=ics\n\n8月最新版！
 \n実データから見るGoogleアルゴリズムアップデート\n9
 月17日（木）19:00～\n\n▼こんな方にオススメです！\n・
 Googleアルゴリズムアップデートの影響を受けたWebサイ
 ト担当者様・今後Webメディア運営を検討しているマー
 ケティング担当者様・事業会社でWebメディアを運営さ
 れているご担当者様\n\n▼ウェビナー内容\n・8月11日に
 確認された異常な大変動\n・8月15日周辺に確認された
 変動（エラーまたはテストが行われた可能性あり）\n
 ・動画評価の調整\n・キュレーションサイトの全体的
 な下落傾向\n・Googleのリリース情報\n▼ウェビナー開催
 概要\n・開催日時2020年9月17日（木）19:00～20:00・参加費
 無料・開催方法ウェビナー　※Zoomを利用します・参加
 方法お申込後に、別途担当者よりメールにてご案内致
 します。\n\n▼タイムスケジュール\n\n\n\n時間\n内容\n\n\
 n18:58〜\n視聴用URL開場\n\n\n19:00〜19:40\nウェビナー本編\n
 \n\n19:40〜20:00\n質疑応答・アンケート回答　※質問がな
 くなり次第終了\n\n\n\n※ 当日予告なく時間配分・内容
 が変更になる可能性がございます。\n▼講師紹介\n\n渡
 井　弘一　Twitter\n株式会社CINC執行役員\n\n\n尾崎　篤志
 \n株式会社CINCコンサルタント\n▼参加対象\n・事業会社
 のマーケティング担当者\n・事業会社の事業責任者様\n
 ・事業会社の経営者様\n\n▼注意事項\n競合他社/同業者
 /企業にご所属でない個人の方からのお申込みなど、 
 当社の判断によりセミナー参加をお断りする場合があ
 ります。予めご了承ください。\n 
LOCATION:オンラインセミナー
URL:https://techplay.jp/event/792758?utm_medium=referral&utm_source=ics&utm
 _campaign=ics
END:VEVENT
END:VCALENDAR
