BEGIN:VCALENDAR
VERSION:2.0
PRODID:-//https://techplay.jp//JP
CALSCALE:GREGORIAN
METHOD:PUBLISH
X-WR-CALDESC:【21/22新卒向け説明会】「くらしのマーケット
 」の急成長とともにメンバーがクリアしてきたミッシ
 ョンとは
X-WR-CALNAME:【21/22新卒向け説明会】「くらしのマーケット
 」の急成長とともにメンバーがクリアしてきたミッシ
 ョンとは
X-WR-TIMEZONE:Asia/Tokyo
BEGIN:VTIMEZONE
TZID:Asia/Tokyo
BEGIN:STANDARD
DTSTART:19700101T000000
TZOFFSETFROM:+0900
TZOFFSETTO:+0900
TZNAME:JST
END:STANDARD
END:VTIMEZONE
BEGIN:VEVENT
UID:792833@techplay.jp
SUMMARY:【21/22新卒向け説明会】「くらしのマーケット」
 の急成長とともにメンバーがクリアしてきたミッショ
 ンとは
DTSTART;TZID=Asia/Tokyo:20200929T130000
DTEND;TZID=Asia/Tokyo:20200929T140000
DTSTAMP:20260425T114451Z
CREATED:20200911T093611Z
DESCRIPTION:イベント詳細はこちら\nhttps://techplay.jp/event/79283
 3?utm_medium=referral&utm_source=ics&utm_campaign=ics\n\nイベント概
 要\nTVCMでお馴染み「くらしのマーケット」を運営する 
 みんなのマーケットの新卒向け会社説明会です！\nく
 らしのマーケットは、市場のデファクトスタンダード
 を作っていくという大きなステージの中で、こつこつ
 と課題を一つずつクリアしてきました。\n実際に働く
 メンバーがこれまでにクリアしてきた業務や課題につ
 いてお話させていただきます。\nみんマで働くことで
 どのような業務をすることができるのか、成長イメー
 ジを持ちたい方におすすめのイベントです。\n今回はMa
 rketingのメンバーが参加いたします！\n-「くらしのマー
 ケット」で働くことでどれくらい成長できるのか。\n-
 業務の裁量権の大きさ、実際の業務イメージ\n-様々な
 ミッションを乗り越えられてきた理由とは。\n実際に
 働くメンバーの声を直接聞いてみてください。\nZOOMを
 使ったリモート形式のイベントです。交流会もありま
 すのでぜひお気軽にご参加くださいませ！\n※9月24日
 （木）13時開催の回もございます。\n【参加メンバー】
 \nHirai　コンサルティング本部\n2015年に中途入社。ECコ
 ンサルタント業務を担当。\n【司会進行】\nHidaka　コー
 ポレート本部\n選考インターンを経て2018年4月に新卒入
 社。\n新卒/中途採用、社内広報などを担当。「猫より
 犬が好き」。\nインタビュー記事：「人に頼ったり、
 助けてもらったりしても良いんだ」、悩みに向き合っ
 たリクルーターが見出したチームの信頼と絆\n【参考
 情報】\nコーポレートサイト\n採用情報\nnote\nくらしの
 マーケット開発ブログ\n参加対象者（21/22新卒限定）\n
 ・当社へ入社意欲のある方\n・ベンチャー企業や裁量
 の大きい環境で仕事がしたい方\n・市場のデファクト
 スタンダードを切り開いている企業で働きたい方\n・
 ゴールに向かって組織で達成を目指したい方\n開催日
 時\n・9月29日（火）13:00~14:00\nタイムテーブル\n\n\n\n時
 間\n内容\n\n\n\n\n12:50~13:00\n受付時間\n\n\n13:00~13:20\n会社
 説明\n\n\n13:20~14:00\nゲスト社員によるトーク\n\n\n13:20~14:
 00\n交流会（Q&A）\n\n\n\n実施方法\nZOOM開催となりますの
 で、お申し込み後に実施ツールのURLをお送りさせてい
 ただきます！\n※受付時間内に実施先URLにアクセスし
 てください。お顔が映る状態でご参加いただけますと
 幸いです。\n注意事項\n※ 参加を辞退する場合は、詳
 細ページより申込のキャンセルをお願い致します。\n
 ※ 無断キャンセル・欠席が続く場合、次回以降の参加
 をお断りさせていただく場合がございますのでご了承
 ください。\nみんなのマーケットについて\n私たちは「
 正直者が馬鹿を見ない世界をつくる」というビジョン
 の実現のため、「人と人が関わるサービスを、安心し
 て取引できる仕組みを提供する」というミッションを
 果たすべく、オンラインマーケットプレイスである「
 くらしのマーケット」の運営を行っています。\n「く
 らしのマーケット」は生活関連のサービスを中心とし
 た、サービスに関する日本最大級のインターネット商
 店街です。ハウスクリーニングや家事代行、出張カメ
 ラマン、家電の取り付け、リフォームを始めとする200
 以上のカテゴリの出張・訪問サービスを口コミや料金
 で比較して、オンラインで予約することができます。
LOCATION:オンライン（ZOOM開催）
URL:https://techplay.jp/event/792833?utm_medium=referral&utm_source=ics&utm
 _campaign=ics
END:VEVENT
END:VCALENDAR
