BEGIN:VCALENDAR
VERSION:2.0
PRODID:-//https://techplay.jp//JP
CALSCALE:GREGORIAN
METHOD:PUBLISH
X-WR-CALDESC:【JTUGスピンオフイベント】#JTUGRadioNight #4 ~み
 んなのハートに発信！SNSチーム~
X-WR-CALNAME:【JTUGスピンオフイベント】#JTUGRadioNight #4 ~み
 んなのハートに発信！SNSチーム~
X-WR-TIMEZONE:Asia/Tokyo
BEGIN:VTIMEZONE
TZID:Asia/Tokyo
BEGIN:STANDARD
DTSTART:19700101T000000
TZOFFSETFROM:+0900
TZOFFSETTO:+0900
TZNAME:JST
END:STANDARD
END:VTIMEZONE
BEGIN:VEVENT
UID:792983@techplay.jp
SUMMARY:【JTUGスピンオフイベント】#JTUGRadioNight #4 ~みんな
 のハートに発信！SNSチーム~
DTSTART;TZID=Asia/Tokyo:20201006T200000
DTEND;TZID=Asia/Tokyo:20201006T210000
DTSTAMP:20260422T015125Z
CREATED:20200913T072405Z
DESCRIPTION:イベント詳細はこちら\nhttps://techplay.jp/event/79298
 3?utm_medium=referral&utm_source=ics&utm_campaign=ics\n\n【JTUGスピン
 オフイベント】JTUG Radio Night #4 ~みんなのハートに発信
 ！SNSチーム~\n概要\nJTUG Radio NightはJTUGスピンオフメンバ
 ーが主体となって\nYouTube LIVEでラジオ番組っぽくJTUGに
 まつわる何かの配信を行うプログラムです！！！\n最
 初はJTUGの裏方として動いている各チームの説明とスタ
 ッフの紹介を目的とした、ゆる〜い座談会を放送して
 いきたいと思っています。\n毎週楽しい企画を考えた
 り、皆様の刺激になりそうなお話をしていきたいと思
 っていますので、\nビールや某こだわっている酒場の
 レモンサワーのお供にどうぞ聴いていってください。\
 nおたより募集♪\nJTUG Radio NightではTwitterにて皆様から
 のおたよりを募集します。\nご意見、ご質問、ご感想
 などなど #JTUGRadioNightをつけて、つぶやいてください。
 \n放送前、放送中、放送後いつでもOKです！\nスケジュ
 ール\n毎週火曜日20:00に放送予定\nメインパーソナリテ
 ィ:常石\, 若杉\, 和田\, 松永\n★第４回：10月6日(火) ~み
 んなのハートに発信！SNSチーム~\n　ゲスト：momoさん、
 Hiroko Fukushimaさん\n・第5回：10月13日(火) ~Tableau Confの振
 り返り！ルーキー若杉が物申す！~\n　ゲスト：調整中\
 n・第6回：10月20日(火) ~冬の陣に期待大！総会チーム~\n
 　ゲスト：調整中\n・第7回：10月27日(火) ~HP作成の裏側
 に迫る！Webチーム~\n　ゲスト：調整中\n※過去のアー
 カイブはJTUGRadioNightアーカイブリストをチェック\n配信
 URL\n別途ご連絡いたします。\n主催\nJapan Tableau User Group 
 (JTUG)\nスピンオフイベントチーム\nサポート\n株式会社
 セールスフォース・ドットコム\nハッシュタグ\n#TUG #JTU
 G #JTUGRadioNight\n注意事項\n\n\nリクルーティング、勧誘な
 ど、採用目的でのイベント参加はお断りしております
 。\n\n\n欠席される場合は、お手数ですが速やかにキャ
 ンセル処理をお願い致します。\n\n\n申し込み時にご提
 供いただいた情報は、主催者・サポート企業にて、イ
 ベント受付管理や各種ご案内（サービス・イベント等
 ）に利用させていただきます。\n\n
LOCATION:オンライン
URL:https://techplay.jp/event/792983?utm_medium=referral&utm_source=ics&utm
 _campaign=ics
END:VEVENT
END:VCALENDAR
