BEGIN:VCALENDAR
VERSION:2.0
PRODID:-//https://techplay.jp//JP
CALSCALE:GREGORIAN
METHOD:PUBLISH
X-WR-CALDESC:(オンライン)インフラエンジニアの教科書2のOS
 の章を解説する会
X-WR-CALNAME:(オンライン)インフラエンジニアの教科書2のOS
 の章を解説する会
X-WR-TIMEZONE:Asia/Tokyo
BEGIN:VTIMEZONE
TZID:Asia/Tokyo
BEGIN:STANDARD
DTSTART:19700101T000000
TZOFFSETFROM:+0900
TZOFFSETTO:+0900
TZNAME:JST
END:STANDARD
END:VTIMEZONE
BEGIN:VEVENT
UID:793019@techplay.jp
SUMMARY:(オンライン)インフラエンジニアの教科書2のOSの
 章を解説する会
DTSTART;TZID=Asia/Tokyo:20200921T210000
DTEND;TZID=Asia/Tokyo:20200921T230000
DTSTAMP:20260424T214315Z
CREATED:20200913T210900Z
DESCRIPTION:イベント詳細はこちら\nhttps://techplay.jp/event/79301
 9?utm_medium=referral&utm_source=ics&utm_campaign=ics\n\nインフラエ
 ンジニアの教科書2のOSの章を解説します。\n日々ITイン
 フラや開発の仕事をしているが、OSの役割や挙動につ
 いて普段意識したことないという人を想定して解説し
 てみようと思います。\nインフラエンジニアの教科書2
 を持っていないと聞いても意味がないので事前に入手
 しておいてください。\n発表者: 佐野裕(著者)\nhttps://twi
 tter.com/sanonosa/\n発表者の現在の所属会社: 株式会社ハー
 トビーツ\nhttps://heartbeats.jp/
LOCATION:リモート(Zoomの予定)
URL:https://techplay.jp/event/793019?utm_medium=referral&utm_source=ics&utm
 _campaign=ics
END:VEVENT
END:VCALENDAR
