BEGIN:VCALENDAR
VERSION:2.0
PRODID:-//https://techplay.jp//JP
CALSCALE:GREGORIAN
METHOD:PUBLISH
X-WR-CALDESC:【無料／ZOOM開催】データマイニングツール「I
 BM SPSS Modeler」ハンズオンセミナー
X-WR-CALNAME:【無料／ZOOM開催】データマイニングツール「I
 BM SPSS Modeler」ハンズオンセミナー
X-WR-TIMEZONE:Asia/Tokyo
BEGIN:VTIMEZONE
TZID:Asia/Tokyo
BEGIN:STANDARD
DTSTART:19700101T000000
TZOFFSETFROM:+0900
TZOFFSETTO:+0900
TZNAME:JST
END:STANDARD
END:VTIMEZONE
BEGIN:VEVENT
UID:793038@techplay.jp
SUMMARY:【無料／ZOOM開催】データマイニングツール「IBM SP
 SS Modeler」ハンズオンセミナー
DTSTART;TZID=Asia/Tokyo:20201028T150000
DTEND;TZID=Asia/Tokyo:20201028T170000
DTSTAMP:20260426T032137Z
CREATED:20200914T044532Z
DESCRIPTION:イベント詳細はこちら\nhttps://techplay.jp/event/79303
 8?utm_medium=referral&utm_source=ics&utm_campaign=ics\n\n【参加費無
 料】データを武器とする「IBM SPSS Modeler」ハンズオンセ
 ミナー\n概要\nAI時代の今、データは日々大量に発生し
 ています。\nそのような時代において企業は、従来以
 上に大量のデータを活用し、マーケティング戦略や企
 業戦略に活かすことが求められています。それに伴い
 、数多くの人工知能やデータ分析ソフトウェアやツー
 ルも数多く誕生しています。\nしかしながら、これか
 らデータ分析やデータ活用を行う方々にとっては、「
 どのような製品を利用すればよいのかわからない」「
 どこから手をつけて良いのかわからない」という声も
 多くお聞きします。\nそのような方におすすめの分析
 ツール、それが伝統のある「IBM SPSS Modeler」です。IBM SP
 SS Modelerは、直感的でわかりやすい操作画面を持ち、マ
 ウス操作だけでデータ分析が可能です。コーディング
 などの必要はありません。\nもちろんAI／人工知能に対
 応する最新の分析手法も多数搭載しており、初めてデ
 ータ活用する方、分析する方も安心してご利用いただ
 けます。\n当ハンズオンセミナーでは、IBM SPSS Modelerの
 特徴や活用事例を紹介すると共に、実際に皆様に操作
 をしていただくハンズオンセッションをご用意いたし
 ました。\nIBM SPSS Modelerの導入をご検討されている方は
 もちろん、データ活用をこれから始める方にもわかり
 やすく解説するセミナーです。ぜひご参加ください。\
 n##タイムスケジュール\n\n\n\n時間\n内容\n\n\n\n\n15:00〜15:
 30\nAI／人工知能時代にライバルに差をつける「IBM SPSS M
 odeler」\n\n\n15:30〜16:50\n体感！SPSS Modeler ハンズオンセッ
 ション\n\n\n16:50〜17:00\nQ&A\n\n\n\n※ 当日予告なく時間配
 分・内容が変更になる可能性がございます。\n\n参加対
 象\n・これからデータをビジネスに活用されたいとお
 考えの方\n・人工知能・AIツールを検討中の方\n・IBM SPS
 S Modelerをご検討中の方\n参加費\n無料\nハッシュタグ\n#t
 echplayjp
LOCATION:ZOOM
URL:https://techplay.jp/event/793038?utm_medium=referral&utm_source=ics&utm
 _campaign=ics
END:VEVENT
END:VCALENDAR
