BEGIN:VCALENDAR
VERSION:2.0
PRODID:-//https://techplay.jp//JP
CALSCALE:GREGORIAN
METHOD:PUBLISH
X-WR-CALDESC:WITHコロナ時代のDX x AI-OCR：業務自動化の秘訣
X-WR-CALNAME:WITHコロナ時代のDX x AI-OCR：業務自動化の秘訣
X-WR-TIMEZONE:Asia/Tokyo
BEGIN:VTIMEZONE
TZID:Asia/Tokyo
BEGIN:STANDARD
DTSTART:19700101T000000
TZOFFSETFROM:+0900
TZOFFSETTO:+0900
TZNAME:JST
END:STANDARD
END:VTIMEZONE
BEGIN:VEVENT
UID:793869@techplay.jp
SUMMARY:WITHコロナ時代のDX x AI-OCR：業務自動化の秘訣
DTSTART;TZID=Asia/Tokyo:20201016T150000
DTEND;TZID=Asia/Tokyo:20201016T160000
DTSTAMP:20260422T225908Z
CREATED:20200923T014946Z
DESCRIPTION:イベント詳細はこちら\nhttps://techplay.jp/event/79386
 9?utm_medium=referral&utm_source=ics&utm_campaign=ics\n\n〜WITHコロナ
 時代のDX x AI-OCR：業務自動化の秘訣〜\n概要\n■AIブー
 ムとAI-OCR\nAI（人工知能）の第２ブームから画像解析技
 術の向上により文字や数字などの解析精度が上がりOCR
 技術にAIを取り込んだAI-OCRに注目が集まってきていま
 す。\n\n多くのAI-OCRサービスは、請求書や見積書など、
 ある程度決められたテンプレート用にチューニングさ
 れており、検針票、製造番号、商品ラベル、ナンバー
 プレートといった形態の違う読み取りに対応していな
 い場合があります。\n\n■カスタマイズができない\nま
 た、画一パッケージでは個別の企業の業務要件に合わ
 せたカスタマイズは難しいようです。\n\n■「万能OCR」
 で非定型帳票も、検針票、製造番号、ナンバープレー
 ト、縦書きの文章も簡単にデータ化\n本セミナーでは
 、弊社が「万能OCR」と呼んでいる自社のOCR技術を使っ
 た「AIME-OCR」を紹介します。\nAIME-OCRは、カスタマイズ
 可能な低価格サービスで、非定型帳票をはじめ、検針
 票、製造番号、商品ラベル、ナンバープレートの読み
 取りや小説などの縦書きにも対応しています。\nタイ
 ムスケジュール\n\n\n\n時間\n内容\n\n\n14:30〜15:00\n受付開
 始\n\n\n15:00〜15:40\n\n１．人間の脳とAIの知的な活動\n２
 ．AIME-OCRの紹介\n・非定型帳票の認識\n・製造番号、商
 品ラベルの認識\n・ナンバープレートの認識\n・特集の
 現場・業務と合わせたカスタマイズ可能\n\n\n\n15:40～15:
 50\n\nAI-OCR以外にも様々なAI開発事例の紹介\n（画像認識
 ・音声処理・自然言語処理・AI予測など）\n\n\n\n15:50〜1
 6:00\n質問応答\n\n\n\n※ 当日予告なく時間配分・内容が
 変更になる可能性がございます。\n参加対象\n・ボック
 スFAX受注業務の効率化を検討している企業様\n・複数
 帳票の仕分けや非定型フォーマットの読み込みなどAI-O
 CRの高度な利用形態を必要としている企業様\n・デジタ
 ルトランスフォーメーションを推進しており、他社のA
 IやRPAを用いたDX取り組み事例の情報収集をしている企
 業様\n持ち物\nなし\n参加費\n無料\n【申し込み/参加方
 法】\n・本セミナーはオンラインの形式で行い、イン
 ターネット配信いたします。ご自身のデスクやご自宅
 からご参加いただけます。ご自身のPCもしくはスマー
 トフォン等でご視聴ください。・お申し込みいただい
 た方へ、開催日2日前までに参加用URLをご案内いたしま
 す。ご案内先は申し込み時に入力いただいたメールア
 ドレスとなります。\nハッシュタグ\n#OCR #AI #人工知能
 　#経理　#請求書　#業務効率化　#入力作業 #機械学習\
 n注意事項\n・セミナー終了時間は都合により前後する
 場合がございます。・フリーメールアドレス（Gmail、Ho
 tmail、Yahoo等）によるご登録はできません。法人アドレ
 スにてご登録ください。・個人の方ならびに、同業他
 社様からのご受講は、誠に勝手ながらお断りさせてい
 ただきます。\n※ 参加を辞退する場合は、詳細ページ
 より申込のキャンセルをお願い致します。※ 無断キャ
 ンセル・欠席が続く場合、次回以降の参加をお断りさ
 せていただく場合がございますのでご了承ください。
LOCATION:オンラインセミナー
URL:https://techplay.jp/event/793869?utm_medium=referral&utm_source=ics&utm
 _campaign=ics
END:VEVENT
END:VCALENDAR
