BEGIN:VCALENDAR
VERSION:2.0
PRODID:-//https://techplay.jp//JP
CALSCALE:GREGORIAN
METHOD:PUBLISH
X-WR-CALDESC:全文検索でテレワーク（在宅勤務）のデメリ
 ットを解消！「QuickSolution」紹介ウェビナー
X-WR-CALNAME:全文検索でテレワーク（在宅勤務）のデメリ
 ットを解消！「QuickSolution」紹介ウェビナー
X-WR-TIMEZONE:Asia/Tokyo
BEGIN:VTIMEZONE
TZID:Asia/Tokyo
BEGIN:STANDARD
DTSTART:19700101T000000
TZOFFSETFROM:+0900
TZOFFSETTO:+0900
TZNAME:JST
END:STANDARD
END:VTIMEZONE
BEGIN:VEVENT
UID:794001@techplay.jp
SUMMARY:全文検索でテレワーク（在宅勤務）のデメリット
 を解消！「QuickSolution」紹介ウェビナー
DTSTART;TZID=Asia/Tokyo:20201029T160000
DTEND;TZID=Asia/Tokyo:20201029T170000
DTSTAMP:20260421T034556Z
CREATED:20200924T014801Z
DESCRIPTION:イベント詳細はこちら\nhttps://techplay.jp/event/79400
 1?utm_medium=referral&utm_source=ics&utm_campaign=ics\n\n「QuickSolution
 」紹介ウェビナー\n概要\n\n外出自粛要請を受け、各社
 でテレワークが急速に推進されています。国土交通省
 は、テレワーク人口実態調査結果を公表しました。そ
 の中で、新型コロナウイルス感染症対策の一環として
 テレワークを実施した人の4割以上が以下を問題点とし
 て挙げています。\n\n「会社でないと閲覧・参照できな
 い資料やデータなどがあった」\n「同僚や上司などと
 の連絡・意思疎通に苦労した」\n\n企業内検索システム
 QuickSolution（クイックソリューション） なら、テレワ
 ークの環境でも社内の情報を高速に検索でき、テレワ
 ークのデメリットである知識格差を解消できます。\n
 下記の日程で、「QuickSolution」をご紹介するWebセミナー
 を開催いたします。本ウェビナー（Webinar）では、「Qui
 ckSolution」をご紹介するとともに、実際の操作画面を見
 ていただきながら特性や利用イメージを確認いただけ
 ます。その他疑問点、実現方法などオンラインで質問
 対応させていただきます。\nぜひ、お気軽にご参加く
 ださい。\nタイムスケジュール\n\n\n\n\n時間\n内容\n\n\n15
 :00\n会議室オープン\n\n\n16:00\n開始\n\n\n16:00～17:00\n資料
 とデモを用いてのご説明（40分）質疑応答（20分）\n\n\n
 17:00\n終了予定\n\n\n\n本ウェビナーは、Web会議システムM
 icrosoft Teamsを使用してオンラインで開催いたします。Mi
 crosoft Teamsの会議室には、お申込み後に当方よりメール
 でお伝えするURLで入室いただき、匿名でご参加いただ
 きます。ご参加方法の詳細をメール(seminar@sei-info.co.jp)
 でお知らせいたします。\nお申込み\n弊社HPよりお申込
 みください。\n参加対象\nテレワークによる知識格差に
 課題をお持ちの方社内情報の有効活用、情報共有、技
 術伝承、業務効率化に課題をお持ちの方\n参加費\n無料
 \n形式\nWebセミナー（オンラインセミナー）\nPC推奨環
 境\n下記の環境を推奨いたします。\n\nOS\nMicrosoft(R) Windo
 ws(R) Windows 10\nMac OS X（10.4以上）\nブラウザ\nMicrosoft Edge
 （RS2以降、Chromiumベースの最新バージョンと、その前
 の2つのバージョン）\nGoogle Chrome（最新バージョンと、
 その前の2バージョン）\n\n注意事項\n※ 参加を辞退す
 る場合は、詳細ページより申込のキャンセルをお願い
 致します。※ 無断キャンセル・欠席が続く場合、次回
 以降の参加をお断りさせていただく場合がございます
 のでご了承ください。\n 
LOCATION:オンライン
URL:https://techplay.jp/event/794001?utm_medium=referral&utm_source=ics&utm
 _campaign=ics
END:VEVENT
END:VCALENDAR
