BEGIN:VCALENDAR
VERSION:2.0
PRODID:-//https://techplay.jp//JP
CALSCALE:GREGORIAN
METHOD:PUBLISH
X-WR-CALDESC:SaaSプロダクトのフロントエンド／Vue.js、React
 、TypeScript、E2Eテスト
X-WR-CALNAME:SaaSプロダクトのフロントエンド／Vue.js、React
 、TypeScript、E2Eテスト
X-WR-TIMEZONE:Asia/Tokyo
BEGIN:VTIMEZONE
TZID:Asia/Tokyo
BEGIN:STANDARD
DTSTART:19700101T000000
TZOFFSETFROM:+0900
TZOFFSETTO:+0900
TZNAME:JST
END:STANDARD
END:VTIMEZONE
BEGIN:VEVENT
UID:794271@techplay.jp
SUMMARY:SaaSプロダクトのフロントエンド／Vue.js、React、Type
 Script、E2Eテスト
DTSTART;TZID=Asia/Tokyo:20201028T190000
DTEND;TZID=Asia/Tokyo:20201028T203000
DTSTAMP:20260424T232143Z
CREATED:20200925T141934Z
DESCRIPTION:イベント詳細はこちら\nhttps://techplay.jp/event/79427
 1?utm_medium=referral&utm_source=ics&utm_campaign=ics\n\nイベント概
 要\nラクスは「IT技術で中小企業を強くします！」をミ
 ッションに掲げ、 メール共有・管理システムのメール
 ディーラーから始まり、経費精算システムの楽楽精算
 に至るまで、 延べ60\,000社を超えるお客様に自社開発
 したクラウドサービスを提供してきました。    \nこの
 イベントでは、現場最前線のエンジニア達から 普段の
 活動や開発・運用で得た知見などの技術情報を発信し
 、お届けします。 このイベントが新しい気づきや成長
 につながる機会を提供する場になるとともに ラクス社
 員と参加者の皆さま、また参加者の皆さま同士で新た
 なつながりが生まれるきっかけになれば幸いです！    
 \n※宜しければ、ラクス開発者ブログ/Twtterもご覧くだ
 さい！\n・開発者ブログ https://tech-blog.rakus.co.jp/\n・Twitt
 er https://twitter.com/DevRakus 　\nテーマ\n『フロントエンド
 』をテーマに、10月もラクスMeetupを開催します！！    \
 n3種類の大規模SaaSに関わるエンジニアからの視点で、
 フロントエンド技術に特化した発表を予定しています
 。\nリリースしたばかりの新サービス、急速に利用者
 が拡大するサービス、すでに数多くの利用者を抱える
 歴史あるサービスまで、\nモダンなフロントエンド技
 術をどのように取り入れ、サービスの成長を加速させ
 ていくか、最前線で活躍するエンジニアから具体的に
 紹介させていただきます。\nSaaS開発に携わる方、フロ
 ントエンド技術にご興味をお持ちの方、たくさんのご
 参加をお待ちしています！\n発表内容\nテスト稼働の削
 減とフロントエンドの品質担保を行うE2Eテスト\n登壇
 ：川又 由雅 [担当サービス：チャットディーラー]    \n
 2018年にラクスに新卒入社。以来、ChatDealerの開発・運
 用業務を担当中。\nバックエンドとフロントエンド両
 方の開発を担当しつつ、テスト自動化などの改善作業
 にも奮闘中。  \n<内容>\n「ChatDealer」のチャットボット
 機能には多くのテストケースが存在し、機能の追加に
 伴ってテストケース数が増加していました。\nこのた
 め、手動によるチャットボット機能のテストではかな
 りの稼働がかかってしまうことがチームの課題となっ
 ていました。\nそこでChatDealerでは自動でチャットを操
 作するE2Eテストを導入し、テスト稼働削減とフロント
 エンド（JS）の品質担保に挑戦しました。\n今回はNode.j
 sとPuppeteerを使ってE2Eテストを導入するまでの経緯と現
 在に至るまでの話をします。  \nVue.js + TypeScriptによる
 新規サービス開発ふりかえり\n登壇：北嶋 初音 [担当
 サービス：楽楽勤怠]    \n2020年1月にラクス初のフロン
 トエンドエンジニアとして入社。（前職ではバックエ
 ンド開発の経験もあり）\n現在は、新規サービス（楽
 楽勤怠）のフロントエンド開発を担当しながら、社内
 のフロントエンド組織の拡大などを目標に日々奮闘中
 。  \n<内容>\n楽楽勤怠のフロントエンドでは、SPA開発
 を採用しています。\nラクスとして初めてのフロント
 エンドエンジニアとバックエンドエンジニアを分けて
 開発を行ったプロダクトであり、\n社内にノウハウも
 少ない中で試行錯誤しながら進めた点がとても多くあ
 りました。    \n今回は\n\n開発初期での利用技術選定に
 ついて（Vue.js + TypeScript + Vuex + Vuetify）\n開発初期〜初
 版リリースまでの振り返り（モダンな技術を取り入れ
 て良かった所、悪かった所、その他苦労した点）\n初
 版リリース後の開発について（振り返りをどう活かし
 ていくか、新規開発と改善タスクをどう並行していく
 か）\n\nなど、開発初期から関わっている北嶋の視点か
 らお話できればと思います。\n息の長いサービスのフ
 ロントエンドを少しずつ改善していく営み\n登壇：三
 田 英一 [担当サービス：楽楽明細]  \n2014年にラクス入
 社。以来、一貫して楽楽明細の開発を担当。\n現在は
 、リードエンジニアとしてフロントエンドからバック
 エンドまで継続的な改善活動に取り組んでいる。  \n<
 内容> \n楽楽明細は開発開始からは10年近く経過してい
 る息の長いサービスです。\n利用者は年々増加しサー
 ビスとしては急速に成長していくその一方で\n使用し
 ている技術要素はどんどん古くなっていきており、\n
 何も対応しなければレガシーシステムとなり様々な面
 で問題に直面することになります。\n楽楽明細の開発
 チームがフロントエンドのレガシー化を防ぐために取
 り組んでいる地道な改善策を紹介します。 \n開催概要\
 n\n日時: 2020/10/28 (水) 19:00-20:30\n会場: オンライン（Zoom
 ）　※Connpassのメッセージ機能、およびイベントペー
 ジ中の「参加者への情報」欄にて開催前にURLを通知い
 たします。\n参加費: 無料\nハッシュタグ: #RAKUSMeetup\n主
 催: ラクス\n\n当日のタイムテーブル\n\n\n\n\n内容\n登壇
 者／備考\n\n\n\n\n18:50\n（入室開始）途中参加OK！\n\n\n\n1
 9:00\nオープニング\n主催者\n\n\n19:10\nテスト稼働の削減
 とフロントエンドの品質担保を行うE2Eテスト\n川又 由
 雅\n\n\n19:35\nVue.js + TypeScriptによる新規サービス開発ふ
 りかえり\n北嶋 初音\n\n\n20:00\n息の長いサービスのフロ
 ントエンドを少しずつ改善していく営み\n三田 英一\n\n
 \n20:25\nクロージング\n主催者\n\n\n\n※発表内容、タイム
 テーブルなどは変更となる場合がございますのでご了
 承ください\n注意とお願い\n個人情報の取り扱いについ
 て\n個人情報は関係法令に従って管理いたします。\nな
 お、当日アンケートなどでご回答頂いた情報につきま
 しては、ラクスの個人情報保護方針に基づき適切に管
 理いたします。\n注意事項\n\n内容は予告なく変更され
 る場合がございます。\n本イベントはオンライン開催
 のため、通信状況によって音声や映像の乱れがある場
 合がございます。\n配信トラブル時のアナウンスはこ
 のアカウントから行います https://twitter.com/DevRakus\n当日
 のイベント風景（写真）や内容は後日レポート記事やS
 NSにて掲載される場合がありますのでご了承ください
 。\n
LOCATION:オンライン オンライン
URL:https://techplay.jp/event/794271?utm_medium=referral&utm_source=ics&utm
 _campaign=ics
END:VEVENT
END:VCALENDAR
