BEGIN:VCALENDAR
VERSION:2.0
PRODID:-//https://techplay.jp//JP
CALSCALE:GREGORIAN
METHOD:PUBLISH
X-WR-CALDESC:【Webセミナー】これからの「オウンドメディ
 ア」のつくり方！  ～立ち上げからアクセス増・画像
 トラブル回避まで～
X-WR-CALNAME:【Webセミナー】これからの「オウンドメディ
 ア」のつくり方！  ～立ち上げからアクセス増・画像
 トラブル回避まで～
X-WR-TIMEZONE:Asia/Tokyo
BEGIN:VTIMEZONE
TZID:Asia/Tokyo
BEGIN:STANDARD
DTSTART:19700101T000000
TZOFFSETFROM:+0900
TZOFFSETTO:+0900
TZNAME:JST
END:STANDARD
END:VTIMEZONE
BEGIN:VEVENT
UID:794527@techplay.jp
SUMMARY:【Webセミナー】これからの「オウンドメディア」
 のつくり方！  ～立ち上げからアクセス増・画像トラ
 ブル回避まで～
DTSTART;TZID=Asia/Tokyo:20201014T140000
DTEND;TZID=Asia/Tokyo:20201014T151500
DTSTAMP:20260422T171250Z
CREATED:20200928T072650Z
DESCRIPTION:イベント詳細はこちら\nhttps://techplay.jp/event/79452
 7?utm_medium=referral&utm_source=ics&utm_campaign=ics\n\n\n\n概要\n◆
 こんな方におすすめ\n・ネット上で集めた画像、本当
 に掲載していいのか不安\n・どんな画像を選んだらい
 いのかわからない…\n・オウンドメディアに力を入れ
 た方が良いとは思っているけど…ノウハウもリソース
 もない…\n・記事の検索順位がなかなか上がらない…\n
 \n◆セミナー概要\n本セミナーでは、コロナ時代のWEBマ
 ーケティング手法として注目されている「オウンドメ
 ディア」にフォーカスを当て、 \nどのようにしてオウ
 ンドメディアを作っていくのかを詳しくお話しします
 。\n \nまた、オウンドメディアには欠かせない「画像
 」ですが、使い方に気を付けないとうっかり権利侵害
 になることも。 \nトラブルを回避しつつも、見てもら
 えるメディアづくりに必要なノウハウとは？\n \nこれ
 からオウンドメディアを運営したいと考えている方・
 オウンドメディア運営に力を入れていきたいと考えて
 いる方、必見です！\n \nオウンドメディアの最新トレ
 ンド、立ち上げ・運用のコツはもちろん、\n画像のプ
 ロ「ピクスタ」様をお呼びし、画像利用に関わる権利
 問題や画像選びについても解説いたします！\n\n事例や
 最新情報を交えて、実践に活かしやすいセミナーとな
 っております。\n是非、ご参加くださいませ。\n\nタイ
 ムスケジュール\n\n\n\n時間\n内容\n\n\n13:50〜\n受付開始\n
 \n\n\n14:00 〜14:05\n\nオープニング（ご挨拶・諸注意）\n\n
 \n14:05 〜14:40\n\n【Session1】Web集客を強化する！オウンド
 メディアのコツ\n対面での接触が難しく、オフライン
 での集客が困難な時代。\n新たな新常態では、「オン
 ラインでの集客」に力を入れざるを得ない状況かと思
 います。\n\n今回は、「オンライン集客」の中でも、「
 メディア戦略」に焦点を当て、\n \n・自社でメディア
 を立ち上げ、運用する「オウンドメディア」\n \nにつ
 いて解説いたします。\n \nオウンドメディアの「立ち
 上げ・アクセス増のコツ」をお伝えし、\nオウンドメ
 ディアで集客強化する方法を、持ち帰っていただきま
 す！\n\n\n\n14:40 〜15:15\n\n【Session2】画像素材の思わぬト
 ラブルを回避するために\nオウンドメディアをより見
 やすく・読んでもらいやすくるために必要不可欠な「
 画像」ですが、\n皆さんはどのように画像を調達して
 いますか？\n \n無料素材サイトからダウンロードした
 り、ストックフォトを購入したり、簡単に画像を取得
 できる時代だからこそ、気を付けないといつの間にか
 権利侵害に発展することもあるんです！\n \n意外と知
 らない「画像」の効果や選び方、権利の知識について
 、分かりやすくお伝えします。\n\n\n\n\n※ 当日予告な
 く時間配分・内容が変更になる可能性がございます。\
 n登壇者\n\n株式会社ジオコード　マーケティング課長
 　渡辺 友馬\n株式会社レアジョブのインハウスデザイ
 ナーを経て、2014年に株式会社ジオコードへ入社。 デ
 ザイナー、ディレクター、Webコンサルタントを経て2018
 年2月に「SEO課デザインチーム」を立ち上げる。 2018年9
 月に「クリエイティブプロジェクトチーム」に独立。S
 EO・広告をはじめ各部署への技術サポート・業務改善
 を担う。 2019年より事業推進課長に就任後、2020年より
 同社営業部マーケティング課長としてマーケティング
 の陣頭指揮を執る。\n\n\nピクスタ株式会社　ピクスタ
 事業本部　カスタマーサクセス部　野口 亨子\n2016年 
 ピクスタ株式会社に入社。\nPIXTAの営業担当として、初
 めてストックフォトを利用する法人顧客への導入サポ
 ートや、\n画像の管理・運用支援を100社以上実施。法
 人顧客が直面しやすい画像のトラブル事例を基に、\n
 画像素材の購入後も安心して利用できるよう、画像の
 権利やストックフォト関連のセミナーを実施している
 。\n\n参加対象\n・マーケター・販促ご担当者様・Web担
 当者様\n※ 欠席される場合は、お手数ですが速やかに
 キャンセル処理をお願い致します。 \n参加費\n無料\nウ
 ェブセミナーに関して\n*必ずご覧ください！\n【参加
 方法】申込フォームをご入力いただいた方へ、開催日
 前日までにメールにてWEBセミナー参加用URLをお送りい
 たします。\n当日はメールに記載されたURLよりアクセ
 スし、ご参加ください。*開始時刻の10分前からアクセ
 ス可能になります。\n\n【ツールについて】オンライン
 セミナーは、『Zoom』というサービスを用いて実施いた
 します。オンラインセミナーの「URL」と「参加パスワ
 ード」は別途メールにてご案内いたします。セミナー
 の前日になりましたら、弊社からのメールをご確認い
 ただきますようお願い申し上げます。\n注意事項\n※法
 人企業様限定セミナーとなります。※定員を超えた場
 合は抽選とさせて頂きます。※競合他社様のご参加は
 、ご遠慮いただいておりますので、ご了承ください。\
 nご協力のお願い\n・申込後のキャンセルについては、
 前日までにご連絡ください。・セミナー映像を録画し
 て利用させて頂きます。万が一個人が特定できる画像
 の場合、　モザイク等で特定できない状態へ加工を行
 った上で、利用させて頂く事がございます。　何卒ご
 理解・ご了承くださいますようお願いいたします。\n
 個人情報保護方針について\n今回ご提供いただく個人
 情報は、株式会社ジオコードと本セミナーの共催企業
 が取り扱い、各社の個人情報保護方針に基づき厳重に
 管理いたします。\n・株式会社ジオコードの個人情報
 保護方針について\n・ピクスタ株式会社の個人情報保
 護方針について
LOCATION:Zoomにてオンライン開催
URL:https://techplay.jp/event/794527?utm_medium=referral&utm_source=ics&utm
 _campaign=ics
END:VEVENT
END:VCALENDAR
