BEGIN:VCALENDAR
VERSION:2.0
PRODID:-//https://techplay.jp//JP
CALSCALE:GREGORIAN
METHOD:PUBLISH
X-WR-CALDESC:【就活生向け】内定が欲しければ大ヒット商
 品から学べ！複数内定者とバズる商品の共通事例！~Yah
 oo!の一流ビジネスマンが教える人事が教えてくれない
 就活術~
X-WR-CALNAME:【就活生向け】内定が欲しければ大ヒット商
 品から学べ！複数内定者とバズる商品の共通事例！~Yah
 oo!の一流ビジネスマンが教える人事が教えてくれない
 就活術~
X-WR-TIMEZONE:Asia/Tokyo
BEGIN:VTIMEZONE
TZID:Asia/Tokyo
BEGIN:STANDARD
DTSTART:19700101T000000
TZOFFSETFROM:+0900
TZOFFSETTO:+0900
TZNAME:JST
END:STANDARD
END:VTIMEZONE
BEGIN:VEVENT
UID:794538@techplay.jp
SUMMARY:【就活生向け】内定が欲しければ大ヒット商品か
 ら学べ！複数内定者とバズる商品の共通事例！~Yahoo!の
 一流ビジネスマンが教える人事が教えてくれない就活
 術~
DTSTART;TZID=Asia/Tokyo:20201009T190000
DTEND;TZID=Asia/Tokyo:20201009T210000
DTSTAMP:20260420T110019Z
CREATED:20200928T102022Z
DESCRIPTION:イベント詳細はこちら\nhttps://techplay.jp/event/79453
 8?utm_medium=referral&utm_source=ics&utm_campaign=ics\n\n\n内定が欲
 しければ大ヒット商品から学べ！\n複数内定者とバズ
 る商品の共通事例！\n~Yahoo!の一流ビジネスマンが教え
 る人事が教えてくれない就活術~\n概要\n\n\n「大手やイ
 ケてる企業は〇〇ができる学生を採用したいと思って
 います。」この〇〇に入る言葉、気になりませんか？
 気になりますよね。。。誰だって、自分が入りたい企
 業に内定が欲しいし、収入もよくて、やりがいもある
 そんな企業からの内定が欲しいですよね・・・そこで
 ！！私たちは今回世間の欲しいを叶え、絶大な人気を
 誇る【バズる商品】から読み解く、【一流企業に選ば
 れる就活生】になる方法をお伝えします！！一緒に、
 『第一志望の企業』や『複数の志望企業』から内定を
 もらえる就活生の共通点を考察していきましょう！本
 イベントにて話をする講師は、なんと！！Yahoo!のコン
 サルマネージャー出身で現在マーケティング会社を経
 営している一流ビジネスマン例えばこんな希望を持っ
 ている方・早期内定を持ってる状態で3月からの就活本
 格化に備えたい！・周りの友達よりも凄い企業からの
 内定をgetして尊敬されたい！こんな悩みを持っている
 方・就活をはじめてはみたけど自分の長所が見つから
 ない・・・・正直、自分の売りポイントを見つけ出し
 て欲しい・・・・自己PRでライバルを圧倒できるよう
 な突出してる点ってどうやって見つけるの？こんな方
 に！！たった２時間で目から鱗の就活術を伝授いたし
 ます！そして、学生視点では気づけない、学校のキャ
 リアサポートでも教えてくれない、大企業で人事経験
 もある一流のビジネスマンだからこそ話せる複数内定
 をgetするライバル達の就活術を是非学んでいってくだ
 さい！\n\n\n⇩　過去の参加者の声　⇩\n\n・YMさん（大
 学1年生文学部）\nコロナがいつ終息するか分からず漠
 然とした不安やモヤモヤを引きずったままでした。で
 も、今の自分を変えて、想像している未来に近づくた
 めのスキルを身につけていこうと思います！！\n\n・ST
 さん（大学1年生商学部）\n人生経験が豊富な福田さん
 のお話を聞けたことで、将来に対するモヤモヤの糸を
 一つ一つほどけた気がします！大学後期が始まるので
 早速教えていただいた行動を行っていこうと思います
 ！あと、福田さんが元音楽家で現在マーケターと言う
 職業の振れ幅が大きくて驚きました。\n\n\n\nタイムス
 ケジュール\n\n\n\n時間\n内容\n\n\n18:30\nzoom開場\n\n\n19:00\n
 \nオープニング・アイスブレイク\n\n\n\n19:30\n\n就活、そ
 してその後の人生の歩み方を変える行動力の高め方\n
 福田 正義\n元Yahoo!Japanコンサルティングマネージャー\n
 merc Education　代表・講師\nマーベリック株式会社　執行
 役員\n\n\n\n20:30\n座談会・相談会\n\n\n21:00\n\n閉会\n\n\n\n\n
 ※ 当日予告なく時間配分・内容が変更になる可能性が
 ございます。\n参加対象\n・大学生\n持ち物\nなし\n参加
 費\n無料\nハッシュタグ\n#techplayjp\n注意事項\n※ 参加を
 辞退する場合は、詳細ページより申込のキャンセルを
 お願い致します。※ 無断キャンセル・欠席が続く場合
 、次回以降の参加をお断りさせていただく場合がござ
 いますのでご了承ください。\n 
LOCATION:オンライン
URL:https://techplay.jp/event/794538?utm_medium=referral&utm_source=ics&utm
 _campaign=ics
END:VEVENT
END:VCALENDAR
