BEGIN:VCALENDAR
VERSION:2.0
PRODID:-//https://techplay.jp//JP
CALSCALE:GREGORIAN
METHOD:PUBLISH
X-WR-CALDESC:【オンライン開催】コストを抑えた日本品質
 のグローバルゲームアプリ開発手法 〜低コストでも妥
 協しない高機能・高品質なmade in JAPANアプリを作る〜
X-WR-CALNAME:【オンライン開催】コストを抑えた日本品質
 のグローバルゲームアプリ開発手法 〜低コストでも妥
 協しない高機能・高品質なmade in JAPANアプリを作る〜
X-WR-TIMEZONE:Asia/Tokyo
BEGIN:VTIMEZONE
TZID:Asia/Tokyo
BEGIN:STANDARD
DTSTART:19700101T000000
TZOFFSETFROM:+0900
TZOFFSETTO:+0900
TZNAME:JST
END:STANDARD
END:VTIMEZONE
BEGIN:VEVENT
UID:794649@techplay.jp
SUMMARY:【オンライン開催】コストを抑えた日本品質のグ
 ローバルゲームアプリ開発手法 〜低コストでも妥協し
 ない高機能・高品質なmade in JAPANアプリを作る〜
DTSTART;TZID=Asia/Tokyo:20201028T160000
DTEND;TZID=Asia/Tokyo:20201028T173000
DTSTAMP:20260422T092312Z
CREATED:20200929T140009Z
DESCRIPTION:イベント詳細はこちら\nhttps://techplay.jp/event/79464
 9?utm_medium=referral&utm_source=ics&utm_campaign=ics\n\nオンライン
 セミナーについて\n\n新型コロナウイルス感染症の現状
 を鑑み、お客様およびスタッフの健康・安全面を考慮
 し、オンラインセミナー形式での実施となります。\n
 ご登録頂いた方に、個別にオンラインセミナーURLのご
 案内をセミナー前日午前にメールで差し上げる予定で
 す。\n\nグローバル展開を念頭にあたためたゲーム構想
 をどう実現するか、現実的には機能要件や品質、費用
 、納期のバランスに頭を悩ませることになります。\n
 チート対策を怠るとゲームの収益性やゲームバランス
 に影響を与える可能性があるし、エラー頻発ではアプ
 リ継続率の低下は避けられない…\n高機能・高品質な
 アプリを作るとなると費用感が確実に跳ね上がります
 が、もしコストダウンできたとしても日本のゲームだ
 と期待したユーザに残念な印象を与えたくありません
 。\n\n本セミナーでは、グローバル展開を念頭にゲーム
 アプリを開発する際に、いかに高機能・高品質、でも
 コストを抑えられるかといった観点でお話します。特
 に日本、アメリカ、中国、東南アジアなどに展開した
 り支援してきた経験から、ゲーム会社がグローバル展
 開を念頭においた際に必要とする機能やセキュリティ
 、品質など、いかに効率的に担保・実装するかといっ
 たあたりについて、統合クラウドサービス「TOAST」を
 提供するNHN JAPAN株式会社、楽しくゲームをするための
 当たり前品質を担保し、長く継続的に使ってもらうノ
 ウハウや、品質を通じてアプリの新規ダウンロード率
 を改善する手法など、アプリのエラー・クラッシュ解
 析ツール「SmartBeat」を提供するFROSK株式会社より講演
 いたします。\n\n\n<講演1>不正行為からゲームを守る！N
 HNのチート対策方法（仮）\n\nNHN JAPAN株式会社 クラウド
 事業推進室 マーケティングマネージャー 伊藤 史亮\n
 インフラエンジニアやセキュリティベンダーでのテク
 サポを経て、出向先ベンチャー企業でマーケティング
 統括を経験。 2018年にNHN JAPANに入社し、TOASTの立ち上げ
 時から事業推進兼マーケティングを担当している。\n
 エンジニアとマーケティングのハイブリッド人材とし
 てTOASTの成長に尽力しています。\n\n\n<講演2>“あの”
 大手ゲーム企業もやっている、ユーザーの不満を最小
 化し継続率を10%上げる品質管理手法\n\nFROSK株式会社　
 プロダクトマネージャー 仲井裕紀\nリクルートにて新
 規事業の立ち上げやグロースを経て、2017年にFROSK株式
 会社に入社。サービスを通して得た有名アプリのグロ
 ース手法や品質管理方法について、情報提供を続けて
 いる。認定スクラムプロダクトオーナー。\n\n\n■開催
 概要\n\n日程：2020年10月28日（水）\n時間：16:00～17:30（1
 5:50からアクセス可能）\n会場：オンライン（zoomによる
 開催予定、URLはセミナー前日までにメールでご案内予
 定）\n参加：無料\n\n\n■スケジュール（予定）\n\n15:50
 ：開場\n16:00〜：セミナー開始、NHN JAPAN講演、質疑\n16:4
 0ごろ〜：FROSK講演、質疑\n\n\n■注意事項など\n\n・当社
 判断によりフリーランスや競合他社など一部の方の参
 加をお断りさせていただく場合がございます。あらか
 じめご了承ください。\n・取得した個人情報について
 は、主催・共催会社においてイベントに関するお問い
 合わせならびに主催・共催各社の個別毎の今後のセミ
 ナー情報・商品情報などの告知のため共同利用させて
 いただきます。\n\n\n■個人情報保護方針について\n\n今
 回ご提供いただく個人情報は、NHN JAPAN株式会社、FROSK
 株式会社が取り扱い、各社の個人情報保護方針に基づ
 き厳重に管理いたします。お申し込みいただいた方は
 個人情報の内容に同意したとみなします。\nNHN JAPAN株
 式会社　プライバシーポリシー　http://www.nhn-japan.com/leg
 al/privacy.nhn\nFROSK株式会社　プライバシーポリシー　http
 s://smrtbeat.com/privacy/\n\n\n■お問合せ\n\nFROSK株式会社セミ
 ナー運営事務局　\nEmail: cs@frosk.co.jp\n
LOCATION:オンライン
URL:https://techplay.jp/event/794649?utm_medium=referral&utm_source=ics&utm
 _campaign=ics
END:VEVENT
END:VCALENDAR
