BEGIN:VCALENDAR
VERSION:2.0
PRODID:-//https://techplay.jp//JP
CALSCALE:GREGORIAN
METHOD:PUBLISH
X-WR-CALDESC:※オンラインセミナー※　いまさら聞けない!?
  超初心者様のためのSEOセミナー
X-WR-CALNAME:※オンラインセミナー※　いまさら聞けない!?
  超初心者様のためのSEOセミナー
X-WR-TIMEZONE:Asia/Tokyo
BEGIN:VTIMEZONE
TZID:Asia/Tokyo
BEGIN:STANDARD
DTSTART:19700101T000000
TZOFFSETFROM:+0900
TZOFFSETTO:+0900
TZNAME:JST
END:STANDARD
END:VTIMEZONE
BEGIN:VEVENT
UID:794681@techplay.jp
SUMMARY:※オンラインセミナー※　いまさら聞けない!? 超
 初心者様のためのSEOセミナー
DTSTART;TZID=Asia/Tokyo:20201009T150000
DTEND;TZID=Asia/Tokyo:20201009T163000
DTSTAMP:20260422T021240Z
CREATED:20200929T154046Z
DESCRIPTION:イベント詳細はこちら\nhttps://techplay.jp/event/79468
 1?utm_medium=referral&utm_source=ics&utm_campaign=ics\n\nいまさら聞
 けない!?超初心者様のためのSEOセミナー\n\n意外と知ら
 ない人はまだまだいますのでご安心ください。\n聞く
 だけであなたも今日から脱初心者！\nわかっているよ
 うでわかっていない「SEOのイロハ」を\nわかりやすく
 解説します。\n概要\nSEOとは、”Search Engine Optimization” 
 の略で「検索エンジン最適化」を意味する言葉です。
 わかりやすく言えば、ホームページが検索結果の上位
 に表示されやすくするために行う取り組みのことです
 。そんな中、株式会社ディテイルクラウドクリエイテ
 ィブでは「いまさら聞けない!?超初心者様のためのSEO
 セミナー」と題しまして、無料セミナーを開催してお
 ります。\n\nホームページで、いくら便利なサービスや
 、優れた商品を提供していたとしてもユーザーがそこ
 にたどり着けなければ意味がありません。\nつまり、
 ホームページを作っただけで売上が上がるとは限らな
 いのです。\nホームページを作りました・・・だけで
 は砂漠に看板を立てたようなものです。\nその際に、
 お客様をホームページに呼ぶ手法の1つがSEOです。\n\n\n
 ・SEOと聞いてもよく分からない\n・アナリティクスっ
 てなに？\n・マイビジネス？地図？よくわからない・
 ・・\n・どこから手をつけたらいいか悩んでいる\n・自
 社製品を売りだして知名度を上げたいけど、どんな施
 策を打てばいいか分からない。\n・スタートアップ企
 業として走り出したばかりで予算がない\n・広告費を
 かけられない\n・低コストで自社商品について多くの
 人に知ってもらいたい！\n・広告宣伝費をかけて広告
 を出しているけど、効果がいまひとつ...\n・SEOが必要
 だということは理解している\n・自分はSEOの基本的な
 ことが分かっているのか確認したい\n・社員からSEOと
 言われて困っている\n・制作会社のいうSEOが本当なの
 か確かめたい\n\nこれからSEOを身につけたいとお考えの
 超初心者様の方でも安心して学べるよう、分かりやす
 くかみ砕いてご説明させて頂いております。これまで
 に多くの皆さまにご参加いただいている、大好評のSEO
 セミナーをさらに超初心者様向けにかみ砕いてわかり
 やすく、解説した内容となっております。ぜひともご
 参加ご検討ください。皆さまのご参加、お待ちいたし
 ております。\n気になるセミナー内容とは？\n気になる
 セミナーの内容とは、、、\n\n\n\nまずは基本をおさえ
 ましょう。\n\n・そもそもSEOとは？\n・SEOはなぜ必要？\
 n・SEOの基本戦略とは？\n\n\n\n検索キーワードを見つめ
 なおす。\n\n・検索キーワードとは？\n\n\n\nSEOは自分の
 ホームページの今を知ることから始まる。\n\n・ホーム
 ページを知るってどういうこと？\n・アナリティクス
 、サーチコンソールとは？\n\n\n\nコンテンツマーケテ
 ィングは絶対外せません。\n\n・コンテンツマーケティ
 ングとは？\n\n\n\nマイビジネスを活用しないなんても
 ったいない。\n\n\n\nタイムスケジュール\n\n\n\n時間\n内
 容\n\n\n12:45〜\n受付開始\n\n\n13:00〜14:45\nいまさら聞けな
 い!?超初心者様のためのSEOセミナー\n\n\n14:45～15:00\nア
 ンケート記入\n\n\n\n※ 当日予告なく時間配分・内容が
 変更になる可能性がございます。\n登壇者\n\n名取　雄
 介　\n株式会社ディテイルクラウドクリエイティブ営
 業部 執行役員\n参加対象\n・基本どなたでもご参加い
 ただけます。\n※ リクルーティング、勧誘など、採用
 目的でのイベント参加はお断りしております。 ※ 飲
 食のみを目的としたご応募・ご来場はご遠慮ください
 。 ※ 補欠者の方は、ご来場いただいてもご入場いた
 だくことが出来ませんのでご了承ください。\n持ち物\n
 なし\n参加費\n無料\n注意事項\n※ 参加を辞退する場合
 は、詳細ページより申込のキャンセルをお願い致しま
 す。※ 無断キャンセル・欠席が続く場合、次回以降の
 参加をお断りさせていただく場合がございますのでご
 了承ください。\n 
LOCATION:オンライン
URL:https://techplay.jp/event/794681?utm_medium=referral&utm_source=ics&utm
 _campaign=ics
END:VEVENT
END:VCALENDAR
