BEGIN:VCALENDAR
VERSION:2.0
PRODID:-//https://techplay.jp//JP
CALSCALE:GREGORIAN
METHOD:PUBLISH
X-WR-CALDESC:『ビジネススキルの高いデータ活用人材と育
 成』webセミナー
X-WR-CALNAME:『ビジネススキルの高いデータ活用人材と育
 成』webセミナー
X-WR-TIMEZONE:Asia/Tokyo
BEGIN:VTIMEZONE
TZID:Asia/Tokyo
BEGIN:STANDARD
DTSTART:19700101T000000
TZOFFSETFROM:+0900
TZOFFSETTO:+0900
TZNAME:JST
END:STANDARD
END:VTIMEZONE
BEGIN:VEVENT
UID:794711@techplay.jp
SUMMARY:『ビジネススキルの高いデータ活用人材と育成』w
 ebセミナー
DTSTART;TZID=Asia/Tokyo:20201015T173000
DTEND;TZID=Asia/Tokyo:20201015T190000
DTSTAMP:20260423T201323Z
CREATED:20200930T025741Z
DESCRIPTION:イベント詳細はこちら\nhttps://techplay.jp/event/79471
 1?utm_medium=referral&utm_source=ics&utm_campaign=ics\n\n\n『ビジネ
 ススキルの高いデータ活用人材と育成』webセミナー\n
 データサイエンティスト協会では、分析・データサイ
 エンスの実務に携わる方を対象に、スキルアップとコ
 ミュニケーションの場の創出を目的として、セミナー
 を行っています。今回は以下の講演を開催いたします
 。\n概要説明\nデータサイエンティスト協会では、デー
 タサイエンティストに必要なスキルセットとして、「
 データサイエンス力」「データエンジニアリング力」
 「ビジネス力」の３つを定義しています。（https://www.d
 atascientist.or.jp/common/docs/skillcheck_ver3.00.pdf）これらのう
 ち、本セミナーでは、「ビジネス力」をテーマとして
 取り上げ、なぜデータサイエンティストにビジネス力
 が必要なのか、そのようなスキルを持つ人材をどう育
 成していくか、について、実際のデータ活用ビジネス
 の現場で、ビジネスコンサルティングや人材育成に携
 わる講演者が、実体験をもとにお話しします。 後半の
 パネルディスカッションでは、データ分析業務に携わ
 る事業者や、データサイエンティストの教育に携わる
 大学関係者をパネラーに加え、コロナ時代におけるデ
 ータサイエンティストの育成について、各社の取り組
 みやアカデミック観点からの提言などについて議論し
 ます。\n\n講演1：『AI・データ利活用継続の鍵はビジネ
 ススキル』\nデータサイエンスに、なぜ、ビジネス力
 が必要なのでしょうか？AI・データ利活用を推進して
 いくにあたり、DX時代に必要なビジネス力について、
 お話致します。\n講演2：『DX時代に価値を示せるデー
 タ活用人材育成』\nDXの実現に向け、人材に求められる
 スキルやレベルはなにか、いかにそれらの人材を確保
 し育成するか、組織はどうあるべきか、についてお話
 致します。\nパネルディスカッション：『コロナ時代
 におけるデータサイエンティストの育成』\n\n登壇者\n\
 n\n\n\n\n\nNECAI・アナリティクス事業部マネージャー\n澤
 田 直樹氏\n\n当初、レガシーシステムの開発SEに従事。
 その後、技術営業を得て、2014年より、AI・アナリティ
 クス事業に携わる。現在は、製造・交通・通信など、A
 I・データ利活用の導入を推進中。\n\n\n日本アイ・ビー
 ・エム株式会社GBS事業 Cognitve Process Transformation\, Cognitve
  & Analyticsパートナー\n渡辺 圭吾氏\n\n国立大学工学部を
 卒業後、ITベンダー、コンサルティングファームを経
 て、IBMビジネスコンサルティングサービスに入社、現
 在にいたる。AI、アナリティックスを活用した業務改
 革、システム導入を得意とする。\n\n\n株式会社イオン
 銀行リテール戦略統括部 アナリティクスセンターセン
 ター長\n岩波 俊哉氏\n\n2018年 株式会社 イオン銀行入社
 。イオン銀行におけるデータ分析業務拡充を目的に創
 設されたアナリティクスセンターにおいて、データ分
 析人材の育成、分析環境の拡充、データ分析業務推進
 に従事。\n\n\n国立大学法人電気通信大学特任教授\n斉
 藤 史朗氏\n\n2019年10月まで民間のデータサイエンス企
 業にてデータサイエンス・プロジェクトに従事。電気
 通信大学に移り、大学院生および社会人に対する実践
 的なデータサイエンティスト育成事業(文科省のD-DRIVE)
 に従事。2019年8月よりデータサイエンティスト協会の
 事務局長を務める。近著：新刊『データサイエンティ
 ストの育て方』海文堂より11月刊行。\n\n\n株式会社電
 通データマーケティングセンター オンオフ統合ソリュ
 ーション部部長\n眞鍋 尚行氏\n\n事業会社にて、CRMの基
 盤構築・戦略立案に従事。その後、金融系シンクタン
 クにて、経営/マーケティング戦略のコンサルティング
 業務を経て、2010年株式会社電通に入社。入社後は、デ
 ータドリブンなマス広告×デジタル広告のオンオフ統
 合マーケティングを推進。DMPの開発及び、さまざまな
 クライアントに対してソリューションを提供。データ
 サイエンティスト協会企画委員長JIAA DMPワーキンググ
 ループリーダーJILIS（情報法制研究所）研究員\n\n\n\n\n
 タイムスケジュール\n\n\n\n\n時間\n講演内容\n\n\n17:30 - 17
 :35\nデータサイエンティスト協会 挨拶\n\n\n17:35 - 17:55\n
 『AI・データ利活用継続の鍵はビジネススキル』 NEC　
 澤田 直樹氏\n\n\n17:55 - 18:15\n『DX時代に価値を示せるデ
 ータ活用人材育成』 日本アイ・ビー・エム株式会社　
 渡辺 圭吾氏\n\n\n18:15 - 18:55\n『コロナ時代におけるデー
 タサイエンティストの育成』 【パネリスト】NEC　澤田
  直樹氏、日本アイ・ビー・エム株式会社　渡辺 圭吾
 氏、株式会社イオン銀行　岩波 俊哉氏、国立大学法人
 電気通信大学　斉藤 史朗氏【モデレーター】株式会社
 電通　眞鍋 尚行氏\n\n\n18:55 - 19:00\nデータサイエンティ
 スト協会 挨拶\n\n\n\n\n参加対象\n\n本セミナーに興味が
 ある方どなたでもご参加いただけます。\n※ データサ
 イエンティスト協会の一般（個人）会員ではない方は
 、参加時に会員登録（無料）をお願いしております。\
 n\n参加費\n無料\n参加方法\nお申し込み後に本ページを
 開いていただくと、「配信ページを表示」ボタンが表
 示されますので、そちらからYouTubeへアクセス願います
 。\n注意事項\n\n\n通信等の不具合により、やむを得ず
 配信方法の変更や急きょ配信を中止する場合がありま
 す。\n配信側の回線状況により通信が切断された場合
 、YouTubeのURLが変更となりますので、画面を再読み込み
 しても再生されない場合は、再度本ページの「配信ペ
 ージを表示」ボタンよりアクセス願います。\n現時点
 でアーカイブ・講演資料の公開予定はありません。\n
 セミナー内容の録画や画面キャプチャはご遠慮願いま
 す。\n\nお申し込み時にご提供いただいた情報は、一般
 社団法人データサイエンティスト協会に提供し、イベ
 ント参加管理と今後のイベント開催等のご案内に利用
 させていただきます。 上記にご同意のうえお申し込み
 ください。\n お願い \nデータサイエンティスト協会の
 一般（個人）会員に未登録の方は、以下より事前登録
 （無料）ください。\nhttp://www.datascientist.or.jp/membership/\n
 \n主催\n一般社団法人データサイエンティスト協会\n\n
LOCATION:YouTubeライブでの配信
URL:https://techplay.jp/event/794711?utm_medium=referral&utm_source=ics&utm
 _campaign=ics
END:VEVENT
END:VCALENDAR
