BEGIN:VCALENDAR
VERSION:2.0
PRODID:-//https://techplay.jp//JP
CALSCALE:GREGORIAN
METHOD:PUBLISH
X-WR-CALDESC:＼好評につき続編開催／【よなよなＨＲ＃２
 】社員のための人事領域でのデータ活用、はじめの一
 歩
X-WR-CALNAME:＼好評につき続編開催／【よなよなＨＲ＃２
 】社員のための人事領域でのデータ活用、はじめの一
 歩
X-WR-TIMEZONE:Asia/Tokyo
BEGIN:VTIMEZONE
TZID:Asia/Tokyo
BEGIN:STANDARD
DTSTART:19700101T000000
TZOFFSETFROM:+0900
TZOFFSETTO:+0900
TZNAME:JST
END:STANDARD
END:VTIMEZONE
BEGIN:VEVENT
UID:794714@techplay.jp
SUMMARY:＼好評につき続編開催／【よなよなＨＲ＃２】社
 員のための人事領域でのデータ活用、はじめの一歩
DTSTART;TZID=Asia/Tokyo:20201012T193000
DTEND;TZID=Asia/Tokyo:20201012T210000
DTSTAMP:20260419T233259Z
CREATED:20200930T042119Z
DESCRIPTION:イベント詳細はこちら\nhttps://techplay.jp/event/79471
 4?utm_medium=referral&utm_source=ics&utm_campaign=ics\n\n【よなよな
 ＨＲ＃２】社員のための人事領域でのデータ活用、は
 じめの一歩\n概要\n＜よなよなＨＲ第二弾＞\n前回、語
 り切れなかった、人事＆データ活用について更に深く
 、ゆる～く語り合います！\n”データ活用”という言
 葉が浸透し始めてしばらく経ちましたが、実際の現場
 ・業務に浸透しているケースはそれほど多くないのが
 実情かもしれません。データ活用の話の前に・・・\n\n
 自社のことをもっと理解してもらえる採用方法とは？\
 n社員のためになる1on1の実施方法とは？\n社員の働きや
 すさを向上させるためのサーベイとは？\n労務管理っ
 て、ログを取るものではないの？\n\nそんなお悩みに応
 えるべく、数多のＨＲ戦場を駆け抜けてきた２名をお
 迎えして、よなよなだからこそ！のぶっちゃけトーク
 セッションを開催いたします！登壇者も（!?）お酒を
 嗜みながらのセッションとなりますので、皆様も夕食
 や晩酌のおともにぜひご視聴ください。\n【本セミナ
 ーのポイント】\n\n社員のためになる人事のデータ活用
 の糸口が見つかる\nそもそも「何をすればいいのか分
 からない」というお悩みを解決するヒントが得られる\
 n明日から始められる”社員のための人事データの活用
 ”に向けたアクションが分かる\n\n 参加をオススメし
 たい方\n\n優先的に取り組むべき課題が見いだせずにお
 悩みの人事ご担当者さま\nどうすれば社員のためにな
 るデータ活用が出来るのか知りたい方\n同じようなお
 悩みを持っている会社の話を聞いてみたい方\n人事・
 総務・労務などの部門のご担当者・マネージャ・責任
 者の皆さま\n現場で人事に関するお悩みを抱えている
 方\n\nタイムスケジュール\n\n\n\n時間\n内容\n\n\n19:25〜\n
 開場\n\n\n19:30〜21:00\n\n\n\n人事あるある早く言いたい\n\n
 \nおかんがデータの使い方を忘れたらしくてな\n\n\nリ
 アルガチな「はじめの一歩」\n\n\nQ&A\n\n\n\n\n\n\n※前回
 とは異なるテーマでお話ししますので、今回初めての
 方もお気軽にご参加ください！※ 当日予告なく時間配
 分・内容が変更になる可能性がございます。※本セミ
 ナーはオープンイベントですが、同業他社様からのお
 申込みはお断りさせて頂く場合がございます。※ リク
 ルーティング、勧誘など、採用目的でのイベント参加
 はお断りしております。\n登壇者\n\n吉澤 満久\n株式会
 社groovesWorkShift Platform 事業部事業開発・Salesグループ　
 責任者\n企業向け採用コンサルティング業務を担当し
 、300社以上の企業に対して採用支援を実施。また、人
 材紹介会社向けの支援担当責任者として、1\,000社以上
 の人材紹介会社のコンサルティング業務に従事。経営
 企画室へ異動後は、地方創生担当として地方銀行との
 提携を推進。その後、人材紹介事業における独立開業
 支援サービスの新規事業立ち上げ責任者として、500名
 以上の独立開業希望者への開業コンサルティングと研
 修講師を担当。現在は、grooves全社のSales部門と外部企
 業連携を担当する事業開発部門の責任者を担当。\n\n\n
 井上 直貴\n株式会社エクサウィザーズプロダクト営業
 部プロダクト営業グループ\n株式会社マイナビで約8年
 採用コンサルティングを行う。東京で大手製薬、治験
 、食品、化繊、消費財、専門商社、小売り、保険薬局
 等、約300社の採用支援に携わる。エクサウィザーズで
 は、AIを利活用したHRtechを中心に、クライアントの採
 用と人事におけるDX推進に向けて取り組んでいる。\n\n
 参加費\n無料\n注意事項\n※ 参加を辞退する場合は、詳
 細ページより申込のキャンセルをお願い致します。※ 
 無断キャンセル・欠席が続く場合、次回以降の参加を
 お断りさせていただく場合がございますのでご了承く
 ださい。\n 
LOCATION:オンライン
URL:https://techplay.jp/event/794714?utm_medium=referral&utm_source=ics&utm
 _campaign=ics
END:VEVENT
END:VCALENDAR
