BEGIN:VCALENDAR
VERSION:2.0
PRODID:-//https://techplay.jp//JP
CALSCALE:GREGORIAN
METHOD:PUBLISH
X-WR-CALDESC:Security-JAWS  [AWS Security Roadshow Japan 2020] 特別拡大
 版 2020年10月28日(水)
X-WR-CALNAME:Security-JAWS  [AWS Security Roadshow Japan 2020] 特別拡大
 版 2020年10月28日(水)
X-WR-TIMEZONE:Asia/Tokyo
BEGIN:VTIMEZONE
TZID:Asia/Tokyo
BEGIN:STANDARD
DTSTART:19700101T000000
TZOFFSETFROM:+0900
TZOFFSETTO:+0900
TZNAME:JST
END:STANDARD
END:VTIMEZONE
BEGIN:VEVENT
UID:795374@techplay.jp
SUMMARY:Security-JAWS  [AWS Security Roadshow Japan 2020] 特別拡大版 2
 020年10月28日(水)
DTSTART;TZID=Asia/Tokyo:20201028T163000
DTEND;TZID=Asia/Tokyo:20201028T190000
DTSTAMP:20260425T191347Z
CREATED:20201005T140019Z
DESCRIPTION:イベント詳細はこちら\nhttps://techplay.jp/event/79537
 4?utm_medium=referral&utm_source=ics&utm_campaign=ics\n\nSecurity-JAWSは
 、AWS＋Securityをコンセプトに立ち上げられた勉強会に
 なります。\nSecurity-JAWS  [AWS Security Roadshow Japan 2020] 特別
 拡大版はオンラインの開催です。\n\nAWS Security Roadshow Ja
 pan 2020\n\nURLは下記：\nhttps://aws.amazon.com/jp/about-aws/events/2
 020/securityroadshow2020/\n\n開催概要\n\n【日時】\n2020年10月28
 日(水)　17:00～18:30（開場16:30\,前説17:00）\n\nスケジュー
 ル 講師\n\n\n\n時間\n内容\n登壇者\n\n\n\n16:30\n受け付け開
 始\n\n\n\n17:00～17:10\n開催挨拶\n\n\n\n17:10～17:35\nSession1: AW
 S Security & Compliance エキスパートトーク\nAWS 高橋悟史さ
 ん、AWS高野 敦史さん、AWS松本 照吾さん\n\n\n17:35～18:00\
 nSession2: オープンソースで公開した「SIEM on Amazon Elastics
 earch Serviceの紹介」\nAWS 中島 章博さん\n\n\n18:00～18:25\nSe
 ssion3: パネルディスカッション「セキュリティログ分
 析・運用を上手いことやるには」\nAWS 松本 照吾さん、
 AWS中島 章博さん、Security-JAWSメンバー\n\n\n18:25〜18:30\n
 クロージング\n\n\n\n\nTwitter\n\nTW: https://twitter.com/security_j
 aws\nハッシュタグは#secjaws #secjawsroadshow #jawsug\nです。\n\
 n参加者への注意事項\n\n\nイベントについてのTwitterやSN
 Sへの投稿は、原則OKですが、投稿についてNGな部分は
 講師の方々に従いましょう。\n\n\n以上のルールをご理
 解下さい。\n\n登壇者の方々へ\n\n\n本ページへの申込み
 をお願いいたします。\n\n\nリモート配信について\n\n今
 回は、YoutubeLive を使ったリモート配信を行います。\n
 当日16:30を過ぎてから、Youtube URLに接続いただけると幸
 いです。\nURLはオンラインイベントへのリンクをご確
 認ください。\n\n質問受付について\n\nTwitterで質問を投
 稿してもらえれば、可能な限り拾います。\n\n運営メン
 バー\n\n南原 正樹\n吉江 瞬\n吉田 浩和\n臼田 佳祐 \n齊
 藤 愼仁\n大竹 孝昌\n好光 泰章\n佐々木 大輔\n他1名
LOCATION:オンライン
URL:https://techplay.jp/event/795374?utm_medium=referral&utm_source=ics&utm
 _campaign=ics
END:VEVENT
END:VCALENDAR
