BEGIN:VCALENDAR
VERSION:2.0
PRODID:-//https://techplay.jp//JP
CALSCALE:GREGORIAN
METHOD:PUBLISH
X-WR-CALDESC:法人向け Fusion 360 CAMセミナー(2日間)　  11/16(月
 ) 〜 11/17(火)東京会場
X-WR-CALNAME:法人向け Fusion 360 CAMセミナー(2日間)　  11/16(月
 ) 〜 11/17(火)東京会場
X-WR-TIMEZONE:Asia/Tokyo
BEGIN:VTIMEZONE
TZID:Asia/Tokyo
BEGIN:STANDARD
DTSTART:19700101T000000
TZOFFSETFROM:+0900
TZOFFSETTO:+0900
TZNAME:JST
END:STANDARD
END:VTIMEZONE
BEGIN:VEVENT
UID:795719@techplay.jp
SUMMARY:法人向け Fusion 360 CAMセミナー(2日間)　  11/16(月) 〜
  11/17(火)東京会場
DTSTART;TZID=Asia/Tokyo:20201116T100000
DTEND;TZID=Asia/Tokyo:20201117T173000
DTSTAMP:20260421T181200Z
CREATED:20201008T074737Z
DESCRIPTION:イベント詳細はこちら\nhttps://techplay.jp/event/79571
 9?utm_medium=referral&utm_source=ics&utm_campaign=ics\n\n法人向け Fus
 ion 360 CAMセミナー\nFusion 360を導入後、実務で必要なコ
 マンドのオペレーションを理解して頂くためのセミナ
 ーです。\n概要\nFusion 360 CAMを使用した・2軸・3軸・穴
 加工ツールパスの作成方法・工具の登録方法・NCデー
 タの出力方法などFusion360を実務で使えるようオペレー
 ションを理解していただくためのセミナーです。\nタ
 イムスケジュール\n\n\n参加対象\nこれから3DCADソフト"Fu
 sion 360"の知識やスキルを学びたい法人の方\n持ち物\n特
 になし（筆記用具程度）\n※レンタルPCあり\n参加費\n10
 0\,000円（税別、教材費含む）\nお申し込み方法\n以下の
 お申込サイトよりお申し込みください。https://bizroad-svc
 .com/fusion360-cam/\n \n\n⇒法人CADセミナーはこちら
LOCATION:株式会社VOST 東京都千代田区内神田3-24-3 VORT内神
 田ビル6F
URL:https://techplay.jp/event/795719?utm_medium=referral&utm_source=ics&utm
 _campaign=ics
END:VEVENT
END:VCALENDAR
