BEGIN:VCALENDAR
VERSION:2.0
PRODID:-//https://techplay.jp//JP
CALSCALE:GREGORIAN
METHOD:PUBLISH
X-WR-CALDESC:DMUウィーク【未経験/初心者向け】デジタルマ
 ーケティングの基礎の基礎
X-WR-CALNAME:DMUウィーク【未経験/初心者向け】デジタルマ
 ーケティングの基礎の基礎
X-WR-TIMEZONE:Asia/Tokyo
BEGIN:VTIMEZONE
TZID:Asia/Tokyo
BEGIN:STANDARD
DTSTART:19700101T000000
TZOFFSETFROM:+0900
TZOFFSETTO:+0900
TZNAME:JST
END:STANDARD
END:VTIMEZONE
BEGIN:VEVENT
UID:796041@techplay.jp
SUMMARY:DMUウィーク【未経験/初心者向け】デジタルマーケ
 ティングの基礎の基礎
DTSTART;TZID=Asia/Tokyo:20201028T193000
DTEND;TZID=Asia/Tokyo:20201028T203000
DTSTAMP:20260425T195734Z
CREATED:20201012T014423Z
DESCRIPTION:イベント詳細はこちら\nhttps://techplay.jp/event/79604
 1?utm_medium=referral&utm_source=ics&utm_campaign=ics\n\nデジタルマ
 ーケティングの基礎の基礎\n概要\n「デジタルトランス
 フォーメーション」「マーケティングオートメーショ
 ン」というワードを耳にする機会は増えていませんか
 ？ デジタルマーケティングは企業の収益活動を変貌さ
 せており、それを担うデジタルマーケターの必要性が
 高まっています。本セミナーでは、身近な事例を使い
 ながら、デジタルマーケティング初心者の方向けにデ
 ジタルマーケティングの潮流、デジタルマーケターの
 重要性をお話しします。●アジェンダデジタルマーケ
 ティングとは何かデジタルマーケティングの事例デジ
 タルマーケティングの人と組織■こんな人にオススメ
 ・マーケティング領域の仕事に関心がある・他社の具
 体的な事例を知りたい・デジタルマーケターのキャリ
 アに興味がある\n\n登壇者\n\n山田　功生（やまだ　い
 さお）\n株式会社DMU　取締役\n2005年 株式会社マイナビ
 入社。教育研修事業部の商品開発責任者、事業推進責
 任者を務める。自身が開発したムビケーション学習ス
 タイルにて第6回HRチャレンジ大賞「人材サービス優秀
 賞」受賞。2017年同社退社/独立。2018年デジタルマーケ
 ティング人材育成事業の株式会社DMUを設立。ソウルに
 て就活支援スペース「KOREC」を設立、韓国人学生の日
 本就職支援を行なっている。\n持ち物\nなし\n参加費\n
 無料\nハッシュタグ\n#techplayjp\n注意事項\n※1申込につ
 き1名が参加可能となっております。2名以上での参加
 を希望する場合は、個人単位でお申し込みください。
 ※弊社の競合となるサービスをお持ちの企業様のご参
 加につきましては、お断りさせていただく可能性がご
 ざいます。\n\n■主催元についてDMUウイークは、デジタ
 ルマーケター育成を専門としたスクール事業を提供す
 る株式会社DMUが主催となっております。\n http://dmu.co.jp
 /
LOCATION:オンライン
URL:https://techplay.jp/event/796041?utm_medium=referral&utm_source=ics&utm
 _campaign=ics
END:VEVENT
END:VCALENDAR
