BEGIN:VCALENDAR
VERSION:2.0
PRODID:-//https://techplay.jp//JP
CALSCALE:GREGORIAN
METHOD:PUBLISH
X-WR-CALDESC:「ショップフロアからスマートプロダクトへ
 ～デジタル化を推進するデジタルツイン」セミナー　2
 020年11月6日開催
X-WR-CALNAME:「ショップフロアからスマートプロダクトへ
 ～デジタル化を推進するデジタルツイン」セミナー　2
 020年11月6日開催
X-WR-TIMEZONE:Asia/Tokyo
BEGIN:VTIMEZONE
TZID:Asia/Tokyo
BEGIN:STANDARD
DTSTART:19700101T000000
TZOFFSETFROM:+0900
TZOFFSETTO:+0900
TZNAME:JST
END:STANDARD
END:VTIMEZONE
BEGIN:VEVENT
UID:796048@techplay.jp
SUMMARY:「ショップフロアからスマートプロダクトへ～デ
 ジタル化を推進するデジタルツイン」セミナー　2020年
 11月6日開催
DTSTART;TZID=Asia/Tokyo:20201106T160000
DTEND;TZID=Asia/Tokyo:20201106T170000
DTSTAMP:20260420T110410Z
CREATED:20201012T025135Z
DESCRIPTION:イベント詳細はこちら\nhttps://techplay.jp/event/79604
 8?utm_medium=referral&utm_source=ics&utm_campaign=ics\n\n「ショップ
 フロアからスマートプロダクトへ～デジタル化を推進
 するデジタルツイン」セミナー　2020年11月6日開催\n概
 要\n昨今、ビジネスや社会のデジタル化が進行してい
 ます。 ドイツでは、第4次産業革命を表す”Industry 4.0
 ”の概念が導入されました。 機械化（第一次）、大量
 生産（第二次）、自動化（第三次）の波に続くのは何
 でしょうか？それは、人工知能（AI）を使用してシミ
 ュレーションやプロセスの最適化ができる、仮想空間
 と現実空間を統合した環境を構築し、それを活用する
 ことです。\nこのデジタル化は社会にも波及していま
 す。日本ではそれをSociety 5.0と呼び、政府はデジタル
 庁の創設も含めて強力に推進しています。こうしたデ
 ジタル化の根幹をなすのが、現実空間を仮想空間上で
 そのまま再現した「デジタルツイン」です。\n今回の
 セミナーでは、このデジタルツインが製造業にどのよ
 うな影響を与えるか、事例を挙げながら解説します\n
 ご興味がある方はぜひご参加ください。\nタイムスケ
 ジュール\n\n\n\n時間\n内容\n登壇者\n\n\n16:00 ～ 16:10\nご
 挨拶\n岩本　謙一郎\n（株）グローバル ブレイン スク
 エア（日本語）\n\n\n\n16:10 ～ 16:30\n\nIndustry 4.0 vs Society 5
 .0:\nSociety 5.0が実現する未来の模様\n\nローレンツ グラ
 ンラート\nCONTACT Software（英語）\n\n\n\n16:30 ～ 16:50\n\nCONT
 ACT Software ご紹介:\nIoT時代のデジタルツイン管理もでき
 るプラットフォーム、CONTACT Elementsをご紹介します。\n\
 n岩本　謙一郎\n（株）グローバル ブレイン スクエア
 （日本語）\n\n\n\n16:50 ～ 17:00\nQ&A・まとめ\n\n\n\n\n主催
 者概要\n企業のグローバル化とデジタル化を支援する
 コンサルティング会社です。PLMコンサルティングやWeb
 マーケティングや越境EC、海外展開の支援を行ってお
 ります。ドイツのCONTACT Softwareの日本販売代理店として
 実装支援します。\n\n\n\n\n\nDr. Lorenz Granrath\nBusiness Develop
 ment Japan\, CONTACT\n\n1990 年 カールスルーエ大学（Univ. of K
 arlsrube\, Germany）経営工学修士号取得\n\n1992 年～1993 年 
 東京大学 客員研究員\n1994 年 ザンクトガレン大学(Univ. 
 of Sankt Gallen\, Switzerland)経営工学博士号取得\n1990～1994 
 年 GPA AG(スイス、ザンクトガレン)\; Balzer AG(リヒテンシ
 ュタイン)\;ザンクトガレン\n大学. コンサルタント：ド
 イツ及びスイスにおける企業の生産・戦略マーケティ
 ング\n1995～1997 年 ABB-STOTZ KONTAKT GmbH(ドイツ、ハイデル
 ベルグ)\n新技術プロジェクトマネージャー\n1997～2001 
 年 GDM ドイツ国立情報処理研究所(ドイツ、ザンクトア
 ウグスティン)\n2001～2013 年 フラウンホーファー日本代
 表部 代表\n2014 年 7 月～ 産業技術総合研究所 上席イノ
 ベーションコーディネーター\n2020 年 3 月～ （独）CONTA
 CT Software 日本地域統括マネージャー\n\n\n\n\n\n(株) グロ
 ーバルブレインスクエア\n代表取締役 岩本 謙一郎\n\n
 中央クーパースアンドライブランドコンサルティング
 株式会社（後のプライスウォーターハウスクーパース
 コンサルティング株式会社、現日本IBM）に入社。以来
 、22年間にわたり主にグローバル企業のコンサルタン
 トとしてさまざまな企業の課題解決プロジェクトに携
 わる。\n\n2006年 米国南カリフォルニア大学マーシャル
 ビジネススクールのPostgraduate Advanced Management Program修了
 。\n主な講師実績\n・ビジネス・ブレークスルー大学オ
 ープンカレッジ「リーダーシップ・アクションプログ
 ラム」『ビジョン構想力講師』\n・東京商工会議所千
 代田支部主催　グローバルマーケティング講座　講師\
 n・大手総合電機メーカーグループ向け　Webサイト構築
 方法論　講師（日本語・英語）\n・大手総合電機メー
 カー系研修所　Webマーケティング 講師\n・自社主催　
 コンサルティングスキル講座\n・株式会社ビジネス・
 ブレイクスルー　法人向け研修講師\n\n\n\n\n関連リンク
 \nデジタルツインを使ったIoTプラットフォーム\n持ち物
 \nなし\n参加費\n無料 (Zoom)\nハッシュタグ\n#techplayjp\n#iot
 \n#digitaltwin\n\n\n
LOCATION:https://zoom.us/j/98618706895?pwd=Y2hRVWsrZU9WSTFPdUVFS2hoUlJYUT09
URL:https://techplay.jp/event/796048?utm_medium=referral&utm_source=ics&utm
 _campaign=ics
END:VEVENT
END:VCALENDAR
