BEGIN:VCALENDAR
VERSION:2.0
PRODID:-//https://techplay.jp//JP
CALSCALE:GREGORIAN
METHOD:PUBLISH
X-WR-CALDESC:Kubernetes Meetup Tokyo #35
X-WR-CALNAME:Kubernetes Meetup Tokyo #35
X-WR-TIMEZONE:Asia/Tokyo
BEGIN:VTIMEZONE
TZID:Asia/Tokyo
BEGIN:STANDARD
DTSTART:19700101T000000
TZOFFSETFROM:+0900
TZOFFSETTO:+0900
TZNAME:JST
END:STANDARD
END:VTIMEZONE
BEGIN:VEVENT
UID:796091@techplay.jp
SUMMARY:Kubernetes Meetup Tokyo #35
DTSTART;TZID=Asia/Tokyo:20201028T190000
DTEND;TZID=Asia/Tokyo:20201028T213000
DTSTAMP:20260424T152209Z
CREATED:20201012T061423Z
DESCRIPTION:イベント詳細はこちら\nhttps://techplay.jp/event/79609
 1?utm_medium=referral&utm_source=ics&utm_campaign=ics\n\n\n\nオンライ
 ン配信について\n今回は下記 YouTube Live でのオンライン
 開催で本日「19:00」から開始となります。\nhttps://youtu.b
 e/sOAOazECemA\n\n\n質疑について\n質疑には sli.do #k8sjp35 を
 利用します。質疑のなかから主催側でいくつか選択し
 て代理で登壇者に質問します。\nhttps://app.sli.do/event/jlpo
 0cfz\n\n\n\nKubernetes Meetup Tokyo #35 を開催します！ コンテ
 ナをデプロイできる強力なシステム Kubernetes のことを
 詳しく聞く会です！\n通常はオフライン & オンライン
 の同時開催をしていますが、近況を踏まえ前回に続き
 オンラインのみの開催となります。当日の質問は sli.do
  で受け付けます。\n\n行動規範 (Code of Conduct) について\
 nKubernetes Meetup Tokyoは、Kubernetesユーザが集まり、Kubernete
 sやKubernetesを使ったソフトウェアについて情報交換、
 交流をするための勉強会です。勉強会の開催を通じて
 、Kubernetesのユーザが一堂に集まり、Kubernetesにまつわ
 る様々な分野の知識や情報を交換し、新たな友人やコ
 ミュニティとのつながり、仕事やビジネスチャンスを
 増やせる場所とすることが目標です。\nこれを達成す
 るため、参加者の全員が、行動規範に同意していただ
 くことが必要です。全員にとって安全な環境を維持す
 るため、皆さん一人一人にご協力をお願いします。\n\n
 Kubernetes Meetup Tokyo 行動規範 (Code of Conduct)\n\nタイムテー
 ブル\n\n\n\n時間\n内容\nスピーカー\n\n\n\n\n19:00~19:05\nOpeni
 ng (5min)\n\n\n\n19:05~19:35\n拡張性の高い CNI プラグイン Coil
  v2 の紹介 (30min)\n山本泰宇 (@ymmt2005) サイボウズ株式会
 社\n\n\n19:35~19:40\n5分休憩\n-\n\n\n19:40~20:10\nGitOps Toolkit に
 よる Kubernetes マニフェスト CD (30min)\nHidehito Yabuuchi\, Pref
 erred Networks\, Inc.\n\n\n20:10~20:15\n5分休憩\n-\n\n\n20:15~20:40\nL
 T 5 min * 5 (25 min)\nLT ご登壇者\n\n\n\n19:05~19:35 拡張性の高
 い CNI プラグイン Coil v2 の紹介 (30min)\nby 山本泰宇 (@ymmt
 2005) サイボウズ株式会社\nCoil は性能と拡張性に優れた
  Kubernetes 用ネットワークプラグインです。サイボウズ
 では Coil を Calico\, Cilium\, MetalLB\, BIRD などのソフトウェ
 アと連携させて多彩なネットワーク機能を実装してい
 ます。本発表では、ネットワークプラグインの柔軟な
 組み合わせを実現する方法と、Coil v2 の目玉機能であ
 る Kubernetes 上に高可用 NAT サーバーを実装する機能を
 実装した手法について紹介します。\nBio: サイボウズ株
 式会社にて Kubernetes を中心としたデータセンターシス
 テムの構築に従事してます。\n19:40~20:10 GitOps Toolkit に
 よる Kubernetes マニフェスト CD (30min)\nby Hidehito Yabuuchi\, P
 referred Networks\, Inc.\n2020年10月、Kubernetes 向け GitOps ツー
 ル Flux の後継である GitOps Toolkit の API が beta になりま
 した。このセッションでは、GitOps Toolkit の紹介と、Pref
 erred Networks の社内クラスタ開発・運用チームでの CD の
 取り組みについてお話します。\nBio: 2020年より Preferred 
 Networks で社内クラスタの開発・運用に携わる。Kubernetes
  スケジューラの開発や Kubernetes クラスタ管理用マニフ
 ェストの CI/CD などを担当。\n20:15~20:40 LT (5 min * 5)\n\nAnth
 osを使ったKubernetesの安全な運用\n同じ色のPodが4個くっ
 ついたらdeleteされるcustom controller「くべくべ」を作っ
 た\nEKSのNode Scale inにおけるDNS解決失敗事例についてのT
 IPS\n2020 年の秋、改めて学ぶ Scheduling Framework\nkubewebhook 
 でAdmission Webhooks と触れ合う\n\n参加枠\nオンライン配信
 参加枠（先着）\nオンライン配信枠です。登録いただ
 いた皆様には中継用のURLをお送りさせていただきます
 。\nブログ枠 (先着)\nイベントについて1週間以内にブ
 ログで紹介していただける方の枠になります。\nこの
 参加枠で参加される方は、当日現地には入館できませ
 んのでご注意ください。\nLT枠（抽選）\nLT枠です。当
 日はZoomに入って頂き、リアルタイムでご登壇いただき
 ます。\nLTは5分厳守です。LTをやりたい方は、事前にLT
 枠で参加した上、このフォームからタイトルを入力し
 てください。\n⚠ フォームを入力されていてもLT枠で
 参加できていないと発表いただけません。またLT枠で
 参加されていても抽選日までにフォームの入力が確認
 できなかった場合はキャンセルとさせていただきます
 。ご了承ください。\n参加費\n無料\n中継\n\nYouTube Live 
 で配信を予定しています。顔が映り込む可能性があり
 ます。予めご了承ください。\nKubernetes Meetup Tokyo - YouTub
 e\n
LOCATION:オンライン オンライン
URL:https://techplay.jp/event/796091?utm_medium=referral&utm_source=ics&utm
 _campaign=ics
END:VEVENT
END:VCALENDAR
