BEGIN:VCALENDAR
VERSION:2.0
PRODID:-//https://techplay.jp//JP
CALSCALE:GREGORIAN
METHOD:PUBLISH
X-WR-CALDESC:第15回Ques　#ques15【さらに！増席しました！】
X-WR-CALNAME:第15回Ques　#ques15【さらに！増席しました！】
X-WR-TIMEZONE:Asia/Tokyo
BEGIN:VTIMEZONE
TZID:Asia/Tokyo
BEGIN:STANDARD
DTSTART:19700101T000000
TZOFFSETFROM:+0900
TZOFFSETTO:+0900
TZNAME:JST
END:STANDARD
END:VTIMEZONE
BEGIN:VEVENT
UID:796294@techplay.jp
SUMMARY:第15回Ques　#ques15【さらに！増席しました！】
DTSTART;TZID=Asia/Tokyo:20201106T190000
DTEND;TZID=Asia/Tokyo:20201106T210000
DTSTAMP:20260425T212942Z
CREATED:20201013T141815Z
DESCRIPTION:イベント詳細はこちら\nhttps://techplay.jp/event/79629
 4?utm_medium=referral&utm_source=ics&utm_campaign=ics\n\n第15回 Ques 
 「実況パワフルモブテスト　〜テスト観点出し編〜」\
 nQuesとは？\nSoftware品質保証に関わるQAエンジニアの活
 性化を目的としたQA専門イベントです。\n会社間の垣根
 を越え、情報交換・親交の場を提供することで\n日本
 のSoftware品質保証を盛り上げていく場にしたいと思い
 ます。\n開催概要\n第15回はオンラインで実施いたしま
 す！\n\n今回のテーマは「実況パワフルモブテスト　〜
 テスト観点出し編〜」。\nグロース・アーキテクチャ
 ＆チームス株式会社 常盤 香央里さま、株式会社ビズ
 リーチ 風間 裕也さまにご講演いただきます。\n\n今回
 は、テスト観点出しをどうおこなっているか？を実際
 にご覧いただけるプログラムとなっていますので、\n
 これまでQuesにご参加いただいた皆さまはもちろん、こ
 れからテストエンジニアとしてキャリアアップしてい
 きたいと考えられている方にぜひご参加いただきたい
 内容となっております。\nもちろん、マネジメントク
 ラスの方、普段は開発をされている方、他社のやり方
 を学んでみたい方など、どなたでもご参加いただけま
 す。多くの皆さまのご参加をお待ちしております！\n\n
 日時：2020年11月6日(金)19:00～21:15\n　　 （18:40～受付　
 懇親会は当日ご案内します）\n場所：Zoomウェビナー\n
 　　　（申込者へメールおよびconnpassメッセージにて
 参加方法をお送りします）\n定員：150名\n講演テーマ：
 実況パワフルモブテスト　〜テスト観点出し編〜\n講
 演内容：●観戦の前に　〜テスト観点出し観戦を楽し
 むポイントを体感しよう〜\n　　　　　●テスト観点
 出し観戦　〜解説付き〜\n講演者：　　グロース・ア
 ーキテクチャ＆チームス株式会社\n　　　　　　チー
 ムプロセス支援コンサルタント\n　　　　　　WACATE 実
 行委員\n　　　　　　常盤 香央里氏（@caori_t）\n\n　　
 　　　　株式会社ビズリーチ\n　　　　　　QA Evangelist\
 n　　　　　　WACATE 実行委員\n　　　　　　JaSST Review'20
  実行委員長\n　　　　　　風間 裕也氏（@nihonbuson）\n\n
 　　　　　　特別ゲスト\n　　　　　　山本 久仁朗氏
 （株式会社ビズリーチ）\n　　　　　　井芹 久美子氏
 （株式会社ビズリーチ）\n　　　　　　日下 優希氏（
 株式会社ヒューマンクレスト）\n　　　　　　髙津 裕
 美香氏（株式会社ヒューマンクレスト）\n\n参加費：無
 料\n申し込み：このページよりお申込みください\n主催
 ：Ques事務局\n協賛：株式会社サイバーエージェント、
 株式会社ミクシィ\n　　　株式会社アットウェア、株
 式会社ガイアックス\n　　　ヤフー株式会社、株式会
 社サイバード、株式会社ディー・エヌ・エー\n　　　
 株式会社クロノス、株式会社FiNC Technologies\n　　　株式
 会社ユーザベース、Retty株式会社\n　　　株式会社GA tec
 hnologies\n運営：株式会社ヒューマンクレスト\nタイムス
 ケジュール\n\n\n\n時間\n内容\n\n\n\n\n18:40〜\n受付開始\n\n
 \n19:00〜19:05\nオープニング\n\n\n19:05〜19:55\n観戦の前に
 　〜テスト観点出し観戦を楽しむポイントを体感しよ
 う〜\n\n\n19:55〜20:05\n休憩\n\n\n20:05〜21:00\nテスト観点出
 し観戦　〜解説付き〜\n\n\n21:00～21:05\nQ&A\n\n\n21:05～21:15
 \nクロージング\n\n\n\n※ 当日予告なくタイムスケジュ
 ール・内容が変更になる可能性がございます。\n登壇
 者\n常盤 香央里氏\nグロース・アーキテクチャ＆チー
 ムス株式会社\nチームプロセス支援コンサルタント\nWAC
 ATE 実行委員\n\n風間 裕也氏\n株式会社ビズリーチ\nQA Eva
 ngelist\nWACATE 実行委員\nJaSST Review'20 実行委員長\nイベン
 トに関する注意\n※ 当日のZoomは録画し、後日公開予定
 です。質問いただく際に、名前が表示されます（ご自
 身の設定によって映像も映ります）ので、希望されな
 い方はお申し出ください。該当場面を削除いたします
 。\n※ 参加者による録音・録画・撮影（スクリーンシ
 ョット含む）はお断りいたします。\n※ 講演について
 のツイート等の公開は自由ですが、参加者参加型プロ
 グラムにおける、参加者によって記載された内容は、
 本人から許可を得ない限り、公開をお控えください。\
 n※ 参加者参加型プログラム内で、他の参加者から内
 容が閲覧可能な状態となります。予めご了承ください
 。\n※ 前半部分で、Jamboardというツールを使用します
 。PCからご参加いただけると、よりプログラムをお楽
 しみいただけることと思います！\n※ 欠席される場合
 は、お手数ですが速やかにキャンセル処理をお願い致
 します。\n参加費\n無料\n関連リンク\nQuesブログ\nイベ
 ント資料は後日こちらのブログで公開いたします。\nTw
 itter　@Ques_staff \nハッシュタグ　#ques15\nFacebook　https://ww
 w.facebook.com/pages/Ques/455130454527084
LOCATION:Zoom
URL:https://techplay.jp/event/796294?utm_medium=referral&utm_source=ics&utm
 _campaign=ics
END:VEVENT
END:VCALENDAR
