BEGIN:VCALENDAR
VERSION:2.0
PRODID:-//https://techplay.jp//JP
CALSCALE:GREGORIAN
METHOD:PUBLISH
X-WR-CALDESC:クラウドの伝道師が語るセキュリティ〜AWSで
 実現するセキュリティと導入事例〜
X-WR-CALNAME:クラウドの伝道師が語るセキュリティ〜AWSで
 実現するセキュリティと導入事例〜
X-WR-TIMEZONE:Asia/Tokyo
BEGIN:VTIMEZONE
TZID:Asia/Tokyo
BEGIN:STANDARD
DTSTART:19700101T000000
TZOFFSETFROM:+0900
TZOFFSETTO:+0900
TZNAME:JST
END:STANDARD
END:VTIMEZONE
BEGIN:VEVENT
UID:796344@techplay.jp
SUMMARY:クラウドの伝道師が語るセキュリティ〜AWSで実現
 するセキュリティと導入事例〜
DTSTART;TZID=Asia/Tokyo:20201028T193000
DTEND;TZID=Asia/Tokyo:20201028T210000
DTSTAMP:20260421T004851Z
CREATED:20201014T061454Z
DESCRIPTION:イベント詳細はこちら\nhttps://techplay.jp/event/79634
 4?utm_medium=referral&utm_source=ics&utm_campaign=ics\n\n\n\n\n【※重
 要※】参加用URLについて\nイベント参加用URLはコチラ
 のページに表示しております。\nページ上部の「参加
 者への情報」欄をご確認ください！\n\n\n\n開催概要\n\n 
 \n\n■■ AWSで実現するセキュリティと事例紹介■■ \n
 今回のテーマは「クラウドセキュリティ」\nAWSを活用
 したセキュリティについて、クラウドの伝道師が語る
 セミナーとユーザーによる導入事例から学べるコンテ
 ンツをお届けします！\n▼当日のトーク内容・AWSのセ
 キュリティ意識・顧客側で意識すべきセキュリティ・A
 WSの提供するIaaS・セキュリティサービス・Amazon Detective
 導入事例　など\n\n\n\n\nタイムテーブル\n\n\n\n時間\n内
 容\n\n\n\n\n19:30\nイベント開始\n\n\n19:30〜19:40\nオープニ
 ング\n\n\n19:40〜21:00\nコンテンツ■セミナー・AWSのセキ
 ュリティ意識・顧客側で意識すべきセキュリティ・AWS
 の提供するIaaS・セキュリティサービス（亀田治伸氏／
 アマゾン ウェブ サービス ジャパン株式会社）■ユー
 ザー登壇活用事例紹介・「Amazon Detectiveを導入してみた
 （仮）」（高田洸介氏／パーソルキャリア株式会社）
 ・「自分たちで守るAWSセキュリティ対策事例」（加藤
 雅之氏／株式会社ベイシア）■オンライン集合写真撮
 影\n\n\n21:00\nイベント終了\n\n\n\n※イベント内容は当日
 予告なく変更になる可能性がございます。\n\nトーク登
 壇者\n亀田 治伸氏アマゾン ウェブ サービス ジャパン
 株式会社／Sr. Developer Advocate\n \n\n兵庫県伊丹市出身。
 認証系独立ASP、動画・音楽配信システム構築、決済代
 行事業者、暗号および認証デバイス事業開発を経て現
 職。 全国各地で多数の講演を実施。得意領域は、認証
 、暗号、映像配信、開発手法に見る組織論。\n\n高田 
 洸介氏パーソルキャリア株式会社 テクノロジー本部 
 インフラ基盤統括部 システム共通BITA部 AWS推進グルー
 プ エンジニア\n \n\n前職はSIerにてAWS上でのアジャイル
 開発で、インフラチームとして横串的に基盤を開発/運
 用を担当。AWSサービスの利用と、Terraform\, Ansibleなどを
 用いたInfrastructure as codeなどにも積極的に取り組む。\n2
 019年10月より現職。パーソルグループの標準AWS環境に
 対して、利用推進、整備、機能開発/検証などを行う。
 \n\n加藤 雅之氏株式会社ベイシア 流通技術研究所クラ
 ウド推進部ITエキスパート兼CoEGマネジャー\n \n\n「高効
 率な流通小売の仕組み」を追求する機関であるベイシ
 ア流通技術研究所にて、ベイシアグループのクラウド
 活用を推進すべく、AWS共通基盤の構築やガバナンスの
 整備に従事。 設計開発から運用までの多面的な効率向
 上を行いつつ、自分達で運転できる体制を目指す\n\nフ
 ァシリテーター\nMitz（松岡光隆）TECH Streetコミュニテ
 ィエバンジェリスト\n \n\nテーマはIT全般、初心者から
 上級者まで、全国各地から約5\,000名のRPAユーザーが集
 まる「RPACommunity」の創設者。様々な職種を経験し、IT
 システムのエンジニア歴は10年以上。幅広い職種経験
 を活かし、現在ではIT系メディアと契約。IT記事を書き
 ながら様々なITコミュニティをプロデュースする「コ
 ミュニティ・プロデューサー」が正式な職種。\n\n参加
 対象\n・セキュリティエンジニア・インフラエンジニ
 ア・情報システム担当者・クラウド活用に興味がある
 方\n参加費用\n無料\nお願い事項\n・お申し込み後のキ
 ャンセルについてはお手数ですがお申し込みフォーム
 上でキャンセルをお願い致します\n主催\n人と知識とテ
 クノロジーが行き交う個人の価値や可能性が拡がるコ
 ミュニティTECH Streetが開催いたします！\n\n皆様のご参
 加お待ちしております！
LOCATION:オンライン
URL:https://techplay.jp/event/796344?utm_medium=referral&utm_source=ics&utm
 _campaign=ics
END:VEVENT
END:VCALENDAR
