BEGIN:VCALENDAR
VERSION:2.0
PRODID:-//https://techplay.jp//JP
CALSCALE:GREGORIAN
METHOD:PUBLISH
X-WR-CALDESC:PHPerによるPHPerのための「Laravel8を中心に語り
 合う」TechCafe
X-WR-CALNAME:PHPerによるPHPerのための「Laravel8を中心に語り
 合う」TechCafe
X-WR-TIMEZONE:Asia/Tokyo
BEGIN:VTIMEZONE
TZID:Asia/Tokyo
BEGIN:STANDARD
DTSTART:19700101T000000
TZOFFSETFROM:+0900
TZOFFSETTO:+0900
TZNAME:JST
END:STANDARD
END:VTIMEZONE
BEGIN:VEVENT
UID:796405@techplay.jp
SUMMARY:PHPerによるPHPerのための「Laravel8を中心に語り合う
 」TechCafe
DTSTART;TZID=Asia/Tokyo:20201116T190000
DTEND;TZID=Asia/Tokyo:20201116T203000
DTSTAMP:20260425T213850Z
CREATED:20201014T141813Z
DESCRIPTION:イベント詳細はこちら\nhttps://techplay.jp/event/79640
 5?utm_medium=referral&utm_source=ics&utm_campaign=ics\n\n今回のTechCaf
 eテーマ\nLaravel8の新機能などを中心に、Laravel関連の周
 辺事項など、意見交換・情報共有をしましょう！\n「
 一緒に語り合う枠」に応募頂いた方については、基本
 的に主催側で話題を提供しますので、何か特別にご準
 備頂く必要はありません。聞き専枠の方の飛び入りも
 大歓迎ですよ！\n\n\n\n最近よく話題になる主なキーワ
 ードは、PHP8、Laravel、Docker、DDDなどです。\n参加者の方
 で「このテーマについて話を聞いてみたい」という方
 がいらっしゃいましたら、参加時のアンケートや、Slac
 kの方でご連絡頂ければ幸いです！\n本日のShowNoteはこ
 ちら\n過去の議題一覧アーカイブ\n\n10月開催分\n9月開
 催分\n8月開催分  \n7月開催分  \n6月開催分  \n\n過去のイ
 ベント風景はこちら（Facebookへのアルバムへのリンク
 です）\nhttps://business.facebook.com/RAKUS.pr/photos/a.27042574098631
 30/2704257419863129/?type=3&theater\nhttps://business.facebook.com/RAKUS.
 pr/photos/a.2704257409863130/2704257529863118/?type=3&theater\n主催出
 演者の紹介（随時更新）\n\nTakayuki Fujisawa\n\nSIerとベン
 チャー企業を経て、2015年ラクス入社。PHP開発を始めた
 のは8年前（元Javaエンジニア）\nFWはCakePHP\, FuelPHP\, Larav
 el\, Zend Framework\, Ethna（今は亡き）\nラクス入社後は楽
 楽販売・配配メールの開発エンジニアを経て、現在は
 品質管理や技術仕様の標準化などのおしごとをやって
 います。\n初心者の方からツヨツヨの方まで、一緒に
 ワイワイお話しできると嬉しいです。  \n\nY-Kanoh\n\n2016
 年新卒でラクスへ入社。入社後、配配メール開発チー
 ムへ参画し、現在はメールディーラーの開発チームに
 所属。\n入社と同時にPHPを扱い始め、趣味でLaravelやDock
 er、Vue.jsを触っています。キーボードはHHKB。\n参加者
 の皆さんとともに、自分もPHPerとしてレベルアップで
 きればと思います！  \n\nMasaKu  \n\n2017年新卒でラクスへ
 入社。配配メールの開発を担当しています。\n個人でWe
 bサービスを作成したり、興味のある技術をあれこれ試
 すのが趣味です。\nPHPのように、良いものを取り入れ
 続けるエンジニアになることが目標です！  \nTechCafeに
 ついて\n「TechCafe」は、PHPを軸としてエンジニアと技術
 が交差する憩いの場（カフェ）になることを目指し、W
 ebやPHPに関わるITエンジニアがスキルアップのために開
 発や勉強、LTや情報共有などを行うコミュニティです
 。\n普段は、弊社オフィスに来社頂き、特定のテーマ
 についてディスカッションや、もくもく自習などを行
 って頂いています。\n弊社の社員も参加します。エン
 ジニア同士が楽しみながら学習するためのコミュニテ
 ィです。お気軽にご参加ください。\nよろしければ弊
 社の 開発者ブログ もご覧ください。興味を持たれま
 したらぜひご参加ください。\n対象者\nPHPを入門後の初
 級エンジニア～シニアエンジニア\n\nエンジニア同士の
 学び・情報共有の場をつくり、エキスパートまでの自
 己成長を支援する\n学びの場を一緒に支援して頂ける
 エキスパート以上のかたの参加も大歓迎\n\n※入門者向
 けのスクール系の領域はコミュニティとしては対象外
 としています\nSlack\n本コミュニティ用のSlackチャンネ
 ルにご参加頂ければ幸いです。\nこちらからご参加く
 ださい\n開催概要\n【日時】2020/11/16(月) 19:00～20:30　※1
 0分前から入室可能です！\n【会場】オンライン（Zoom）
 \n  　※Connpassのメッセージ機能、およびイベントペー
 ジ中の「参加者への情報」欄にて開催前にURLを通知い
 たします。\n【参加費】無料\n【主催】ラクス\n一緒に
 語り合う枠\nPHPやWeb開発に関連するニュースや記事を
 ピックアップしてディスカッションします。\n「一言
 くらいはしゃべるかも」程度でお気軽にご参加くださ
 い。\n可能な方のみで結構ですので、「顔出し」して
 頂けると幸いです！  \nまた、冒頭で簡単にお名前（or
 ニックネーム）と「今こんなことに興味があるよ」を
 共有して頂きます。\nLT枠（5分）\n発表テーマはPHPに関
 する内容であれば何でも構いません。\n※「PHPに関す
 る」は厳密な縛りではありませんので、ご自由に拡大
 解釈頂いて結構です。\n\nご自身の学習内容\n個人で開
 発したサービス\n開発のノウハウ\n\nなど、知識やノウ
 ハウを参加者同士で共有し合いましょう。\n※なお、
 発表者は先着順とさせていただきますので、ご容赦く
 ださい。\n\n\n\n\n発表テーマ\n発表者\n\n\n\n\n1\nlaravel5.8=>
 8へバージョンアップ!公式の見積り時間通りにできる
 か試してみた\neinsatz651さん\n\n\n2\n募集中\n募集中\n\n\n3\
 n募集中\n募集中\n\n\n\n※確定次第、更新します\n聞き専
 枠\n文字通り、聞くのみのご参加です。マイク・カメ
 ラOFFでご参加ください。（ホスト側でもコントロール
 します）\nタイムテーブル（途中参加OK）\n\n19:00 開始
 ・ご挨拶など  \n19:10～ 自己紹介  \n19:15～ LT会パート 
 ※エントリーがあった場合、先着順で発表して頂きま
 す  \n19:30ごろ～ ディスカッション開始  \n20:20 アンケ
 ートのお願い、締めのご挨拶  \n20:30 終了  \n\n当日の通
 信トラブルにつきまして\nイベント実施中に何らかの
 通信トラブルが発生した場合には、ラクス公式Twitterで
 アナウンスをさせていただきます。\nZoomのURLに接続で
 きない、通信が途切れるなどの問題が発生する場合に
 は、上記のTwitterをご確認ください。\n注意事項\n\n内容
 は予告なく変更される場合がございます。\n本イベン
 トはオンライン開催のため、通信状況によって音声や
 映像の乱れがある場合がございます。\n当日のイベン
 ト風景（Zoom画面のキャプチャなど）や内容は、レポー
 ト記事やSNSなどで掲載される場合がありますのでご了
 承ください。\nイベント進行の妨げになるような行為
 は禁止・退出をお願いする場合があります。\n\n関連イ
 ベント\nLaravelのLT会 - vol.1 #laravellt
LOCATION:オンライン オンライン
URL:https://techplay.jp/event/796405?utm_medium=referral&utm_source=ics&utm
 _campaign=ics
END:VEVENT
END:VCALENDAR
