BEGIN:VCALENDAR
VERSION:2.0
PRODID:-//https://techplay.jp//JP
CALSCALE:GREGORIAN
METHOD:PUBLISH
X-WR-CALDESC:ASP.NET Modernization in a Day
X-WR-CALNAME:ASP.NET Modernization in a Day
X-WR-TIMEZONE:Asia/Tokyo
BEGIN:VTIMEZONE
TZID:Asia/Tokyo
BEGIN:STANDARD
DTSTART:19700101T000000
TZOFFSETFROM:+0900
TZOFFSETTO:+0900
TZNAME:JST
END:STANDARD
END:VTIMEZONE
BEGIN:VEVENT
UID:796467@techplay.jp
SUMMARY:ASP.NET Modernization in a Day
DTSTART;TZID=Asia/Tokyo:20201120T133000
DTEND;TZID=Asia/Tokyo:20201120T153000
DTSTAMP:20260421T072324Z
CREATED:20201015T061911Z
DESCRIPTION:イベント詳細はこちら\nhttps://techplay.jp/event/79646
 7?utm_medium=referral&utm_source=ics&utm_campaign=ics\n\n.NETアプリケ
 ーションのAzureへのモダナイゼーションを体験できる
 ハンズオン\nオンプレミスや仮想環境にある業務アプ
 リケーションの、パブリッククラウドへの移行計画は
 定まっていますか？\n企業のクラウドシフトが本格化
 していくなかで、パブリッククラウドの恩恵を最大限
 に受けるクラウドネイティブアプリケーションの開発
 手法に注目が集まっています。\n従来の環境を維持し
 続けるには限界があり、ビジネスの変化やスケールに
 柔軟に対応していくには、アプリケーションをパブリ
 ッククラウドに適した構成にし変化させる必要があり
 ます。\nこれをアプリケーションモダナイゼーション
 といいます。\nしかし、アプリケーションモダナイゼ
 ーションの達成には、開発に関わる人に幅広い知識と
 高度な技術が要求とされます。\n本セミナーでは .NETア
 プリケーションのAzureへの移行を検討している方、Azure
 を使ったアプリケーションアーキテクチャー設計を学
 びたい方などに向け、オルターブースが提供する「KOSM
 ISCH」を活用したモダナイゼーションを実践するハンズ
 オンを行います。\nクラウドを基盤としたアプリケー
 ション設計における難しさや課題に対し、必要な知識
 や観点をイメージすることができるハンズオンに是非
 ご参加ください。\nこのような方におすすめ\n\n既存の
 アプリケーションをAzureに移行したい方  \nアプリケー
 ションをAzureに移行したけど、もっとAzureを活用したい
 方  \nAzureでのアプリケーションを設計や開発に携わっ
 ている方、これから設計や開発に携わる予定のある方 
  \nAzureでのアプリケーションアーキテクチャーの設計
 に自信がない方  \n\nKOSMISCHとは\nKOSMISCHはお客様が保有
 するアプリケーション資産のソースコードを解析し、M
 icrosoft Azureをはじめとするパブリッククラウドを実行
 環境とするアプリケーション構成への改善提案レポー
 トを提供するサービスです。\nレポートをもとに、課
 題の解決方法やクラウドを活用するアプリケーション
 の設計指針策定などの新しい開発サイクルをオンライ
 ンハンズオンとしてご体験いただけます。\nhttps://kosmis
 ch.jp  \n【今後のセミナーのお知らせ】\n次回は【12/3】 
 にウェビナーの開催を予定しております   \n\n12/3   KOSMI
 SCHウェビナー\n12/18  KOSMISCHハンズオン\n\nKOSMISCH全国キ
 ャラバンページにてイベントスケジュールをお知らせ
 しています！\nKOSMISCH全国キャラバン    \n【過去開催ウ
 ェビナー】\nYouTubeで公開中！  \nオルターブースチャン
 ネル  \n講師\n木村 健一郎(株式会社オルターブース)\n\n
 大学院在籍中に未踏ソフトウェア創造事業に採択され
 、その成果を元に設立したスタートアップに20年在籍
 。\nperl、PostgreSQL、FreeBSD、Linuxなどを用いて多くのシス
 テムの開発や運用を経験した。\n2014年頃からクラウド
 の世界に触れる中でサーバレスとIoTに魅せられ、JAWS-UG
 福岡やSORACOM-UG九州のコアメンバーとしてコミュニティ
 活動を行っている。\nコミュニティ活動を通じた縁で20
 20年にオルターブースにジョイン。現在はC#とAzureを武
 器に、KOSMISCHの開発に従事している。家に帰ると新米
 パパとして3歳の娘と戯れる日々。  \nTwitter: @show_m001(し
 ょーちゃん)  \nアジェンダ\n<ハンズオン120分>\n「KOSMISCH
 」を使用したASP.NETアプリケーションのクラウドネイテ
 ィブマイグレーションのハンズオンを行います\n【関
 連するテクノロジー】\nASP .NET\, ASP .NET Core\, Azure App Serv
 ice\, Azure SQL Database\, Azure Application Insights\, Azure Storage\, G
 itHub  \n日時\n2020年11月20日(金)　13:30～15:30(受付開始 13:0
 0～)\n※当日13時からハンズオン開始時刻の間、事前準
 備がお済みでない方、事前準備で不明点がある方向け
 のサポートタイムを設けております。  \n配信プラット
 フォーム\n\nMicrosoft Teams\n※connpassからイベント参加申
 し込みをされた方に、参加URL等の情報を当日までにメ
 ールでお送りします。  \n\n事前準備\n【PC環境】\nPCに
 下記の環境をご準備ください。\n1.Visual Studio Code\nVisual 
 Studio Codeをインストールしてください。\nhttps://code.visua
 lstudio.com/   \n2. .NET Core 2.1 SDK\n.NET Core 2.1の最新のSDKをイ
 ンストールしてください。\nダウンロードサイト   \n3. 
 Git\nGitをインストールしてください。\nhttps://git-scm.com/ 
   \n4.GitHubアカウント\nGitHubアカウントを作成してくだ
 さい。\nhttps://github.com/   \n【Azureアカウント】\n本ハン
 ズオンでは、Azureのアカウントおよびサブスクリプシ
 ョン(無料でもOK)が必要となります。\nアカウントをお
 持ちでない方は、こちらのページの右上にある無料ア
 カウントからアカウントを作成してください。  \n【端
 末】\niPadなどのタブレット端末ではハンズオンに参加
 いただけませんのでご注意ください。\nMicrosoft Edgeまた
 はGoogle Chromeのインストールされた端末をご準備くださ
 い。  \nプライバシーポリシー(個人情報の取り扱い)\n
 日本マイクロソフト株式会社\nお申し込みいただいた
 お客さまの個人情報は、日本マイクロソフト株式会社
 で本イベントに関するご連絡のほか、提供する商品・
 サービス・キャンペーン・イベントなど各種情報のご
 連絡に利用させていただきます。あらかじめご了承い
 ただきますようお願いいたします。  \n株式会社オルタ
 ーブース\n株式会社オルターブースのプライバシーポ
 リシーについてはこちらでご覧いただけます。\nhttps://
 www.alterbooth.com/privacy/
LOCATION:オンライン
URL:https://techplay.jp/event/796467?utm_medium=referral&utm_source=ics&utm
 _campaign=ics
END:VEVENT
END:VCALENDAR
