BEGIN:VCALENDAR
VERSION:2.0
PRODID:-//https://techplay.jp//JP
CALSCALE:GREGORIAN
METHOD:PUBLISH
X-WR-CALDESC:【特別ウェビナー】ベテランSEOコンサルタン
 トへの何でも相談会
X-WR-CALNAME:【特別ウェビナー】ベテランSEOコンサルタン
 トへの何でも相談会
X-WR-TIMEZONE:Asia/Tokyo
BEGIN:VTIMEZONE
TZID:Asia/Tokyo
BEGIN:STANDARD
DTSTART:19700101T000000
TZOFFSETFROM:+0900
TZOFFSETTO:+0900
TZNAME:JST
END:STANDARD
END:VTIMEZONE
BEGIN:VEVENT
UID:796469@techplay.jp
SUMMARY:【特別ウェビナー】ベテランSEOコンサルタントへ
 の何でも相談会
DTSTART;TZID=Asia/Tokyo:20201022T190000
DTEND;TZID=Asia/Tokyo:20201022T200000
DTSTAMP:20260422T031518Z
CREATED:20201015T075652Z
DESCRIPTION:イベント詳細はこちら\nhttps://techplay.jp/event/79646
 9?utm_medium=referral&utm_source=ics&utm_campaign=ics\n\nベテランSEO
 コンサルタントへの何でも相談会\n10月22日（木）19:00
 ～\nウェビナー後のアンケートにて希望された方限定
 で、弊社保有のビッグデータに基づいた競合調査や貴
 社サイト課題点・改善点を用いた面談も行っておりま
 す。お時間のある方はぜひご参加ください。\n▼こん
 な方にオススメです！\n・BtoB施策に取り組みたいが、
 何から始めていいのか分からないマーケティング担当
 者様・SEOに興味はあるが、費用対効果が合うのかわか
 らない担当者様・今後のオンライン集客施策の、優先
 度付に悩むマーケティング担当者様・ある程度オンラ
 イン集客が見込めているが更に高度な施策に取り組み
 たい担当者様\n\n▼ウェビナー内容\n・ウェビナー登壇
 回数２０回以上のベテランSEOコンサルタントが申込時
 ・当日その場で随時受け付けている質問になんでも回
 答していきます！\n▼過去の質問例\n・BtoB施策に取り
 組みたいが、何から始めていいのか分からない・自社
 のオウンドメディアからリード数を増加させたいがど
 うすればいいのか分からない・今後のGoogleアルゴリズ
 ムアップデートの動きはどうなるのでしょうか？など
 簡単な質問から難しい質問までなんでもお待ちしてお
 ります！\n▼ウェビナー開催概要\n・開催日時2020年10月
 22日（木）19:00～20:00・参加費無料・開催方法ウェビナ
 ー　※Zoomを利用します・参加方法お申込後に、別途担
 当者よりメールにてご案内致します。\n\n▼タイムスケ
 ジュール\n\n\n\n時間\n内容\n\n\n18:58〜\n視聴用URL開場\n\n\
 n19:00〜19:40\nウェビナー本編\n\n\n19:40〜20:00\n質疑応答・
 アンケート回答　※質問がなくなり次第終了\n\n\n\n※ 
 当日予告なく時間配分・内容が変更になる可能性がご
 ざいます。\n▼講師紹介\n\n尾崎　篤志\n株式会社CINCコ
 ンサルタント\n\n▼参加対象\n・事業会社のマーケティ
 ング担当者\n・事業会社の事業責任者様\n・事業会社の
 経営者様\n\n▼注意事項\n競合他社/同業者/企業にご所
 属でない個人の方からのお申込みなど、 当社の判断に
 よりセミナー参加をお断りする場合があります。予め
 ご了承ください。\n 
LOCATION:オンラインセミナー
URL:https://techplay.jp/event/796469?utm_medium=referral&utm_source=ics&utm
 _campaign=ics
END:VEVENT
END:VCALENDAR
