BEGIN:VCALENDAR
VERSION:2.0
PRODID:-//https://techplay.jp//JP
CALSCALE:GREGORIAN
METHOD:PUBLISH
X-WR-CALDESC:re:Invent 2020 Standby 事前勉強会 (Online)
X-WR-CALNAME:re:Invent 2020 Standby 事前勉強会 (Online)
X-WR-TIMEZONE:Asia/Tokyo
BEGIN:VTIMEZONE
TZID:Asia/Tokyo
BEGIN:STANDARD
DTSTART:19700101T000000
TZOFFSETFROM:+0900
TZOFFSETTO:+0900
TZNAME:JST
END:STANDARD
END:VTIMEZONE
BEGIN:VEVENT
UID:796623@techplay.jp
SUMMARY:re:Invent 2020 Standby 事前勉強会 (Online)
DTSTART;TZID=Asia/Tokyo:20201120T200000
DTEND;TZID=Asia/Tokyo:20201120T220000
DTSTAMP:20260421T152444Z
CREATED:20201016T141919Z
DESCRIPTION:イベント詳細はこちら\nhttps://techplay.jp/event/79662
 3?utm_medium=referral&utm_source=ics&utm_campaign=ics\n\nre:Invent2020 St
 andby 事前勉強会 イベント紹介\n"virtual and free" と、今年
 は初のオンライン開催になった AWS re:Invent 2020 に向け
 たLTでの情報シェアとオンラインQAセッションでの情報
 交換を目的とした勉強会です。\n今年のre:Inventは 11月30
 日(月) ～ 12月18日(金) までの3週間、オンラインで開催
 されます。11月17日現在、セッション内容もかなり出揃
 ってきました！\n初のオンライン開催で、情報交換、
 情報収集したい人も多いのではないかと思いまして、
 オンライン勉強会を開催致します。\nLT参加者さんたち
 による\n・発表されたアジェンダと開催時間帯\n・注目
 セッションはどれか\n・アーカイブ視聴可能なのか、
 リアルタイムで見るべきか\n・英語プレゼンの聞き方
 ノウハウ教えます\n・オンライン雑談しながらオンラ
 イン視聴してみよう\n・今年のオンラインカンファレ
 ンスの傾向と対策\n・例年は時差ボケと戦い続ける必
 要があるけど、今年は？\n・日本でヌードルアジア、
 日本でカジノ(ゲームセンターみたいなヤツ)\n・2020年
 、今ラスベガスはどうなっているのか、やっぱり行く
 べきなのか\n・来年はラスベガスに行きたいですね\nと
 、言うようなLT発表を想定してます。LT参加の皆さま、
 オンラインカンファレンスやre:Invent について、色々な
 視点で発表していただけると幸いです\n※勉強会の趣
 旨と異なるLTテーマでのLTお申込は、ご登壇をご遠慮い
 ただく事があります。予めご了承下さい。\n仮タイム
 テーブル（内容・演目は変更になる可能性があります
 ）\n\n\n\n時間\n内容\n登壇者\n\n\n\n\n20:00-20:05\nオープニ
 ング\n　\n\n\n20:05-20:45\n基調講演 "一番最後のrecap"\nHaruno
 buKameda\n\n\n20:45-20:52\nLT #1「いままでのre:Invent を復習し
 てみよう」\n@f_prg\n\n\n20:55-21:02\nLT #2「re:Inventをより楽
 しむために、今からちょっとだけ英語の準備をしよう
 」\n@ShogoMatsumoto\n\n\n21:05-21:10\n休憩\n\n\n\n21:10-21:20\nLT #3 
 「re:Invent 話題あれこれ、～今年も面白いぞ」\n@atsumi\n\
 n\n21:20-21:30\nLT #4 「re:Invent 2020の楽しみ方を考えてみた
 」\n＠kinunori\n\n\n21:30-21:40\nLT #5 「ヌードルアジアって
 なんなんだ!? 見たことないけど行きたい」\n@miu_crescent\
 n\n\n21:40-21:50\nLT #6 「ラストツタンカーメン」\n@MasanoriKa
 mayama\n\n\n21:50-22:00\nLT #7 「そして今ラスベガスはどうな
 っているのか」\n@shinichiro_kawano\n\n\n22:00\nクロージング\
 n\n\n\n\n参加方法\nビデオ会議形式によるリモート勉強
 会形式で開催いたします。\nお申込者には開催日にリ
 モート勉強会参加 URL を配信いたします。\n対象とする
 方\nre:Invent 2020 に興味がある方は、どなたでもOK\n注意
 事項など\n\nリクルーティング、勧誘、採用活動、人の
 話を聞かないなど、目的に沿わない行為につきまして
 、主催者が相応しくないと判断した場合は退出頂きま
 す。参加者全員が気持ちよく過ごすことが出来るよう
 、ご協力をお願い致します。\n\nLT登壇者の方へ\nre:Inven
 t 2020 に興味のある方への事前情報共有を目的としてい
 ます。登壇する方は、発表資料を公開頂けると幸いで
 す。
LOCATION:オンライン
URL:https://techplay.jp/event/796623?utm_medium=referral&utm_source=ics&utm
 _campaign=ics
END:VEVENT
END:VCALENDAR
