BEGIN:VCALENDAR
VERSION:2.0
PRODID:-//https://techplay.jp//JP
CALSCALE:GREGORIAN
METHOD:PUBLISH
X-WR-CALDESC:Ruby Hacking Challenge in Hamada.rb
X-WR-CALNAME:Ruby Hacking Challenge in Hamada.rb
X-WR-TIMEZONE:Asia/Tokyo
BEGIN:VTIMEZONE
TZID:Asia/Tokyo
BEGIN:STANDARD
DTSTART:19700101T000000
TZOFFSETFROM:+0900
TZOFFSETTO:+0900
TZNAME:JST
END:STANDARD
END:VTIMEZONE
BEGIN:VEVENT
UID:796702@techplay.jp
SUMMARY:Ruby Hacking Challenge in Hamada.rb
DTSTART;TZID=Asia/Tokyo:20201117T190000
DTEND;TZID=Asia/Tokyo:20201117T210000
DTSTAMP:20260425T133810Z
CREATED:20201017T141910Z
DESCRIPTION:イベント詳細はこちら\nhttps://techplay.jp/event/79670
 2?utm_medium=referral&utm_source=ics&utm_campaign=ics\n\nRubyをHackし
 てみよう！ in Hamada.rb\nざっくり以下の内容をやってみ
 ようかと思います。\n\n本家:Ruby Hacking Challengeの演習な
 どをやってみよう！(https://github.com/ko1/rubyhackchallenge)\n
 欲しいメソッドをRubyに追加してみよう\n好きな感じでR
 ubyをHackしてみよう \n\nオンラインにて開催します。前
 日までにZoomのURLをpostしますのでそちらからアクセス
 してください
LOCATION:オンライン オンライン
URL:https://techplay.jp/event/796702?utm_medium=referral&utm_source=ics&utm
 _campaign=ics
END:VEVENT
END:VCALENDAR
