BEGIN:VCALENDAR
VERSION:2.0
PRODID:-//https://techplay.jp//JP
CALSCALE:GREGORIAN
METHOD:PUBLISH
X-WR-CALDESC:【エンジニア向け】自然言語処理の進化と活
 用 ～最新の研究内容とトレンド～
X-WR-CALNAME:【エンジニア向け】自然言語処理の進化と活
 用 ～最新の研究内容とトレンド～
X-WR-TIMEZONE:Asia/Tokyo
BEGIN:VTIMEZONE
TZID:Asia/Tokyo
BEGIN:STANDARD
DTSTART:19700101T000000
TZOFFSETFROM:+0900
TZOFFSETTO:+0900
TZNAME:JST
END:STANDARD
END:VTIMEZONE
BEGIN:VEVENT
UID:796836@techplay.jp
SUMMARY:【エンジニア向け】自然言語処理の進化と活用 ～
 最新の研究内容とトレンド～
DTSTART;TZID=Asia/Tokyo:20201029T120000
DTEND;TZID=Asia/Tokyo:20201029T130000
DTSTAMP:20260421T165214Z
CREATED:20201019T064739Z
DESCRIPTION:イベント詳細はこちら\nhttps://techplay.jp/event/79683
 6?utm_medium=referral&utm_source=ics&utm_campaign=ics\n\n【エンジニ
 ア向け】自然言語処理の進化と活用～最新の研究内容
 とトレンド～\n概要\n私たち社会人が日常で触れるほと
 んどの情報はテキストつまり自然言語の情報です。そ
 の自然言語を扱うAI、つまり自然言語処理（NLP）は近
 年劇的な進化を遂げています。Google翻訳は驚くほど高
 い精度になってきていますが、その背景にあるのが自
 然言語処理の進化になります。本オンラインセミナー
 では、自然言語処理において国内トップレベルを誇る
 、東北大学の鈴木教授から自然言語処理技術の進化の
 系譜に加え最新の研究内容とトレンドを、また創業来
 数百件以上の企業のDX推進を担ってきたエクサウィザ
 ーズ独自の視点から技術のビジネス適用についてお話
 しさせていただきます。\n以下、思い当たる方はご参
 加ください\n\n社内システムに保存されているテキスト
 を分析したい\n社内で散在してしまっているナレッジ
 をもっと有効活用したい\nドキュメント/テキストを分
 類するオペレーションを自動化したい\n膨大なテキス
 ト情報から特徴量を抽出したい\n情報/テキストを検索
 する精度やユーザビリティをあげたい\n\nタイムスケジ
 ュール\n\n\n\n時間\n内容\n\n\n\n11:50〜\n\n\nログイン可能\n
 \n\n\n\n\n12:00〜12:05\n\n\n開始・挨拶\n\n\n\n\n12:05〜12:30\n\n\n
  鈴木教授講義\n\n\n\n\n12:30〜12:40\n\n\nエクサウィーズ社
 講義\n\n\n\n\n12:40〜13:00\n\n\nパネルディスカッション・
 質疑応答\n\n\n\n\n※zoomにて配信予定。お申込み後、前
 日までに視聴用URLをご案内します。※ 当日予告なく時
 間配分・内容が変更になる可能性がございます。※本
 セミナーはオープンイベントですが、同業他社様から
 のお申込みはお断りさせて頂く場合がございます。※ 
 リクルーティング、勧誘など、採用目的でのイベント
 参加はお断りしております。\n登壇者\n\n鈴木 潤教授\n
 東北大学データ駆動科学・AI教育研究センター教授理
 化学研究所 革新知能統合研究センター 客員研究員Googl
 e Brain Team Visiting Researcher言語処理学会 年次大会 運営委
 員言語処理学会 代議員\n2001年、慶應義塾大学大学院理
 工学研究科修士課程修了2005年、奈良先端科学技術大学
 院大学情報科学研究科博士後期課程修了、博士（工学
 ）2001-2018年、日本電信電話株式会社コミュニケーショ
 ン科学基礎研究所にて自然言語処理、機械学習、人工
 知能関連の研究に従事2008–2009年、MIT CSAIL客員研究員20
 11-2017年、慶應義塾大学理工学部非常勤講師を兼務\n\n\n
 チャンドマニ　ドルジナムジル / Dorjnamjil Chandmani\n株式
 会社エクサウィザーズQontextualグループリーダー\n2001年
 ~2005年、数学と情報科学で4回モンゴル代表に、国際情
 報科学オリンピックでモンゴル初のメダルを取得。2007
 年～2013年、一橋大学商学部・商学研究科にて学士・修
 士課程修了2013年4月、株式会社ボストンコンサルティ
 ンググループに入社。                      戦略策定、新規
 事業立ち上げ、DXなどの多数のプロジェクトに従事2018
 年1月、株式会社エクサウィザーズに入社。\n\n参加費\n
 無料\n場所\nオンライン開催\n＊Zoomにて配信予定。お申
 し込み後、前日までに視聴用URLをご案内します。\n注
 意事項\n※ 参加を辞退する場合は、詳細ページより申
 込のキャンセルをお願い致します。※ 無断キャンセル
 ・欠席が続く場合、次回以降の参加をお断りさせてい
 ただく場合がございますのでご了承ください。\n 
LOCATION:オンライン
URL:https://techplay.jp/event/796836?utm_medium=referral&utm_source=ics&utm
 _campaign=ics
END:VEVENT
END:VCALENDAR
