BEGIN:VCALENDAR
VERSION:2.0
PRODID:-//https://techplay.jp//JP
CALSCALE:GREGORIAN
METHOD:PUBLISH
X-WR-CALDESC:【ウェビナー】リモートワークにフル活用！
 今すぐ始めるさくらのクラウド＋Sophos XG Firewallでセキ
 ュリティ対策！
X-WR-CALNAME:【ウェビナー】リモートワークにフル活用！
 今すぐ始めるさくらのクラウド＋Sophos XG Firewallでセキ
 ュリティ対策！
X-WR-TIMEZONE:Asia/Tokyo
BEGIN:VTIMEZONE
TZID:Asia/Tokyo
BEGIN:STANDARD
DTSTART:19700101T000000
TZOFFSETFROM:+0900
TZOFFSETTO:+0900
TZNAME:JST
END:STANDARD
END:VTIMEZONE
BEGIN:VEVENT
UID:796922@techplay.jp
SUMMARY:【ウェビナー】リモートワークにフル活用！今す
 ぐ始めるさくらのクラウド＋Sophos XG Firewallでセキュリ
 ティ対策！
DTSTART;TZID=Asia/Tokyo:20201119T130000
DTEND;TZID=Asia/Tokyo:20201119T140000
DTSTAMP:20260423T013100Z
CREATED:20201020T060029Z
DESCRIPTION:イベント詳細はこちら\nhttps://techplay.jp/event/79692
 2?utm_medium=referral&utm_source=ics&utm_campaign=ics\n\nイベント概
 要\n\n昨今の事情によりテレワークの急速な普及に伴い
 、どこからでもアクセスができる\nクラウド環境の活
 用が今後さらに定着する状況にあります。\nクラウド
 環境は気軽に利用を開始できる反面、提供事業者任せ
 のセキュリティ対策では\n不十分であり、責任分界点
 を正しく理解し、利用者側でセキュリティ対策を行う
 必要があります。\n\nあなたのクラウド環境のセキュリ
 ティ対策は大丈夫ですか？またリモートワークに\n十
 分に対応できていますか？\n\n本セミナーでは、クラウ
 ド環境の境界線防御対策として高機能UTM【Sophos XG Firewa
 ll】を\n活用し、さらにVPN装置（リモートアクセス）と
 して利用する方法をデモンストレーションを\n交えご
 紹介いたします。\n\nセキュリティは強化したいけど、
 設定等難しいことはわからない。まるっとお任せした
 い！\nという方は「しぇあわふ」がおススメです。\n\n
 ★しぇあわふのウェビナーはこちら\n\nタイムテーブル
 　\n\n\n\n時刻\n内容\n\n\n\n12:55 ~ 13:00\n開場\n\n\n13:00 ~ 13:05
 \nご挨拶、画面説明等\n\n\n13:05 ~ 13:20\n【第一部】 Sophos 
 XG Firewallの基本的な機能をご紹介します。\n\n\n13:20 ~ 13:
 50\n【第二部】 さくらのクラウド上で利用するための
 初期設定及びPN装置（リモートアクセス）として利用
 方法のデモンストレーションを行います。\n\n\n13:50 ～ 
 14:00\n質疑応答\n\n\n14:00\n終了 (予定)\n\n\n\n※タイムスケ
 ジュールは場合によって、時間が変動する場合もござ
 います。ご了承ください。\n\n講演者\n\n興安計装株式
 会社 \n第1事業部　ICT技術サービス部門　エンジニアサ
 ービス部　部長　／ \n情報処理安全確保支援士（第0015
 61号）\n礒部良輔\n\n興安計装株式会社 \n第1事業部　ICT
 営業部門　営業部 \n浅野梨佳 \n\n※各社の個人情報保
 護方針はこちらです。\nさくらインターネット株式会
 社　http://www.sakura.ad.jp/privacy/ \n興安計装株式会社　https
 ://www.koan.co.jp/company.html (個人情報保護方針タブ) \n\nご
 入力いただく個人情報の取扱いについて\n\nさくらイン
 ターネットでは、取得した個人情報を弊社が定める「
 個人情報の取扱いについて」 に従って適正に管理しま
 す。\nなお、申込みにて取得した個人情報は以下の通
 り共同利用いたします。\n\n\n\n共同して利用される個
 人情報の項目\n会社名、部署名、お名前、電話番号、
 メールアドレス\n\n\n\n共同して利用する者の範囲\n興安
 計装株式会社/さくらインターネット株式会社\n\n\n共同
 して利用する個人情報の管理について責任を有する者
 の氏名又は名称\n上記“共同して利用する者の範囲”
 の項に示す会社間にて管理し、その責務を負います。\
 n\n\n共同して利用する者の利用目的\nメールマガジンの
 送付・電話やメールによるサービスやセミナー等のご
 案内\n\n
LOCATION:オンライン
URL:https://techplay.jp/event/796922?utm_medium=referral&utm_source=ics&utm
 _campaign=ics
END:VEVENT
END:VCALENDAR
