BEGIN:VCALENDAR
VERSION:2.0
PRODID:-//https://techplay.jp//JP
CALSCALE:GREGORIAN
METHOD:PUBLISH
X-WR-CALDESC:新しい時代の社会インフラをデザインするNTT
 コミュニケーションズ デザイナーの目指す未来
X-WR-CALNAME:新しい時代の社会インフラをデザインするNTT
 コミュニケーションズ デザイナーの目指す未来
X-WR-TIMEZONE:Asia/Tokyo
BEGIN:VTIMEZONE
TZID:Asia/Tokyo
BEGIN:STANDARD
DTSTART:19700101T000000
TZOFFSETFROM:+0900
TZOFFSETTO:+0900
TZNAME:JST
END:STANDARD
END:VTIMEZONE
BEGIN:VEVENT
UID:796928@techplay.jp
SUMMARY:新しい時代の社会インフラをデザインするNTTコミ
 ュニケーションズ デザイナーの目指す未来
DTSTART;TZID=Asia/Tokyo:20201024T153000
DTEND;TZID=Asia/Tokyo:20201024T162000
DTSTAMP:20260423T011407Z
CREATED:20201020T061257Z
DESCRIPTION:イベント詳細はこちら\nhttps://techplay.jp/event/79692
 8?utm_medium=referral&utm_source=ics&utm_campaign=ics\n\n新しい時代
 の社会インフラをデザインするNTTコミュニケーション
 ズ デザイナーの目指す未来\nNTTコミュニケーションズ
 にて2020年4月、デザインスタジオ「KOEL」が事業変革・
 事業創出を目的としたイノベーションセンター内に誕
 生しました。\nKOELではNTTコミュニケーションズの最先
 端のテクノロジーと世界最大規模の通信ネットワーク
 を使い\n「人や企業に愛される社会インフラをデザイ
 ンする」というビジョンを掲げています。 \n参考：KOEL
  note https://note.com/koelnote  \n今回、デザイナーなら一度
 は目にしたことがあるブログの執筆やUIデザインに閉
 じない豊富な経験を持つ荒砂智之さんに今までのキャ
 リアとKOELと共に目指す未来をお伺いします。\nこんな
 人にオススメ\n\n都市・モビリティー・教育など、社会
 インフラのデザインに興味のあるデザイナー　\n大規
 模サービス・大手企業のデザイナーの役割やキャリア
 に興味のあるデザイナー\nNTTコミュニケーションズの
 デザイナーが実際にどんな働き方・業務の進め方をし
 ているのか気になるデザイナー　　\n幅広い経験を持
 つデザイナーのキャリアについて知りたい、参考にし
 たいデザイナー\nDesignshipを楽しみ尽くしたい方\n\nスピ
 ーカー\n 荒砂智之 | NTTコミュニケーションズ イノベー
 ションセンター デザイン部門「KOEL」  \n受託のデザイ
 ン制作会社4社を経て、2020年からNTTコミュニケーショ
 ンズのデザイン部門「KOEL」にUIデザイナーとして在籍
 。主に情報設計からビジュアル制作を含むUIデザイン
 、プロジェクトマネジメント、デザイン組織作り、デ
 ザインシステム開発を担当しつつ、社内でUIデザイナ
 ーを育てる教育システム作りにも関わる。\n大きく反
 響を呼ぶブログ記事の執筆経験も多数あり、分かりや
 すく美しい提案書作りや作図のテクニックについても
 高い専門性を持つ。\n荒砂さんのTwitterはこちら!\n \nイ
 ンタビュアー\n佐宗純 | 株式会社グッドパッチ  \nReDesig
 ner事業責任者兼キャリアデザイナー\n立教大学卒業後
 、大手通信会社にてデザイン会社と組み、デザイン思
 考を用いた新規事業開発に従事。2015年にUXデザイナー
 として株式会社グッドパッチに入社。Prottの初期フェ
 ーズやデザイン思考研修の設計を担当。2018年5月、ReDes
 ignerをリリースし、2019年6月、ReDesigner for Studentをリリ
 ース。2020年6月、東証マザーズ上場を経験。現在は事
 業責任者兼キャリアデザイナーとしてチームをリード
 している。\nタイムスケジュール\n15:30 - ご挨拶・イン
 タビューセッション\n16:20 - 終了、アンケート\n登壇内
 容\n\nNTTコミュニケーションズにジョインするまでのご
 経験と入社に至るきっかけ \nNTTコミュニケーションズ 
 デザイン部門「KOEL」について  \nKOELにいる人や組織の
 環境、働き方  \n印象に残った仕事と学んだこと  \nNTT
 コミュニケーションズで働く面白さ・楽しさ・やりが
 い  \n\n参加方法\n\nお申し込みとともにアンケートへの
 ご協力をお願いいたします。\nお申し込みされた方に
 は【10月23日】までにURLをお送りいたしますので、開催
 時刻になりましたらログインをお願いいたします。\n
 緊急事態宣言を受け、各拠点からの配信となります。
 途中ご家族やペットの声など入る可能性がありますが
 ご了承ください。\n\n個人情報の取り扱いについて\n[利
 用目的について] お申込時に入力いただいた個人情報
 は、当イベント主催者が開催におけるお申込受付と実
 施連絡を行う目的、および今後有益と思われるサービ
 スやイベント・セミナーをご案内する目的で利用しま
 す。 「このイベントに申し込む」を押下した段階で、
 以下の個人情報の取り扱いについて同意したものとし
 ます。  \n[第三者提供について] ご提供いただいた個人
 情報は、下記の当イベント主催者へ提供いたします。
 各社のプライバシーポリシーに基づき、利用させてい
 ただきます。お客様の個人情報をお客様の同意なしに
 主催者以外の第三者に開示・提供することはございま
 せん（法令等により開示を求められた場合を除く）。\
 n・株式会グッドパッチ https://redesigner.jp/privacy/
LOCATION:Zoom
URL:https://techplay.jp/event/796928?utm_medium=referral&utm_source=ics&utm
 _campaign=ics
END:VEVENT
END:VCALENDAR
