BEGIN:VCALENDAR
VERSION:2.0
PRODID:-//https://techplay.jp//JP
CALSCALE:GREGORIAN
METHOD:PUBLISH
X-WR-CALDESC:BPLL #51
X-WR-CALNAME:BPLL #51
X-WR-TIMEZONE:Asia/Tokyo
BEGIN:VTIMEZONE
TZID:Asia/Tokyo
BEGIN:STANDARD
DTSTART:19700101T000000
TZOFFSETFROM:+0900
TZOFFSETTO:+0900
TZNAME:JST
END:STANDARD
END:VTIMEZONE
BEGIN:VEVENT
UID:796945@techplay.jp
SUMMARY:BPLL #51
DTSTART;TZID=Asia/Tokyo:20201117T121500
DTEND;TZID=Asia/Tokyo:20201117T125500
DTSTAMP:20260425T201819Z
CREATED:20201020T062049Z
DESCRIPTION:イベント詳細はこちら\nhttps://techplay.jp/event/79694
 5?utm_medium=referral&utm_source=ics&utm_campaign=ics\n\nしばらく zoo
 m によるリモート開催とします。\n新宿オフィスに来て
 も入れない可能性があるので気をつけて下さい\n開催
 の前日にエントリーしてくださった方へzoomのurlを送信
 します。\n※当日の開始直前にこの画面にもURLを出す
 のでメールを受け取れなかった方は見に来てください
 。\nBPLLとは\n\nBPLLとはBeProud Learning Lunchの略で、お昼ご
 はんを食べながら知見を共有する会です。Joy\, incとい
 う本の形式を踏襲しています。主に発表希望者が読ん
 だ本の話、新しいライブラリの話、勉強会で得た情報
 などの最近仕入れた新しい知識の発表を行います。\n
 発表人数：毎回1〜2人\n参考資料：ラーニングランチと
 は\n\n発表したい枠LTについて\n\nBPLLは技術以外の話も
 含めて知識を共有しています。好きなビールの話、旅
 行におすすめの場所の話、マンションを買ったときの
 手続きの話など、技術以外の話も大歓迎です！\n\nタイ
 ムテーブル\n\n\n\n時刻\n内容\n\n\n\n\n12:10\n開始１時間前
 に送られてきたzoomのURLにログイン\n\n\n12:15\nBPLL開始。B
 PLLについての説明 (@okusama27)\n\n\n12:20\n全員で軽く自己
 紹介(1人30秒以内) 自己紹介のお題: 参加しようと思っ
 ているAdvent Calendar or 近況報告\n\n\n12:30\nオフライン時
 代のPyConJPスタッフ仕事(会場編) ※仮題 (@natsu_bm)\n\n\n12:
 42\nコロナ渦とキャリアの話(仮) (@laugh_k)\n\n\n12:55\nBPLL終
 了\n\n\n\nこのイベントについて\n\n毎月開催しているBPLL
 に、せっかくだから社外の人も来てもらってわいわい
 してみる実験イベント\n5分程度の発表をしてみたい「
 発表したい枠」または「聞くだけ枠」に参加してくだ
 さい\n\n過去のBPLLでの発表例\n\nBPLL #50\n株式会社を作っ
 たら分かったこと (@hirokiky)\n\n\nBPLL #49 \nFlaskAPIへHTTP1.1
 ストリーミング (@Checkroth)\n20代独身でマンションを買
 った話 (konie)\n\n\nBPLL #48\n同人音楽活動を支えるサービ
 ス (altnight)\n\n\nBPLL #47\n年末にキューバに行った話 (@ssh2
 2_)\n質問と回答を連鎖して、一緒に学ぶ循環型の学習
 体験「OpenWeb理論の紹介」 (@itomakiweb)\n\n\nBPLL #46\n低FODMAP
 食品について﻿(masashinji)\nオペラのお話 (@yutakanzawa)\n\n\
 nBPLL #45\n歌舞伎について知っていること (@kenkendesu12)\nDj
 angoのパスワードハッシュアルゴリズムで PyramidのWebア
 プリケーション作った (@mizzsugar0425)\n\n\nBPLL #44\nElmでフ
 ロントエンドを楽しむ  (@matsPod)\n\n\nBPLL #43\ndependabotを
 使って運用しているおはなし @shimakaze_soft\n老後の資産
 を作ろう @okusama27\n\n\nBPLL #42\nマーケティングオートメ
 ーションてなんだろう (@yui_pbyy)\nEPUBをreStructuredTextに変
 換する君の紹介 (@shimizukawa)\n\n\nBPLL #41\nビジネス向けIT
 製品・クラウドサービスを60件レビューしてみた (drille
 r/どりらん (@patraqushe))\nVue.jsでゼロから作るローグライ
 クゲーム (@khajimo)\n\n\nBPLL #40\nDjangoCongress2020を長野でや
 る話他 (@hirokiky)\nPyCon TW と PyCon SGに行ってきた話 (@NaoY_
 py)\n\n\nBPLL #39\nキャッシュレス決済について (@wan)\nScrapb
 oxをはじめよう (@shimizukawa)\n\n\nBPLL #38\nスマホアプリを
 ０から設計してリリースするまでのこと (@selina787b)\nス
 クラムを導入してみた話(@shimakaze_soft)\n\n\nBPLL #37\nWindows
 を使いだしたときの失敗談 (@okusama27)\n豚コレラの話(@ha
 jime_nakagam)\n\n\nBPLL #36\n会社のつくりかた(driller/どりら
 ん)\nねんがんの ウィンドシンセ をてにいれたぞ！(@hyd
 den0310)\n\n\nBPLL #35\n「見えない仕事」に忙殺される人へ:
  小さな組織向け業務設計の方法 (@hirokiky)\n非IT企業の
 社員だって「いちばんやさしいPython機械学習の教本」
 を読めるんだ！を伝えたいお昼 (blow (@blow36064565))\n\n\nBP
 LL#34\nタイのコワーキングスペース視察してきた話 (shib
 sho)\nCode review tips (@ massa142)\n\n\nBPLL#33\nどこよりも早いUS
  PyCon参加レポート (@takanory)\nハッカソンで深層学習使
 って汚部屋警報を作った話 (@komo_fr)\n\n\nBPLL#32\nイチロ
 ーの話 (yosuke maehara)\n私の積読解消法 (@haru860)\n\n\nBPLL#31
 \n海外で送るBP生活の手引き〜シドニー編〜 (@johnsmith095
 1)\nBPに入ってからあったこと (@esuji)\n\n\nBPLL#30\n退屈な
 ことはSlack botにやらせよう (@takanory)\n\n\nBPLL#29\nSEでの
 実務アンチパターン (@mocamocaland)\n\n\nBPLL#28\n自作キーボ
 ードを作ってみた (@cactusman)\nクルーズ行ってきた (@shim
 izukawa)\n\n\nBPLL#27\nヨセミテの壁を登ってきた話 (@kashew_n
 uts)\nベトナムで2週間生活してきた話 (@mtb_beta)\n\n\nBPLL#2
 6\n20世紀企業で営業をHACKした話 (@RAGUNA2)\n\n\nBPLL#25\n10 mi
 nutes buddhism.pdf (@furico_1231)\n\n\nBPLL#24\nイベントノベルテ
 ィ印刷のはなし (@yui_pbyy)\n\n\nBPLL#23\ndigital nomads in bakgkok
   (@pontuyo)\n\n\nBPLL#22\nPyCon APAC 2018に行ってきた話 (@NaoY_py
 )\n\n\nBPLL#21\nfishshell (@afiram)\n\n\nBPLL#20\n今年食べたみか
 んの話 (@kk6)\nIntroduction to Artisanal Bread Making (@jamesvandyne)\
 n\n\nBPLL#19\nクライミングとPythonの話 (@kashew_nuts)\nはじめ
 てのPython記事執筆 (@k_nishikawan)\n\n\nBPLL#18\nみんなが知ら
 ない日本の空のこと  (@se_lina08)\nbash から Slack RTM を使
 う (@pjxiao)\n\n\nBPLL#17\n高瀬ダム（日本で最も堤高が高い
 ロックフィルダム）、私のオススメの楽しみ方 (@32imuf)
 \n学生のときから学びたかった金融知識の基礎 (driller/
 どりらん)\n\n\nBPLL#16\nBPLL#15\nAPI-Gateway+Lambdaでサーバーレ
 スWeb APIを作って実際どうだったか（公開版） (@susumuis)
 \nMachine Learning With Goを読んで (@ysaito8015)\n\n\nBPLL#14\n一生
 役立つ３つのライティング本 (@haru860)\n\n\n量子コンピ
 ュータの話 (@mocamocaland)\nオンライン英会話の話 (@okusama
 27)\nDesign for Real Life (@jamesvandyne)\nRundeckの話  (@crohaco)\nメ
 イドカフェでノマド会と0から1の発想術 (@susumuis)\nオブ
 ジェクト指向を学んで図解力と仕事力アップ (@haru860)\n
 APIをたたくコマンドラインツール(goolabs)を作った、と
 いう話 (@tell-k)\n他、本の紹介など\n
LOCATION:オンラインイベント オンライン
URL:https://techplay.jp/event/796945?utm_medium=referral&utm_source=ics&utm
 _campaign=ics
END:VEVENT
END:VCALENDAR
