BEGIN:VCALENDAR
VERSION:2.0
PRODID:-//https://techplay.jp//JP
CALSCALE:GREGORIAN
METHOD:PUBLISH
X-WR-CALDESC:【2020年11月18日(水)：ウェビナー】人工知能や
 データ分析テクノロジーを戦略的にビジネスに取り込
 むには？Vol.91
X-WR-CALNAME:【2020年11月18日(水)：ウェビナー】人工知能や
 データ分析テクノロジーを戦略的にビジネスに取り込
 むには？Vol.91
X-WR-TIMEZONE:Asia/Tokyo
BEGIN:VTIMEZONE
TZID:Asia/Tokyo
BEGIN:STANDARD
DTSTART:19700101T000000
TZOFFSETFROM:+0900
TZOFFSETTO:+0900
TZNAME:JST
END:STANDARD
END:VTIMEZONE
BEGIN:VEVENT
UID:797016@techplay.jp
SUMMARY:【2020年11月18日(水)：ウェビナー】人工知能やデー
 タ分析テクノロジーを戦略的にビジネスに取り込むに
 は？Vol.91
DTSTART;TZID=Asia/Tokyo:20201118T150000
DTEND;TZID=Asia/Tokyo:20201118T180000
DTSTAMP:20260419T211937Z
CREATED:20201021T044718Z
DESCRIPTION:イベント詳細はこちら\nhttps://techplay.jp/event/79701
 6?utm_medium=referral&utm_source=ics&utm_campaign=ics\n\n人工知能や
 データ分析テクノロジーを戦略的にビジネスに取り込
 むには？Vol.91\n～ グローバルな社会で日本人が戦うた
 めのスキルとは？ ～\n\n詳細：https://www.classcat.com/2020/10
 /21/1118/\n11月17日(火)18:00までの申込者にウェビナー参加
 URLをお知らせします。\n\nすでに多くの企業が人工知能
 テクノロジーの研究・開発に乗り出しており、あらゆ
 る業界・業種に適応され、活用の範囲を拡大しており
 ます。また、急速な進化により、私たちの暮らしに溶
 け込み、社会を変えつつあります。 しかしながら具体
 的に何をどこから始めてよいのか？具体的な効果を理
 解できずに人工知能やデータ分析テクノロジーを採用
 できていない企業も少なくありません。\n\n本セミナー
 では、人工知能やデータ分析テクノロジーの特性を理
 解し、適応する上での考慮点ならびに自社における活
 用のための具体的なステップを解説いたします。加え
 て、豊富な活用事例の紹介と共に人工知能テクノロジ
 ー採用プロジェクトの現状と課題について解説いたし
 ます。\n\n今回は、特別講演として米国Webrain Think Tank社
 の共同創業者である岩崎正史氏から「AI化するグロー
 バル社会の中で日本人が戦うためのスキルとは？」と
 題した講演をしていただきます。\n\n　セミナー参加者
 向け個別相談会(無償)実施中！\n　　http://www.classcat.com/
 ai_individual_consultation\n\n日時：2020年11月18日(水) 15:00-18:00
  (14:45 接続開始)\n会場：ウェビナー(WEBセミナー)\n環境
 ：ブラウザー(Chrome / FireFoxの最新版)が利用可能なPCま
 たはスマートデバイス\n\n共催：(株)クラスキャット、(
 株)XEENUTS\n後援：Webrain Think Tank LLC\, 働き方改革推進コ
 ンソーシアム\n参加費：無料 (事前登録制)\n定員：25名 
 (申込順で受付：定員になり次第受付終了)\n対象：経営
 責任者ならびに役員 (含む経営責任者からの依頼を受
 けた責任者)\n\n[開催内容]\n・15:00-15:20：オープニング\n
 本セミナーの趣旨と人工知能テクノロジーの経緯と最
 新動向\nクラスキャット\n\n・15:20-16:00：AI化するグロー
 バル社会の中で日本人が戦うためのスキルとは？\nWebra
 in Think Tank\n\n・16:00-16:10：休憩\n\n・16:10-16:50：人工知能
 やデータ分析テクノロジーを戦略的にビジネスに取り
 組むには?\n人工知能やデータ分析テクノロジーの特性
 を理解し、適応する上での考慮点ならびに自社におけ
 る活用のための具体的なステップを解説\nクラスキャ
 ット\n\n・16:50-17:40：適応検討の実態と日本企業におけ
 る課題\n豊富な活用事例の紹介と共に人工知能テクノ
 ロジー採用プロジェクトの現状に加えその課題と運用
 要件検討について解説\nXEENUTS(ジーナッツ)\n\n・17:40-18:0
 0：クロージング\nクロージングならびに質疑応答\n\n※
 セッションのタイトル・講師・時間配分などは、やむ
 なく変更されることがあります。予めご了承ください
 ますようお願いいたします。\n※他媒体でも告知・参
 加受付をしておりますので、本サイトの申込者数は全
 体の一部であることをご了承ください。\n\nお問合せは
  cc-seminar@classcat.com までお気軽にお問合せください。\n
LOCATION:オンライン
URL:https://techplay.jp/event/797016?utm_medium=referral&utm_source=ics&utm
 _campaign=ics
END:VEVENT
END:VCALENDAR
