BEGIN:VCALENDAR
VERSION:2.0
PRODID:-//https://techplay.jp//JP
CALSCALE:GREGORIAN
METHOD:PUBLISH
X-WR-CALDESC:技術書界隈を盛り上げる会 #16
X-WR-CALNAME:技術書界隈を盛り上げる会 #16
X-WR-TIMEZONE:Asia/Tokyo
BEGIN:VTIMEZONE
TZID:Asia/Tokyo
BEGIN:STANDARD
DTSTART:19700101T000000
TZOFFSETFROM:+0900
TZOFFSETTO:+0900
TZNAME:JST
END:STANDARD
END:VTIMEZONE
BEGIN:VEVENT
UID:797119@techplay.jp
SUMMARY:技術書界隈を盛り上げる会 #16
DTSTART;TZID=Asia/Tokyo:20201118T210000
DTEND;TZID=Asia/Tokyo:20201118T220000
DTSTAMP:20260425T164204Z
CREATED:20201021T142128Z
DESCRIPTION:イベント詳細はこちら\nhttps://techplay.jp/event/79711
 9?utm_medium=referral&utm_source=ics&utm_campaign=ics\n\n技術書界隈
 を盛り上げる会とは\n技術書典や技書博など、技術書
 を書く・発行することを応援するイベントです。\nYoutu
 beLive + Twitterを通して、技術書典や技書博で頒布されて
 いる書籍の紹介や、著者とお話をしたりなど、技術書
 の魅力を伝える様々な活動を行っていきます。  \nこの
 イベントは以下のような方にお勧めです。  \n\n技術書
 が好きな人  \n技術書を書いてみたい人  \n技術書を書
 いている人（著者の人）  \n技術書界隈って何？知りた
 い！という人  \n\n収録はZoomで行いますが、YoutubeLiveへ
 は10秒～30秒程度の遅延でライブ配信されます。\nTwitter
 でのコメントや、YoutubeLiveのコメントを拾いながら進
 めていきますので、どちらもお楽しみに！  \n第16回に
 ついて\n第16回ゲスト: 尾澤愛実さん（まなみん）\nど
 なたか、著者1名をお呼びして、本にかける想いや、書
 籍の紹介などを話していただければと考えています。 
 話したい！という方は、是非「話したい人」枠でご登
 録ください。\n技術書典では以下の本を今まで書いて
 きました\n職場のコミュニケーションをメインテーマ
 に取り上げ続けています。\nサークル名は「全日本キ
 ャリア教育改善推進協会」です\n\n現場の「ズレ」を解
 消するコミュニケーションメソッド\n会話の引き出し
 を増やす1on1カード （カードと解説本）\n1on1ミーティ
 ングで悩んだ時に読む本\n\nこんな話をしようと思って
 います\n\nこれらの本をなぜ作ったのか、どんな点に工
 夫して書いたのか、どんな風に作っていったのか\nど
 んなことを伝えたかったのか、本の内容など紹介\n\nあ
 とは参加者の皆さんが聞いて見たいと思うことを質問
 いただきながらお話できたらと思っています。\nいつ
 も1on1については語りますが、自分の話はあまりしない
 ので貴重かもしれません。。。w\nスケジュール\n21:00 
 開始\n21:05～21:10 会について\n21:10～22:00 フリートーク\n
 22:00～ 飲み会&流れ解散（Zoomへご移動ください） \n飲
 み会について\n飲み会は誰でも発言OK・いつでも参加OK
 ・いつでも退席OKの懇親会です。\nYoutubeLiveのイベント
 が終わりましたら、ZoomのURLからご参加ください。\n登
 壇者や著者の人に色々聞くチャンスです。\n毎回20人程
 度の方にご参加いただいていますので、どなたでもお
 気軽にご参加ください。\nパーソナリティの2人がいな
 くなっても、毎回飲み会は続いています。  \n過去のイ
 ベント\n第1回ゲスト：ごまなつさん\n第2回ゲスト：fumi
 yasacさん\n第3回ゲスト：かろてんさん\n第4回ゲスト：Au
 th屋さん\n第5回ゲスト：まぐろさん\n第6回ゲスト：モ
 ウフカブールさん\n第7回ゲスト：大岡由佳さん\n第8回
 ゲスト：おやかたさん\n第9回ゲスト：すみぞめさん\n
 第10回ゲスト：Yugenさん、Onigiriさん\n第11回ゲスト：湊
 川あいさん\n第12回ゲスト：技術書典9 新刊宣伝祭り\n
 第13回ゲスト：Growthfactionさん\n第14回ゲスト：WeBookさん
  \n第15回ゲスト：高柳さん   \nYoutubeLive\, ZoomのURL\n「参
 加者への情報」欄をご参照ください。\n実況のハッシ
 ュタグについて\n#技術書界隈を盛り上げる会\nイベン
 ト情報について\nTwitter @viva_tweet_x または @higuyume より
 不定期発信しています。\nイベント直前になりました
 ら、URLの情報もTwitterから発信しますので、ご確認くだ
 さい。\nパーソナリティ\n\n\n名前: 森一樹(@viva_tweet_x)\n
 所属: NRI bitLabs、NRI aslead、ふりかえり実践会(代表)、ふ
 りかえりBoost(代表)、プロジェクトマネージャ保護者会
 (運営)、アジャイルチームを支える会(理事)など  \nRole:
  チームファシリテーター、アジャイルコーチ\nバック
 グラウンド: CSM®\, CAL1®\, Management 3.0 Practitioner®\, DASA De
 vOps Fundamental\, DevOps Phoenix Project Workshop 認定ファシリテ
 ータ\nみんなに強化魔法をかける人。ふりかえり・チ
 ームビルディング・ファシリテーションを軸に、よい
 チームを作るために社内外で活動中です。ふりかえり
 の個別相談・ワークショップ・研修や、アジャイルコ
 ーチを行っています。\nふりかえり読本シリーズ・チ
 ームビルディング超実践ガイドの著者。SCRUM BOOT CAMP THE
  BOOK 増補改訂版のコラムニスト。\n\n\n\n名前: KANE(@higuyu
 me)\n所属: 株式会社うるる\nRole: スクラムマスター\nPodca
 stをよく生やす人。最近はYoutuberとしての活動にも力を
 入れている。イベント運営を支援するのが好き\n
LOCATION:YouTubeLive+Twitter オンライン
URL:https://techplay.jp/event/797119?utm_medium=referral&utm_source=ics&utm
 _campaign=ics
END:VEVENT
END:VCALENDAR
