BEGIN:VCALENDAR
VERSION:2.0
PRODID:-//https://techplay.jp//JP
CALSCALE:GREGORIAN
METHOD:PUBLISH
X-WR-CALDESC:【Online/大阪】11/10火 最大70%OFFでAIエンジニア
 ！E資格講座紹介＋キャリア面談
X-WR-CALNAME:【Online/大阪】11/10火 最大70%OFFでAIエンジニア
 ！E資格講座紹介＋キャリア面談
X-WR-TIMEZONE:Asia/Tokyo
BEGIN:VTIMEZONE
TZID:Asia/Tokyo
BEGIN:STANDARD
DTSTART:19700101T000000
TZOFFSETFROM:+0900
TZOFFSETTO:+0900
TZNAME:JST
END:STANDARD
END:VTIMEZONE
BEGIN:VEVENT
UID:797138@techplay.jp
SUMMARY:【Online/大阪】11/10火 最大70%OFFでAIエンジニア！E資
 格講座紹介＋キャリア面談
DTSTART;TZID=Asia/Tokyo:20201110T190000
DTEND;TZID=Asia/Tokyo:20201110T210000
DTSTAMP:20260423T230629Z
CREATED:20201022T020447Z
DESCRIPTION:イベント詳細はこちら\nhttps://techplay.jp/event/79713
 8?utm_medium=referral&utm_source=ics&utm_campaign=ics\n\n内容概要\n
 本説明会では、前半はE資格取得を目指せる『ディープ
 ラーニング講座』について、後半でディープラーニン
 グ講座をお得に受講できる『教育訓練給付制度』につ
 いてお話いたします。\n『ディープラーニング講座』
 のみの話を聞きたいという方は、前半のみのご参加も
 歓迎です。\nまた、説明会後には会場にお越しいただ
 いた希望者の方を対象に、AIエンジニアとしてのキャ
 リアを歩んでいく上でのご相談やアドバイス等を目的
 としたキャリア面談も任意で実施いたします。\n【前
 半】\n『現場で使えるディープラーニング基礎講座』
 について\n日本ディープラーニング協会の認定プログ
 ラム第１号であるスキルアップAIが提供する『現場で
 使えるディープラーニング基礎講座』についてご説明
 します。本講座を修了することで、E資格の受験資格を
 得ることができます。\n「現在のAI人材育成市況は？」
 「E資格を取得のメリットは？」「E資格の難易度は？
 」「どんな勉強をどれくらいすればいいの？」など、5
 00名近いE資格合格者輩出の実績をもとに、お話しいた
 します。\n【後半】\n厚生労働省認定の「教育訓練給付
 制度（専門実践教育訓練）講座」に指定された講座に
 ついて\nスキルアップAIでは、厚生労働省指定の「専門
 実践教育訓練給付制度」の対象講座について、今年4月
 に認定を受けた対面講座2つに加え、10月より新たにオ
 ンライン講座も含めた4つが給付金認定に認定されまし
 た。\nこの給付金制度を活用することで、受講料が最
 大70%助成されます！\n現在認定されている6つのコース
 は、すべて『現場で使えるディープラーニング基礎講
 座』が含まれておりますので、\nお得に受講しながら
 、E資格取得を目指すことができます。\n条件を満たせ
 ば**「離職中」の方だけではなく、「在職中」**の方も
 対象となる制度ですので、制度を知らない方も、ぜひ
 お気軽にご参加ください。\n給付金対象者は？どのよ
 うな手続きをすればよいの？自分にあった給付金講座
 は？対面とオンラインの違いは？\nなど、本説明会で
 は、皆様の気になる疑問・質問に、担当者が直接お答
 えいたします。\nまた、本説明会中はチャット及び口
 頭でも質問タイムがございますので、気になることが
 あれば、その場でご確認いただけます。\nまた、説明
 会後、担当者は少し残りますので、説明会中に質問で
 きなかった、個別で聞きたいことがあるという方は、
 その際にご相談いただくことも可能です。\n【キャリ
 ア面談（会場にお越しいただいた方のみ）】\nAIエンジ
 ニアとしてのキャリアを歩んでいくためには\n学んだ
 技術を活かしてAIエンジニアとして活躍するために必
 要な、具体的な能力やキャリアステップなど、AI研修
 のパイオニアであるスキルアップAIの選任アドバイザ
 ーが個別面談を通してお話しします。\nまた、今後の
 キャリアにおいてのお悩みやご相談、現状を伺ったう
 えでのキャリアアドバイスなども必要に応じて実施さ
 せていただきます。\n説明会ご参加に当たって\n本説明
 会は、どなたでもご参加いただくことができます。\n
 給付金対象であるかわからないという方も、まずは説
 明会にご参加いただくことをおススメいたします。\n
 ※給付金制度についての詳細な情報はお近くのハロー
 ワークにてご確認ください\n　手続きの流れについて
 は、説明会でもお伝えさせていただきます\n・専門実
 践教育訓練の給付金について（厚生労働省）詳細はこ
 ちら\n・専門実践教育訓練給付金についてのQ&A （厚生
 労働省）詳細はこちら\n・こちらのサイトでも、受給
 までの流れが分かりやすく紹介されています\n日程\n11/
 10（火）\n19:00~20:00　説明会（ライブ配信も同時実施）\
 n20:00~21:00　キャリア面談（会場にお越しの希望者のみ
 ）\n会場\nスキルアップAI　大阪オフィス\n〒530-0001\n大
 阪府大阪市北区梅田１丁目３−１ 大阪駅前第1ビル 6F 5
 -2号室\nGooglemapで見る\nライブ配信での説明会ご参加に
 ついて\n会場にお越しいただくことが難しい場合は、
 ライブ配信での説明会へのご参加も可能です。\nライ
 ブ配信では、Zoomを使用します。\n開催前日までに、視
 聴URL・ミーティングID・パスワードをメールでご案内
 いたします。\n※ ライブ配信にもご参加いただけない
 方はこちらから「アーカイブ動画提供」をお申込みく
 ださい。\n備考\n説明会内容を撮影もしくは録音するこ
 とは、ご遠慮ください\n個人情報の取扱いについて\n申
 し込み時にご提供いただいた情報は、イベント受付管
 理や各種ご案内（サービス・イベント等）に利用させ
 ていただきます。\n会社紹介\n\n東京大学系のベンチャ
 ー企業。実務で使えることを重要視したカリキュラム
 をアクティブラーニングによって学べ、数学・Pythonプ
 ログラミング・機械学習・ディープラーニングなど体
 系化された幅広いテーマを扱っている。JDLAが実施する
 E資格（エンジニア向け）では、受験資格を得るための
 「JDLA認定プログラム」を日本で最初に取得しており、
 これまで500名近いE資格合格者を輩出している。\nskillup
 ai.com/\n
LOCATION:スキルアップAI　大阪オフィス 大阪府大阪市北区
 梅田１丁目３−１ 大阪駅前第1ビル 6F 5-2号室
URL:https://techplay.jp/event/797138?utm_medium=referral&utm_source=ics&utm
 _campaign=ics
END:VEVENT
END:VCALENDAR
