BEGIN:VCALENDAR
VERSION:2.0
PRODID:-//https://techplay.jp//JP
CALSCALE:GREGORIAN
METHOD:PUBLISH
X-WR-CALDESC:サバノミソニONLINE～プロジェクトマネジメン
 ト経験者が語る！テレワークでも案件をスムーズに進
 めるコツとは？～
X-WR-CALNAME:サバノミソニONLINE～プロジェクトマネジメン
 ト経験者が語る！テレワークでも案件をスムーズに進
 めるコツとは？～
X-WR-TIMEZONE:Asia/Tokyo
BEGIN:VTIMEZONE
TZID:Asia/Tokyo
BEGIN:STANDARD
DTSTART:19700101T000000
TZOFFSETFROM:+0900
TZOFFSETTO:+0900
TZNAME:JST
END:STANDARD
END:VTIMEZONE
BEGIN:VEVENT
UID:797358@techplay.jp
SUMMARY:サバノミソニONLINE～プロジェクトマネジメント経
 験者が語る！テレワークでも案件をスムーズに進める
 コツとは？～
DTSTART;TZID=Asia/Tokyo:20201117T193000
DTEND;TZID=Asia/Tokyo:20201117T204000
DTSTAMP:20260425T133542Z
CREATED:20201023T140007Z
DESCRIPTION:イベント詳細はこちら\nhttps://techplay.jp/event/79735
 8?utm_medium=referral&utm_source=ics&utm_campaign=ics\n\n現場で奮闘
 中のエンジニアが語る！リモートでのプロジェクトマ
 ネジメント、成功の秘訣\n\nサーバーワークスが主催す
 る、エンジニアのためのオンライン交流イベント「サ
 バノミソニONLINE」です。\n\n今回は、テレワークをしな
 がらプロジェクトマネジメントを行っている社員4名が
 登場！\n普段から気をつけていること・リモートでの
 あるあるなどをざっくばらんに語ります。\n\nいざ案件
 が始まってみたら、こんなところに課題があった…！\
 n逆に、こんな時はリモートで良かった！\n\nなどなど
 、急にテレワークを余儀なくされたり、プロジェクト
 マネジメントに課題を感じている方のヒントになる内
 容がたくさんあると思いますので、ぜひご参加くださ
 い！\n\nサバノミソニONLINEって？\n\nサーバーワークス
 という会社を今まで知らなかったけど、少し興味があ
 る！\n動画で見たことがあるけど、もう少し話を聞い
 てみたい！\n自分の会社以外の人って、ふだんどんな
 風に仕事してるんだろう？\n\nそんな方のための、オン
 ライン交流イベントです。\n\n毎回違うテーマを取り上
 げ、当社で活躍しているエンジニアを招いてLT形式や
 対話形式をとりながら技術について・会社のことにつ
 いて、みなさんと情報交換していきたいと考えていま
 す。\n\n当日はライブチャットでみなさんからのご質問
 にその場で答える時間も設ける予定です。\nまた、会
 の後半では懇親会の時間も用意していますので、サー
 バーワークスではたらくメンバーと直接コミュニケー
 ションをとることができます。\n\n「聞くだけ」ではな
 く「直接話せる・質問できる」オンラインイベントで
 す！\n\nみなさんとお会いできることを楽しみにしてい
 ます。\n\nタイムスケジュール\n\n\n\n時間\n内容\n\n\n\n19:
 30\nはじめのご挨拶\n\n\n19:35\n座談会『プロジェクトマ
 ネジメント経験者が語る！テレワークでも案件をスム
 ーズに進めるコツとは？』\n\n\n20:10\n懇親会\n\n\n20:30\n
 アンケート・お知らせ\n\n\n20:40\n終了予定\n\n
LOCATION:オンライン
URL:https://techplay.jp/event/797358?utm_medium=referral&utm_source=ics&utm
 _campaign=ics
END:VEVENT
END:VCALENDAR
