BEGIN:VCALENDAR
VERSION:2.0
PRODID:-//https://techplay.jp//JP
CALSCALE:GREGORIAN
METHOD:PUBLISH
X-WR-CALDESC:【無料セミナー】「Google検索で行う集患・増
 患戦略法 第二弾！」  過去参加累計約700名！！
X-WR-CALNAME:【無料セミナー】「Google検索で行う集患・増
 患戦略法 第二弾！」  過去参加累計約700名！！
X-WR-TIMEZONE:Asia/Tokyo
BEGIN:VTIMEZONE
TZID:Asia/Tokyo
BEGIN:STANDARD
DTSTART:19700101T000000
TZOFFSETFROM:+0900
TZOFFSETTO:+0900
TZNAME:JST
END:STANDARD
END:VTIMEZONE
BEGIN:VEVENT
UID:797555@techplay.jp
SUMMARY:【無料セミナー】「Google検索で行う集患・増患戦
 略法 第二弾！」  過去参加累計約700名！！
DTSTART;TZID=Asia/Tokyo:20201028T200000
DTEND;TZID=Asia/Tokyo:20201028T210000
DTSTAMP:20260422T104817Z
CREATED:20201026T100728Z
DESCRIPTION:イベント詳細はこちら\nhttps://techplay.jp/event/79755
 5?utm_medium=referral&utm_source=ics&utm_campaign=ics\n\n概要\nこれ
 まで累計約700名以上の先生方・歯科医院経営者の皆様
 にご参加頂いたセミナーを、好評につき、更なるアッ
 プデートをしてお届けいたします！\n昨今の新型コロ
 ナの影響により、不要不急外出を前提としない生活ス
 タイルに世の中が変化しています。\nそんな不要不急
 外出が持続的に続くwithコロナ想定の中で、 ローカルSE
 O（Google Map表示）を活用した、コロナの経済影響を最
 小限に抑えるWeb集客ノウハウをお話させて頂きます。
 また、【ご参加頂いた方限定特典】も多数ご用意して
 おります。皆様奮ってご参加下さい。\n日時\n10月28日
 （水曜日） 20:00～21:00\nタイムスケジュール\n19:50～20:00
  受付20:00～20:50 「GoogleローカルSEO対策について」＜登
 壇者　平田＞20:50～21:00 質疑応答\n※ 当日予告なく時
 間配分・内容が変更になる可能性がございます。\n対
 象者\n歯科医師、歯学部生、歯科衛生士、歯科技工士
 、歯科助手・その他※同業と判断される企業様のお申
 し込みはご遠慮頂いております。\n参加方法\n無料オン
 ライン配信（Zoom）\n\n※PCやタブレットなどの端末と、
 インターネット環境があればご覧いただけます。※モ
 バイルでご視聴の場合は、iPhoneまたはAndroid向けのZoom
 モバイルアプリを事前にダウンロードください。※セ
 キュリティソフトウェア等の機能により配信システム
 がうまく機能しない場合がございます。あらかじめご
 了承くださいませ。\n参加特典\nセミナー終了後のアン
 ケート回答頂いた方全員に、Googleアルゴリズムのロジ
 ック研究を10年以上行ってきたGMO TECH社の、Webサイトの
 SEOを成功に導くGMOTECH オリジナルの「SEO教科書」を無
 料で贈呈いたします。\n登壇者\n\nGMOTECH株式会社　プロ
 ダクトマーケティング本部コマーシャル営業部　マー
 ケティング営業グループ平田　幸志郎（ひらた　こう
 しろう）\n2016年 GMO TECH新卒入社。SEOや運用型広告を中
 心に扱うSEM事業部にて営業を担当。\nその後、HR領域を
 専門的に扱う部署へコンサルタントとして参画。\n3年
 目でGMOグループアワード（個人売上表彰）、4年目でア
 シスタントマネージャーとして8名のマネジメントを担
 当。\n\n参加費\n無料\n定員\n先着50名\n主催\nGMO TECH株式
 会社\n詳細・お申込み\nhttps://semlabo.com/meo/seminar/20201028_l
 ocalseo_application_seminar/
LOCATION:オンライン
URL:https://techplay.jp/event/797555?utm_medium=referral&utm_source=ics&utm
 _campaign=ics
END:VEVENT
END:VCALENDAR
