BEGIN:VCALENDAR
VERSION:2.0
PRODID:-//https://techplay.jp//JP
CALSCALE:GREGORIAN
METHOD:PUBLISH
X-WR-CALDESC:Tableauデータサイエンス勉強会・LT＆Meetup 2020-12
X-WR-CALNAME:Tableauデータサイエンス勉強会・LT＆Meetup 2020-12
X-WR-TIMEZONE:Asia/Tokyo
BEGIN:VTIMEZONE
TZID:Asia/Tokyo
BEGIN:STANDARD
DTSTART:19700101T000000
TZOFFSETFROM:+0900
TZOFFSETTO:+0900
TZNAME:JST
END:STANDARD
END:VTIMEZONE
BEGIN:VEVENT
UID:797720@techplay.jp
SUMMARY:Tableauデータサイエンス勉強会・LT＆Meetup 2020-12
DTSTART;TZID=Asia/Tokyo:20201209T190000
DTEND;TZID=Asia/Tokyo:20201209T213000
DTSTAMP:20260423T212607Z
CREATED:20201028T044758Z
DESCRIPTION:イベント詳細はこちら\nhttps://techplay.jp/event/79772
 0?utm_medium=referral&utm_source=ics&utm_campaign=ics\n\n概要\n・　
 「データ」をネタに仲間が見つかる、仲間と繋がれる
 イベントです。\n・　参加することに意義がある！　
 聞くだけではなく、皆さんからの情報発信に参加いた
 だけるイベントです。\n\n・　「Tableauデータサイエン
 ス勉強会」はTableau からデータ分析を始めてこれから
 データサイエンスの世界に活躍の場を広げていきたい
 方と、既にデータサイエンス分野で活躍されていて、T
 ableauを使って分析プロセスを効率化、効果的に可視化
 表現したい方を繋ぐコミュニティ―です。データの可
 視化から始めてデータサイエンスを楽しみたい方、「D
 ATA」をネタにボーダーを超えた異業種間交流したい方
 がワイワイ盛り上がれる勉強会です。\nFacebookグループ
 『Tableauデータサイエンス勉強会』\n\n・　前半にライ
 トニングトーク、後半はZoom5.3ブレイクアウトルーム新
 機能を利用した懇親会を行います。\n\n・　参加者の皆
 様には別途Dropboxの自己紹介、告知掲示板のご案内をい
 たします。告知希望の方は掲示板に記入いただけると
 懇親会でも話の切っ掛けにしていただけるかと思いま
 す。\n\n・　データをネタにワイワイ盛り上がりたい方
 も、新しい出会いを求めてソーシャライズしたい方も
 お気軽にご参加ください！\n\n・　Zoomのリンクは開催
 の数日前にご連絡いたします。また、Techplay本ページ
 のオンライン配信情報にて公開いたします。\n\n\n\n時
 間割り\n\n\n\n\n\n\n\n\n19:00 - 19:10\n\nオープニング\n\n\nフ
 ァシリテーター：　\nスプライングローバル株式会社\n
 岩橋　智宏　\n\n\n\n19:10 - 19:30\n\nLT#1　（DX/コミュニテ
 ィ）\n『武器としてのBIツール』\n\n\nVSN\,Ink\n久保　勇
 二さん　\nTwitter @yujikb\n\n\n\n\n\n19:30 - 19:50\n\nLT#2 　（DX/
 コミュニティ）\n『データ分析教育への取り組み』\n\n\
 n福岡大学　商学部　准教授\n太宰　潮　さん\n\n\n\n\n19:
 50 - 20:10\n\nLT#3　（マイルド）\n『勉強会の探し方と、
 データアントレプレナーフェロープログラムの紹介』\
 n\n\nINSIGHT LAB株式会社\n柴田　路子 さん\nTwitter:@Chimikonec
 o\n\n\n\n\n20:10 - 20:30\n\nLT#4 　（ピリ辛？）\n『自動機械
 学習する際のTableauの大きな役割について』\n\n\n\n\n\n株
 式会社GRI　取締役　\n古幡　征史　さん\n\n\n\n\n\n20:30-20
 :40\n\n\n連絡タイム\n\n\n連絡、お知らせ、宣伝したい方
 は事前にご連絡ください。\n\n\n\n\n20:40　始まりは少し
 遅くなるかもしれません。 - 21:30 終わりもきっちりじ
 ゃないかもしれません。\n（自由解散）\n\n\nオンライ
 ン懇親会\n\n\n\nzoom 5.3 ブレイクアウトルーム新機能（
 参加者が自由にルームを入退室できる）を使った緩い
 懇親会を行います。飲み物片手にご参加ください。\n\n
 ご参加の方は必ずZoom 5.3以上をインストール更新くだ
 さい。\nhttps://zoom.us/download\n\n\n\n\n\n告知掲示板\n\n\n\n\n
 参加者の皆様には別途Dropboxの自己紹介、告知掲示板の
 ご案内をいたします。\n告知希望の方は掲示板に記入
 いただけると懇親会でも話の切っ掛けにしていただけ
 るかと思います。\n\n\n\n\n\n\n【主催側からのイントロ
 】\n\n\n柴田　路子 さん：\n勉強会探すためのどんな情
 報を見るといいの？というヒントと、そこから見つけ
 て参加した「データアントレプレナーフェロープログ
 ラム」での体験等紹介してくださる予定です。一緒に
 勉強できる仲間も増やしていけると良いですね！　\n\n
 \n太宰　潮　さん：\n前回発表された福岡大学高松さん
 が所属するの先生です！データ分析業界に多くの逸材
 を輩出されている太宰先生が考える「データ分析教育
 への取り組み」について、はじめの興味の教え方、ロ
 ーデータからいじることの大事さ、アウトプットの大
 切さ等お話いただく予定です。\n\n\n久保　勇二さん\n
 課題として、 データの活用、利活用ができていない！
  とにかく何から手をつけていいかわからない 現状の
 様々な企業ケースをもとに BIツールを使ってDXまで持
 ち込む方法 を成功事例と失敗事例をベースに多角的に
 分析するケーススタディをお話しいただく予定です。\
 n\n\n古幡　征史　さん\nForecastFlowを含む自動機械学習プ
 ロダクトを使って、特徴量エンジニアリング、推論で
 のtabpy連携、推論結果から施策の選定…といったプロ
 セスの中で、今回は特徴量エンジニアリングの部分を
 お話いただけるかと思います。自動機械学習とTableauを
 どう組み合わせていくのか伺えると私は嬉しいな・・
 ・\n\n\n参加条件\nオンライン懇親会参加の方はZoom 5.3以
 上をダウンロードください。　ブレイクアウトルーム
 に自由に入退出する新機能を使ってグループに分かれ
 て会話できるようにいたします。 Zoom 5.3より前のバー
 ジョンですと、ブレークアウトルームに自由に入退出
 することができません。\nhttps://zoom.us/download\n\n\nお申
 込み\nTechplay より先着順（申し込みアンケートにご記
 入ください）\n\n
LOCATION:Zoomオンライン
URL:https://techplay.jp/event/797720?utm_medium=referral&utm_source=ics&utm
 _campaign=ics
END:VEVENT
END:VCALENDAR
