BEGIN:VCALENDAR
VERSION:2.0
PRODID:-//https://techplay.jp//JP
CALSCALE:GREGORIAN
METHOD:PUBLISH
X-WR-CALDESC:NCMB駆け込み寺（リモート相談室） #1
X-WR-CALNAME:NCMB駆け込み寺（リモート相談室） #1
X-WR-TIMEZONE:Asia/Tokyo
BEGIN:VTIMEZONE
TZID:Asia/Tokyo
BEGIN:STANDARD
DTSTART:19700101T000000
TZOFFSETFROM:+0900
TZOFFSETTO:+0900
TZNAME:JST
END:STANDARD
END:VTIMEZONE
BEGIN:VEVENT
UID:797805@techplay.jp
SUMMARY:NCMB駆け込み寺（リモート相談室） #1
DTSTART;TZID=Asia/Tokyo:20201130T130000
DTEND;TZID=Asia/Tokyo:20201130T180000
DTSTAMP:20260419T221725Z
CREATED:20201028T142305Z
DESCRIPTION:イベント詳細はこちら\nhttps://techplay.jp/event/79780
 5?utm_medium=referral&utm_source=ics&utm_campaign=ics\n\nイベントURL\
 nDiscordを使って行います。事前参加も可能です。\nhttps:
 //discord.gg/nwYxQy7\n駆け込み寺では、アプリ開発を行って
 いる際のお悩み、相談を行います。予定されている13
 〜18時の間、いつでも相談が可能です。たとえば次の
 ようなお悩みを抱えている方が対象です。\n\nアプリ開
 発中で解決できないコードの問題がある\nアーキテク
 チャを相談したい\nこんなことはアプリで実現できま
 すか？\nこういうアプリを作る場合、どれくらいの費
 用がかかりますか？\n既存システムから移行したい\nMon
 acaアプリでうまく動かない部分がある\nNCMBの使い方を
 知りたい\n\n何でもご相談ください！\n※ 一回のご相談
 は15分程度とします\nタイムスケジュール\n\n\n\n時間\n
 内容\n\n\n\n\n13:00\n開場、いつでも参加できます\n\n\n18:00
 \n終了\n\n\n\n場所\nオンライン（Discordを利用）
LOCATION:オンライン
URL:https://techplay.jp/event/797805?utm_medium=referral&utm_source=ics&utm
 _campaign=ics
END:VEVENT
END:VCALENDAR
