BEGIN:VCALENDAR
VERSION:2.0
PRODID:-//https://techplay.jp//JP
CALSCALE:GREGORIAN
METHOD:PUBLISH
X-WR-CALDESC:【最大32万円支給！】東京都の助成金を活用し
 たデジタルマーケティング研修説明会
X-WR-CALNAME:【最大32万円支給！】東京都の助成金を活用し
 たデジタルマーケティング研修説明会
X-WR-TIMEZONE:Asia/Tokyo
BEGIN:VTIMEZONE
TZID:Asia/Tokyo
BEGIN:STANDARD
DTSTART:19700101T000000
TZOFFSETFROM:+0900
TZOFFSETTO:+0900
TZNAME:JST
END:STANDARD
END:VTIMEZONE
BEGIN:VEVENT
UID:797835@techplay.jp
SUMMARY:【最大32万円支給！】東京都の助成金を活用した
 デジタルマーケティング研修説明会
DTSTART;TZID=Asia/Tokyo:20201111T180000
DTEND;TZID=Asia/Tokyo:20201111T183000
DTSTAMP:20260421T041336Z
CREATED:20201029T050254Z
DESCRIPTION:イベント詳細はこちら\nhttps://techplay.jp/event/79783
 5?utm_medium=referral&utm_source=ics&utm_campaign=ics\n\n【最大32万
 円支給！】東京都の助成金を活用したデジタルマーケ
 ティング研修説明会\n概要\n参加料：無料\n日時　：11
 月11日（水）18:00～18:30　場所　：zoomにて実施 (予定時
 間30分前までにURLを送付させて頂きます)\n参加対象\n・
 企業研修担当者様\n・経営者・役員の方\n・マーケティ
 ング・セールス担当責任者の方\n使わなければ損にな
 る、助成金\nコロナウイルス感染対策として、東京都
 が中小企業を対象とした職業訓練に係る経費を助成し
 ております。\n今、従来の営業が簡単にできないから
 こそ、\n\n・自社商品、サービスの認知度を上げたい\n
 ・Webからの獲得、売上を伸ばしたい\n・このタイミン
 グでWebからの獲得スキームを整えたい\n\nこのようなこ
 とを考えると思います\n\n今回は、研修を受けたり、サ
 ポート受けるなら\n「当然費用はかけたくない・・・
 」\nという企業様のために、使わないと非常にもった
 いない助成金とデジタルマーケティング研修の概要に
 ついてセミナーを開催させていただきます。\n\n約30分
 ほどとなりますので、普段忙しいけど助成金の情報は
 取得したいという方、研修のご担当者様は是非ご参加
 ください。\nタイムスケジュール\n\n\n\n時間\n内容\n\n\n1
 7:50〜\n受付開始\n\n\n18:00〜18:10\n中小企業人材オンライ
 ンスキルアップ支援事業について\n\n\n18:10〜18:25\n\n合
 同会社YuMKが提供するマーケティング支援・研修の説明
 \n\n\n\n18:25〜\n\n質疑応答\n\n\n\n\n※ 当日予告なく時間配
 分・内容が変更になる可能性がございます。\n注意事
 項\n・本講座はオンライン会議システム「ZOOM」を使用
 いたします。使用方法等につきましては事前にご確認
 の上、当日メール、メッセージよりご案内させていた
 だきますURLより御入室くださいませ。\nハッシュタグ\n
 #mercedu\n注意事項\n※ 参加を辞退する場合は、詳細ペー
 ジより申込のキャンセルをお願い致します。※ 無断キ
 ャンセル・欠席が続く場合、次回以降の参加をお断り
 させていただく場合がございますのでご了承ください
 。\n 
LOCATION:オンライン（zoom）
URL:https://techplay.jp/event/797835?utm_medium=referral&utm_source=ics&utm
 _campaign=ics
END:VEVENT
END:VCALENDAR
