BEGIN:VCALENDAR
VERSION:2.0
PRODID:-//https://techplay.jp//JP
CALSCALE:GREGORIAN
METHOD:PUBLISH
X-WR-CALDESC:AWSの基礎を学ぼう 第二十二回
X-WR-CALNAME:AWSの基礎を学ぼう 第二十二回
X-WR-TIMEZONE:Asia/Tokyo
BEGIN:VTIMEZONE
TZID:Asia/Tokyo
BEGIN:STANDARD
DTSTART:19700101T000000
TZOFFSETFROM:+0900
TZOFFSETTO:+0900
TZNAME:JST
END:STANDARD
END:VTIMEZONE
BEGIN:VEVENT
UID:798148@techplay.jp
SUMMARY:AWSの基礎を学ぼう 第二十二回
DTSTART;TZID=Asia/Tokyo:20201123T121500
DTEND;TZID=Asia/Tokyo:20201123T130000
DTSTAMP:20260422T133055Z
CREATED:20201101T141125Z
DESCRIPTION:イベント詳細はこちら\nhttps://techplay.jp/event/79814
 8?utm_medium=referral&utm_source=ics&utm_campaign=ics\n\n第八回から
 イベント時間を12時15分開始とします。\nお昼休み時間
 に気軽にご参加ください。\n13時15分ではないので、ご
 注意ください！！\nAmazon Web Services (AWS)は現在175を超え
 るサービスを提供し、日々サービスの拡充を続けてい
 ます。\nこのAWS DevRelシリーズでは週次でAWSのサービス
 をひとつづつ取り上げながらその基礎を説明していく\
 n初心者、中級者をターゲットとした講座です。午後の
 仕事前にスキルアップを一緒にしませんか？\n第二十
 二回は完全マネージド型のバックアップサービスで、A
 WS のサービス全体にわたり、データのバックアップの
 一元化および自動化を容易にする、AWS Backup、Amazon EBS 
 スナップショットライフサイクルの自動化を実現するA
 mazon Data Lifecycle Managerです。\n学ぶサービス\nAWS Backup\nAm
 azon DLM\n\n配信はAmazon Chimeを使います。当日お申込みい
 ただいた方向けに12時ごろAmazon ChimeのログインURLをお
 送りします。ブラウザでも視聴可能です。\n資料はオ
 ンラインイベント中にSlideshareのURLを共有します。\nそ
 れではみなさんとお会いできることを楽しみにしてい
 ます。\n講師：アマゾン ウェブ サービス ジャパン、
 シニアエバンジェリスト 亀田\n\n注意点\n登壇者による
 発表内容はアマゾン ウェブ サービス ジャパンとして
 主催しているものではなく、コミュニティ活動の一環
 として勉強会の主催を行っているものです。
LOCATION:オンライン Amazon Chime
URL:https://techplay.jp/event/798148?utm_medium=referral&utm_source=ics&utm
 _campaign=ics
END:VEVENT
END:VCALENDAR
