BEGIN:VCALENDAR
VERSION:2.0
PRODID:-//https://techplay.jp//JP
CALSCALE:GREGORIAN
METHOD:PUBLISH
X-WR-CALDESC:オンラインざわざわもくもく会CLOTO　ー　水曜
 会！（Web制作の日）
X-WR-CALNAME:オンラインざわざわもくもく会CLOTO　ー　水曜
 会！（Web制作の日）
X-WR-TIMEZONE:Asia/Tokyo
BEGIN:VTIMEZONE
TZID:Asia/Tokyo
BEGIN:STANDARD
DTSTART:19700101T000000
TZOFFSETFROM:+0900
TZOFFSETTO:+0900
TZNAME:JST
END:STANDARD
END:VTIMEZONE
BEGIN:VEVENT
UID:798391@techplay.jp
SUMMARY:オンラインざわざわもくもく会CLOTO　ー　水曜会
 ！（Web制作の日）
DTSTART;TZID=Asia/Tokyo:20201118T200000
DTEND;TZID=Asia/Tokyo:20201118T230000
DTSTAMP:20260423T063220Z
CREATED:20201103T211445Z
DESCRIPTION:イベント詳細はこちら\nhttps://techplay.jp/event/79839
 1?utm_medium=referral&utm_source=ics&utm_campaign=ics\n\nオンライン
 自習室CLOTO\n\n現在私たちはプログラミング学習者向け
 の自学習プラットフォーム「オンライン自習室CLOTO」(W
 ebアプリ)の開発をしています（詳細はCLOTOホームペー
 ジをご覧ください）。\nCLOTOはオンラインでのもくもく
 会をバージョンアップさせ、プログラミングに関する
 自学習環境を改革することを目指しています。\nオン
 ラインざわざわもくもく会CLOTO\n\nざわざわもくもく会
 では、「オンライン自習室CLOTO」のローンチに先立ち
 、よりモチベーションの維持や、プログラミング学習
 者のコミュニティを創ることの良さを引き立たせるこ
 とにコミットした、オンラインもくもく会を開催して
 いくことを目指しています。\n参加者のみなさんと一
 緒に、プログラミング学習、ひいては自学習の新しい
 スタンダードを作り上げていくことができたらと考え
 ています！\nDiscordより奮ってご参加ください！\nDiscord
 へのリンク\n水曜会（Web制作の日）のタイムテーブル\n
 \n以下の時間割で進めていきます！時間になったらデ
 ィスコードに集合してください！\n水曜日は、「Web制
 作の日」と銘打ってWeb制作や学習に取り組んでいる方
 の参加を募っています！\nDiscord内でのチャンネルの使
 い方などは、Discord内に添付してあるのでご確認くださ
 い！\n\n\n\n時間\n所用時間\n活動内容\n\n\n\n\n\n20:00~20:10\n
 10分\nオープニング\n軽〜く自己紹介しましょう！\n\n\n2
 0:10~21:25\n75分\nもくもくタイム1回目\n集中して学習に取
 り組みましょう。\n\n\n21:25~21:40\n15分\nざわざわタイム\n
 情報共有などを通じて交流しましょう！\n\n\n21:40~22:55\n
 75分\nもくもくタイム2回目\n集中して学習に取り組みま
 しょう。\n\n\n22:55~23:00\n5分\nクロージング\n成果発表や
 情報交換、予めご連絡いただければ告知も大歓迎です
 ！\n\n\n23:00~23:10\n10分\nざわざわタイム+\nお話が弾んだ
 らどんどん雑談しちゃってください！\n\n\n\n※イベン
 ト内での勧誘行為や違法な商材の告知は堅くお断りし
 ています。\n\n特徴\n\n1.”もくもくタイム”と”ざわざ
 わタイム”\n\n3時間のオンラインもくもく会を毎週同
 じ時間に継続的に開催します。\n集中して各々自習に
 取り組む75分間の”もくもくタイム"を2回。\nその間と
 閉会前に15分間程度の休憩・交流時間、”ざわざわタ
 イム"を挟みます！\nメリハリをつけて自習に取り組み
 、休憩時間は雑談を楽しみましょう！技術的な質問や
 、キャリアについての相談、様々な情報交換をしまし
 ょう！\n2.曜日毎にテーマ別\n\n上記のように曜日毎に
 、ある程度のテーマを持って自習に取り組む環境にし
 たいと考えています。御自身の自習内容に合わせてご
 参加ください！似た活動をしている同志と、より有意
 義な”ざわざわタイム”を過ごしましょう！\n3.コミュ
 ニティへのご招待\n\nDiscordというアプリを用いてイベ
 ント告知やzoomリンクの共有、各種ご連絡を行います。
 \nDiscordへのリンク
LOCATION:ざわざわもくもく会CLOTO オンライン
URL:https://techplay.jp/event/798391?utm_medium=referral&utm_source=ics&utm
 _campaign=ics
END:VEVENT
END:VCALENDAR
