BEGIN:VCALENDAR
VERSION:2.0
PRODID:-//https://techplay.jp//JP
CALSCALE:GREGORIAN
METHOD:PUBLISH
X-WR-CALDESC:AWSでプライベートネットワーク構築
X-WR-CALNAME:AWSでプライベートネットワーク構築
X-WR-TIMEZONE:Asia/Tokyo
BEGIN:VTIMEZONE
TZID:Asia/Tokyo
BEGIN:STANDARD
DTSTART:19700101T000000
TZOFFSETFROM:+0900
TZOFFSETTO:+0900
TZNAME:JST
END:STANDARD
END:VTIMEZONE
BEGIN:VEVENT
UID:798482@techplay.jp
SUMMARY:AWSでプライベートネットワーク構築
DTSTART;TZID=Asia/Tokyo:20201212T130000
DTEND;TZID=Asia/Tokyo:20201212T140000
DTSTAMP:20260425T155732Z
CREATED:20201104T092756Z
DESCRIPTION:イベント詳細はこちら\nhttps://techplay.jp/event/79848
 2?utm_medium=referral&utm_source=ics&utm_campaign=ics\n\n概要\n目的\n
 DevOpsやSRE、フルスタックエンジニアなど、エンジニア
 としての守備範囲が広がっている昨今。アプリケーシ
 ョン開発の現場においてもコーディングができるだけ
 でなく、一定範囲でのインフラ知識が求められます。 
 \n本講座受講によりセキュアなネットワーク設計・構
 築とAWSでのベストプラクティスについて学びます。\n
 受講対象\n\n開発経験有でインフラ経験がない方\nイン
 フラ経験有でAWSの経験がない方\nAWSのEC2の構築経験が
 ありAWSのアカウントをお持ちの方\n\n前提条件\n\n1講座6
 0分を予定しております。\nハンズオンを伴いますので
 、受講者の方にはAWSアカウントを作成いただきます。
 基本的に新規にアカウントを作成された方であれば無
 料利用枠の中で収まりますが、そうでない方の場合は
 数百円の実費が掛かる場合がございます。\nオンライ
 ンツールはzoomを使用いたします。お申込み確認の取れ
 た方から順次zoomURLをご案内いたします。\n\n講座内容\n
 \n日程の変更がある場合は、振替講座または動画配信
 のご案内をさせていただきますので前日までにtechCompas
 s運営事務局（tech-compass@colla-tech.co.jp）までご連絡くだ
 さい。\n\n\n\n\n概要\n日程\n詳細\n\n\n\nプライベートネッ
 トワーク構築\n\n\n12月12日（土）\n13:00～14:00\n\n\n１．プ
 ライベートネットワークとは２．VPC設定３．セキュリ
 ティグループの設定４．ネットワーク設定５．NATゲー
 トウェイ６．インターネットゲートウェイ\n\n\n\n\n※ 
 当日予告なく時間配分・内容が変更になる可能性がご
 ざいます。\n持ち物\n\nご自身のPC\nAWSのアカウント\n\n
 参加費\n2\,200(税込み)\n注意事項\n※ 当日の無断キャン
 セルはキャンセル料として返金いたしませんのでご注
 意ください。(前日までにご連絡いただければ振替講座
 または動画配信のご案内をいたします。)\n\n 
LOCATION:オンライン
URL:https://techplay.jp/event/798482?utm_medium=referral&utm_source=ics&utm
 _campaign=ics
END:VEVENT
END:VCALENDAR
