BEGIN:VCALENDAR
VERSION:2.0
PRODID:-//https://techplay.jp//JP
CALSCALE:GREGORIAN
METHOD:PUBLISH
X-WR-CALDESC:最新の【Google Workspace】 を知ろう！〜何が変わ
 ったの？何ができるの？〜
X-WR-CALNAME:最新の【Google Workspace】 を知ろう！〜何が変わ
 ったの？何ができるの？〜
X-WR-TIMEZONE:Asia/Tokyo
BEGIN:VTIMEZONE
TZID:Asia/Tokyo
BEGIN:STANDARD
DTSTART:19700101T000000
TZOFFSETFROM:+0900
TZOFFSETTO:+0900
TZNAME:JST
END:STANDARD
END:VTIMEZONE
BEGIN:VEVENT
UID:798595@techplay.jp
SUMMARY:最新の【Google Workspace】 を知ろう！〜何が変わっ
 たの？何ができるの？〜
DTSTART;TZID=Asia/Tokyo:20201119T193000
DTEND;TZID=Asia/Tokyo:20201119T210000
DTSTAMP:20260424T172006Z
CREATED:20201105T062118Z
DESCRIPTION:イベント詳細はこちら\nhttps://techplay.jp/event/79859
 5?utm_medium=referral&utm_source=ics&utm_campaign=ics\n\nGoogle Workspace
 で何が変わった？何ができる？\n\n概要\n2020年10月、Goog
 leが発表した 【Google Workspace】 \nG SuiteからGoogle Workspace 
 にリブランドしたことで何が変わるのか、そして何が
 実現できるのか・・・\n今回は生まれ変わった【Google W
 orkspace】について学ぶ会を開催。\nGoogle Cloud カスタマ
 ーエンジニアとユーザー企業をお呼びしてG Suiteと比較
 して何が変わったのか、社内での活用方法などお届け
 します！\nタイムスケジュール\n\n\n\n時間\n内容\n\n\n19:1
 5〜\n\nイベント開場open\n※若干前後する可能性がござ
 います。\n\n\n\n19:30〜19:40\nオープニング\n\n\n19:35〜19:55\
 n\n■Google Workspaceを学ぶセミナー\n『最新の【Google Worksp
 ace】 を知ろう！〜何が変わったの？何ができるの？〜
 』\n白川 遼\nグーグル・クラウド・ジャパン合同会社Go
 ogle Cloud カスタマーエンジニア\n\n■ユーザー企業トー
 ク\n『居心地の良い Workspace の作り方』\n\nとは（towa）\
 n某クラウド系SIer\n\n\n\n21:00\nイベント終了\n\n\n\n※ 当
 日予告なく時間配分・内容が変更になる可能性がござ
 います。\n登壇者\n\n白川 遼　\nグーグル・クラウド・
 ジャパン合同会社Google Cloud カスタマーエンジニア\n日
 経のシステムインテグレーターに勤めた後ソフトウェ
 アベンダーで技術コンサルティングを経験、2020年より
 Google Cloud にてソリューション提案を行う。\n\n\n \nとは
 （towa）\n某クラウド系SIerマーケティング関連の部署・
 部長\nマーケティングのお仕事してます。クラウドと
 サッカーと乃木坂46が生活の中心。推しはリゼロのレ
 ム。場所の呪縛から解かれた働き方できてます。プラ
 イベートでも5年以上GSuiteを使っていてWorkspaceへの名称
 変更は違和感ハンパない。\nファシリテーター\n\n\nMitz
 （松岡光隆）\nTECH Streetコミュニティエバンジェリスト
 \nテーマはIT全般、初心者から上級者まで、全国各地か
 ら約5\,000名のRPAユーザーが集まる「RPACommunity」の創設
 者。様々な職種を経験し、ITシステムのエンジニア歴
 は10年以上。幅広い職種経験を活かし、現在ではIT系メ
 ディアと契約。IT記事を書きながら様々なITコミュニテ
 ィをプロデュースする「コミュニティ・プロデューサ
 ー」が正式な職種。\n参加対象\n・ITエンジニア\n・Googl
 e Workspaceに興味がある方\n持ち物\nなし\n参加費\n無料\n
 ハッシュタグ\n#テックストリート\n注意事項\n※ 参加
 を辞退する場合は、詳細ページより申込のキャンセル
 をお願い致します。※ 無断キャンセル・欠席が続く場
 合、次回以降の参加をお断りさせていただく場合がご
 ざいますのでご了承ください。\n 
LOCATION:オンライン
URL:https://techplay.jp/event/798595?utm_medium=referral&utm_source=ics&utm
 _campaign=ics
END:VEVENT
END:VCALENDAR
