BEGIN:VCALENDAR
VERSION:2.0
PRODID:-//https://techplay.jp//JP
CALSCALE:GREGORIAN
METHOD:PUBLISH
X-WR-CALDESC:【市場トレンドもご紹介】アフターコロナで
 チャットボットを活用する方法
X-WR-CALNAME:【市場トレンドもご紹介】アフターコロナで
 チャットボットを活用する方法
X-WR-TIMEZONE:Asia/Tokyo
BEGIN:VTIMEZONE
TZID:Asia/Tokyo
BEGIN:STANDARD
DTSTART:19700101T000000
TZOFFSETFROM:+0900
TZOFFSETTO:+0900
TZNAME:JST
END:STANDARD
END:VTIMEZONE
BEGIN:VEVENT
UID:798609@techplay.jp
SUMMARY:【市場トレンドもご紹介】アフターコロナでチャ
 ットボットを活用する方法
DTSTART;TZID=Asia/Tokyo:20201113T190000
DTEND;TZID=Asia/Tokyo:20201113T200000
DTSTAMP:20260419T194350Z
CREATED:20201105T100936Z
DESCRIPTION:イベント詳細はこちら\nhttps://techplay.jp/event/79860
 9?utm_medium=referral&utm_source=ics&utm_campaign=ics\n\n最新の市場
 動向と\n失敗しないDX施策のポイントをご紹介します\n\
 n【こんな方はぜひご参加ください】\n・テレワークで
 発生している日報/報告業務を自動化してみたい\n・社
 内外の問合せを自動化してみたい\n・LINEやWebを活用し
 受注/予約業務を自動化してみたい\n・何度も繰り返さ
 れる煩雑な質問や「よくある質問」を自動化してみた
 い\n・受付業務の代わりにスマートスピーカーを使っ
 てみたい\n概要\n近年、チャットやチャットボットを導
 入する企業が増えています。特に、ユーザーサポート
 ・マーケティング領域において、チャットボットやス
 マートスピーカーを活用した成功実績が日々生み出さ
 れています。なぜ今チャットボットやスマートスピー
 カーが注目されているのか、チャットボットやスマー
 トスピーカーを入れるメリットは何なのかといった、
 最新の業界動向などをご紹介いたします。\nタイムス
 ケジュール\n\n\n\n時間\n内容\n\n\n19:00〜\nオープニング\n
 \n\n19:05〜19:50\n\n/チャットボットとは？\n/ポイント1\n/
 ポイント2\n/ポイント3\n/事例紹介\n/IFROで何ができるか\
 n/直近のIFRO事例を紹介\n/アンケート\n\n\n\n19:50〜20:00\n
 質疑応答\n\n\n\n※ 当日予告なく時間配分・内容が変更
 になる可能性がございます。\n登壇者\n\n住谷 優介　\n
 パルスボッツ株式会社CSO \n1983年東京都生まれ。東洋大
 学経営学部卒。\n営業のプロを目指し、大学卒業後は
 訪問販売の会社へ就職。BtoCの販売/営業を経て、BtoB企
 画/販売/営業に従事。\n独立を視野に活動中、スカウト
 を受け大手電機メーカー系列の会社へ転職。担当IT部
 署において、3年連続日本一の実績を出し、社内役員表
 彰を複数回授与。\n更なる高みを目指す中、ヘッドハ
 ンティングを受け不動産投資会社へ転職。初年度30億
 円を超える売上実績を出す。\n大きく貢献しているな
 かパルスボッツと出会う。ロボット事業への思いに共
 感し転職を決意。現在はCSOに就任。\n\n参加対象\n・ど
 なたでもご参加ください\n※ リクルーティング、勧誘
 など、採用目的でのイベント参加はお断りしておりま
 す。 ※ 補欠者の方は、ご来場いただいてもご入場い
 ただくことが出来ませんのでご了承ください。\n参加
 費\n無料\n注意事項\n※ 参加を辞退する場合は、詳細ペ
 ージより申込のキャンセルをお願い致します。※ 無断
 キャンセル・欠席が続く場合、次回以降の参加をお断
 りさせていただく場合がございますのでご了承くださ
 い。\n 
LOCATION:オンライン
URL:https://techplay.jp/event/798609?utm_medium=referral&utm_source=ics&utm
 _campaign=ics
END:VEVENT
END:VCALENDAR
