BEGIN:VCALENDAR
VERSION:2.0
PRODID:-//https://techplay.jp//JP
CALSCALE:GREGORIAN
METHOD:PUBLISH
X-WR-CALDESC:プログラミング体験会/Scratch（会場：あけみお
 SKYドーム）
X-WR-CALNAME:プログラミング体験会/Scratch（会場：あけみお
 SKYドーム）
X-WR-TIMEZONE:Asia/Tokyo
BEGIN:VTIMEZONE
TZID:Asia/Tokyo
BEGIN:STANDARD
DTSTART:19700101T000000
TZOFFSETFROM:+0900
TZOFFSETTO:+0900
TZNAME:JST
END:STANDARD
END:VTIMEZONE
BEGIN:VEVENT
UID:798638@techplay.jp
SUMMARY:プログラミング体験会/Scratch（会場：あけみおSKY
 ドーム）
DTSTART;TZID=Asia/Tokyo:20201123T100000
DTEND;TZID=Asia/Tokyo:20201123T120000
DTSTAMP:20260421T074043Z
CREATED:20201105T141200Z
DESCRIPTION:イベント詳細はこちら\nhttps://techplay.jp/event/79863
 8?utm_medium=referral&utm_source=ics&utm_campaign=ics\n\nScratchで簡単
 なゲームやアニメーションを作ってDojoCon Japan 2020 プロ
 グラミングコンテストに応募してみよう。\nプログラ
 ミング未経験者も参加OKです。\n事前にScratchのアカウ
 ントを作成ください。当日はユーザー名とパスワード
 を持参ください。\n対象\n7歳〜17歳\n※小学校１〜２年
 生は保護者同伴でお願いします。\n参加費\n無料\n申し
 込み方法\n複数名、申し込む場合は、アカウントを分
 けて申し込み下さい。\nconnpassは１メールアドレスにつ
 き１アカウント設定できるようです。\nメールアドレ
 スがない場合はGmailなどでメールアカウントを作成く
 ださい。\nconnpassの機能についてはconnpass ご利用ガイド
 をご確認ください。\n新型コロナウィルス対応につい
 て\n沖縄県主催のイベント等について（新型コロナウ
 イルス感染症対策）\nを参考にイベントを開催します
 。\nまた厚生労働省\n、首相官邸などからの情報をもと
 に対応します。\n\nイベントが始まる前後に手洗いをし
 てください。\n換気のため、窓やドアを開けたままに
 します。\n風邪のような症状のある方は参加できませ
 ん。\nイベント中マスクの着用が必要です。\nイベント
 前後に手洗いが必要です。\n\n\nCoderDojo名護に参加する
 皆さま及び保護者の皆さまに\n新型コロナウイルス接
 触確認アプリ（COCOA) COVID-19 Contact-Confirming Applicationのご
 利用をお願いしています。\n会場の海抜について\nあけ
 みおSKYドームの海抜は２mです。\n地震による津波が発
 生した場合は、津波の高さや到着予測までの時間から
 より安全な高台へ避難する必要があります。
LOCATION:あけみおSKYドーム・会議室 沖縄県名護市宮里４
 ９２
URL:https://techplay.jp/event/798638?utm_medium=referral&utm_source=ics&utm
 _campaign=ics
END:VEVENT
END:VCALENDAR
