BEGIN:VCALENDAR
VERSION:2.0
PRODID:-//https://techplay.jp//JP
CALSCALE:GREGORIAN
METHOD:PUBLISH
X-WR-CALDESC:キャリアも子育ても諦めない働き方　〜 子育
 てAnywhere 〜
X-WR-CALNAME:キャリアも子育ても諦めない働き方　〜 子育
 てAnywhere 〜
X-WR-TIMEZONE:Asia/Tokyo
BEGIN:VTIMEZONE
TZID:Asia/Tokyo
BEGIN:STANDARD
DTSTART:19700101T000000
TZOFFSETFROM:+0900
TZOFFSETTO:+0900
TZNAME:JST
END:STANDARD
END:VTIMEZONE
BEGIN:VEVENT
UID:798658@techplay.jp
SUMMARY:キャリアも子育ても諦めない働き方　〜 子育てAny
 where 〜
DTSTART;TZID=Asia/Tokyo:20201117T190000
DTEND;TZID=Asia/Tokyo:20201117T203000
DTSTAMP:20260425T183435Z
CREATED:20201105T141451Z
DESCRIPTION:イベント詳細はこちら\nhttps://techplay.jp/event/79865
 8?utm_medium=referral&utm_source=ics&utm_campaign=ics\n\nイベント概
 要\nGoodpatch Anywhereは、Goodpatchのフルリモートデザイン
 チームです。世界中・日本中に住む多くのデザイナー
 、エンジニアをはじめとする様々なスキルを持ったメ
 ンバーがフルリモートでのデザインワークを実践。テ
 クノロジーとチームビルディングのメソッドを組み合
 わせ、リモートでありながらも密着型のコミュニケー
 ションを実践しています。\nこのイベントではAnywhereの
 子どもを持つデザイナーで「キャリアも子育ても諦め
 ない働き方」についてお話します。Goodpatch Anywhereで働
 く3人のパパ・ママデザイナーが、子育てしながらフル
 リモートで働く際の工夫や、キャリアの積み方につい
 てお話します。\n\nこんな方におすすめ\n\n子育てとキ
 ャリアの両立で悩む方\n子育て中でもチームで進める
 プロジェクトに興味がある方\nリモートワークでの家
 庭と仕事の両立について考える方\nGoodpatch Anywhereの働
 き方に興味のある方\n\n\nタイムテーブル\n時間は目安
 です。\n\n\n\ntime\nsession\n\n\n\n\n19:00\n開場\n\n\n19:05\n３人
 の登壇者（五ヶ市、ハマダ、須貝）による発表\n\n\n20:0
 5\nGoodpatch Anywhereの他のパパママたちも交えての意見交
 換\n\n\n20:30\n終了\n\n\n\n\n登壇者\n\nハマダナヲミ (UI Desig
 ner)\nアプリのUIやWebなどオンスクリーン媒体中心にロ
 ゴ、紙ものまで。見た目を作る側に比重の高いデザイ
 ナーです。インターネットのおかげで東京から福岡に
 戻っても毎日楽しくデザインしています。\nTwitter:@hmd70
 3\n\n須貝 美智子 (Project Manager / Technical Director)\n新潟在
 住のプロジェクトマネージャー＆テクニカルディレク
 ター。\n東京で旅行会社のバックエンドエンジニア、
 映像・CM系制作会社のWEB部署にてフロントエンジニア
 兼プロジェクトマネージャーを務める。結婚・出産を
 機に新潟へ。新潟のデザイン会社を経て、2019年よりGoo
 dpatch Anywhereにジョイン。\nTwitter:@Mity\n 須貝美智子イン
 タビュー\n\n五ヶ市 壮央 (UX Designer / Remote-work Facilitator)\
 n札幌からリモートで働くUXデザイナー。2008年からメー
 カー企業にてUIの詳細設計とUXデザインに従事。2017年
 、子供が小学生になるタイミングで地元で暮らすため
 に札幌へUターン。2018年からGoodpatch Anywhereにジョイン
 。リモートでのUXデザインを実践するためのチームビ
 ルディングやファシリテーションを中心に活動してい
 る。札幌のスタートアップ「スマートルアー」にも参
 画中。\nTwitter:@5kaichi\n 五ヶ市 壮央インタビュー\n\nGoodp
 atch Anyhwhere 公式アカウント\nWEB:https://anywhere.goodpatch.com/
 \nTwitter:@GoodpatchAW\nnote:Goodpatch Anywhere\nWantedly:Goodpatch\n\n
 注意事項\n本イベントはリモート参加者のために会場
 内の様子が共有されます。 また参加者や運営によって
 イベントの様子を撮影した写真などが、SNSなどネット
 にアップされることがあります。ご了承ください。\n
 ご来場者の皆様に最大限楽しんで頂けるよう、運営側
 で参加にふさわしくないと判断した方については、 運
 営側で事前キャンセルやイベント中でもご参加をお断
 りさせて頂くことがあります。\n\nネットワークビジネ
 ス・保険・宗教などの勧誘が目的と見られる方\nその
 他運営サイドで参加が不適切だと判断した方\n\nあらか
 じめご了承ください。
LOCATION:Anywhere
URL:https://techplay.jp/event/798658?utm_medium=referral&utm_source=ics&utm
 _campaign=ics
END:VEVENT
END:VCALENDAR
