BEGIN:VCALENDAR
VERSION:2.0
PRODID:-//https://techplay.jp//JP
CALSCALE:GREGORIAN
METHOD:PUBLISH
X-WR-CALDESC:11/20(金)【見逃し配信！】Aidemy 機械学習モデル
  実運用セミナー
X-WR-CALNAME:11/20(金)【見逃し配信！】Aidemy 機械学習モデル
  実運用セミナー
X-WR-TIMEZONE:Asia/Tokyo
BEGIN:VTIMEZONE
TZID:Asia/Tokyo
BEGIN:STANDARD
DTSTART:19700101T000000
TZOFFSETFROM:+0900
TZOFFSETTO:+0900
TZNAME:JST
END:STANDARD
END:VTIMEZONE
BEGIN:VEVENT
UID:798753@techplay.jp
SUMMARY:11/20(金)【見逃し配信！】Aidemy 機械学習モデル 実
 運用セミナー
DTSTART;TZID=Asia/Tokyo:20201120T120000
DTEND;TZID=Asia/Tokyo:20201120T130000
DTSTAMP:20260419T222142Z
CREATED:20201106T061642Z
DESCRIPTION:イベント詳細はこちら\nhttps://techplay.jp/event/79875
 3?utm_medium=referral&utm_source=ics&utm_campaign=ics\n\n■株式会社
 アイデミーについて\n・「AIを始めとする先端技術と産
 業領域の融合に取り組む人と組織を支援する」をミッ
 ションとする東大発ベンチャー。 主力サービス「Aidemy
 」は、ユーザー数8万人以上、演習回数は300万回以上の
 日本最大級のAI研修サービス。 教育・研修を切り口に
 、要件定義・試作品（PoC）の開発支援など、AIプロジ
 ェクト成功に必要なソリューションをワンパッケージ
 で提供、AIに強い組織づくりを支援。\n・代表の書籍『
 人工知能プログラミングのための数学がわかる本』は
 松尾豊教授が推薦し、ディープラーニング協会のG検定
 合格者がおすすめする書籍で「第2位」にランクイン。
 \n・川崎重工、ダイキン工業、旭化成、三井住友銀行
 など120社以上の法人導入実績あり。日本マイクロソフ
 ト、電通などの講師講座も好評。\n■開催の背景\n新型
 コロナウイルスの影響を受け、多くの企業がリモート
 ワークを導入し従来の働き方が難しい日々が続いてお
 ります。\nこの環境下のなか、これからの組織のある
 べき姿を見なおしている企業様は多くあるかと思いま
 す。\n働き方、組織のあるべき姿について再定義され
 ていくこの環境下で、「AI」はどのように活用されて
 いくべきか。\n「AI教育・研修を切り口に、要件定義・
 試作品（PoC）の開発支援など、AIプロジェクト成功に
 必要なソリューションをワンパッケージで提供、AIに
 強い組織づくりを支援」してきた株式会社アイデミー
 の代表取締役社長 石川聡彦 が、「機械学習モデル」
 を今どう実用化していくか、そしてこれからの在り方
 について語り、皆様の質問に答えていきます。\n■コ
 ンテンツ\n・機械学習モデル開発後の落とし穴\n・MLOps
 とは？\n・アイデミー製品の紹介\n・質疑応答\n「MLOps
 とは？」 「試作品（PoC）開発をしたものの実運用に至
 って壁がある」\nアイデミーが取り組む、AI教育研修、
 事業定義をはじめとした企業のAI内製化支援の中で、 
 本セミナーでは、特につまずきがちな機械学習モデル
 の実運用に向けたテクノロジー支援に関してご案内致
 します。\n■プログラム内容\n機械学習モデル開発後の
 落とし穴 - MLOpsとは？/アイデミー新製品の紹介/質疑応
 答\n■テーマ\n「機械学習モデル開発後の落とし穴 - MLO
 psとは？」\n「リモートワーク環境下で実現できる機械
 学習モデルの導入とは？」\n■登壇者\n\n石川 聡彦（い
 しかわ あきひこ）\n株式会社アイデミー代表取締役。F
 orbes U30 Japan 選出。元歌舞伎子役。東京大学工学部卒、
 同大学院中退。AIの内製化ソリューションAidemyを提供
 。著書『人工知能プログラミングのための数学がわか
 る本』（KADOKAWA/2018年）『投資対効果を最大化するAI導
 入7つのルール』 (KADOKAWA/2020年) など。\n■日時\n2020年11
 月20日（金）12:00〜13:00\n■開催場所\nオンライン(ZOOM)\n
 ■対象者\nAI・機械学習活用に関心のある経営者の皆様
 \nマネージャークラスの皆様\n事業推進担当の皆様\n開
 発・研究職の皆様\n■定員\n100名（先着）\n■参加費用\
 n無料\n■参加特典\nセミナー終了後のアンケート回答
 者には、当日セミナー資料を後日送付させて頂きます
 。\n■申込方法\nこちらのconnpassページ「このイベント
 に申し込む」より、お申し込みください。\n■申込締
 め切り\n2020年11月19日（木）12:00\n■問い合わせ先\n株式
 会社アイデミー カスタマーサポート\nsupport@aidemy.net
LOCATION:オンライン(ZOOM)
URL:https://techplay.jp/event/798753?utm_medium=referral&utm_source=ics&utm
 _campaign=ics
END:VEVENT
END:VCALENDAR
